BEGIN:VCALENDAR
VERSION:2.0
PRODID:-//The Happy Dog - ECPv6.3.7//NONSGML v1.0//EN
CALSCALE:GREGORIAN
METHOD:PUBLISH
X-WR-CALNAME:The Happy Dog
X-ORIGINAL-URL:https://thehappydogband.com
X-WR-CALDESC:Events for The Happy Dog
REFRESH-INTERVAL;VALUE=DURATION:PT1H
X-Robots-Tag:noindex
X-PUBLISHED-TTL:PT1H
BEGIN:VTIMEZONE
TZID:America/New_York
BEGIN:DAYLIGHT
TZOFFSETFROM:-0500
TZOFFSETTO:-0400
TZNAME:EDT
DTSTART:20180311T070000
END:DAYLIGHT
BEGIN:STANDARD
TZOFFSETFROM:-0400
TZOFFSETTO:-0500
TZNAME:EST
DTSTART:20181104T060000
END:STANDARD
END:VTIMEZONE
BEGIN:VEVENT
DTSTART;TZID=America/New_York:20181222T130000
DTEND;TZID=America/New_York:20181222T160000
DTSTAMP:20260422T075303
CREATED:20181128T004915Z
LAST-MODIFIED:20181128T004915Z
UID:1751-1545483600-1545494400@thehappydogband.com
SUMMARY:The Happy Dog – LIVE at Blue Heaven
DESCRIPTION:
URL:https://thehappydogband.com/concert/the-happy-dog-live-at-blue-heaven-28/
LOCATION:Blue Heaven\, 729 Thomas Street\, Key West\, FL\, 33040\, United States
ATTACH;FMTTYPE=image/jpeg:https://thehappydogband.com/wp-content/uploads/2017/06/squid-event-photo.jpg
END:VEVENT
BEGIN:VEVENT
DTSTART;TZID=America/New_York:20181220T150000
DTEND;TZID=America/New_York:20181220T180000
DTSTAMP:20260422T075303
CREATED:20181128T004540Z
LAST-MODIFIED:20181128T004540Z
UID:1741-1545318000-1545328800@thehappydogband.com
SUMMARY:The Happy Dog – LIVE at The Salty Angler
DESCRIPTION:
URL:https://thehappydogband.com/concert/the-happy-dog-live-at-the-salty-angler-12/
LOCATION:Salty Angler\, 1114 Duval Street\, Key West\, FL\, 33040\, United States
ATTACH;FMTTYPE=image/jpeg:https://thehappydogband.com/wp-content/uploads/2016/10/salty-angler.jpg
END:VEVENT
BEGIN:VEVENT
DTSTART;TZID=America/New_York:20181219T170000
DTEND;TZID=America/New_York:20181219T200000
DTSTAMP:20260422T075303
CREATED:20181128T005349Z
LAST-MODIFIED:20181128T005349Z
UID:1761-1545238800-1545249600@thehappydogband.com
SUMMARY:The Happy Dog – LIVE at Mary Ellen’s
DESCRIPTION:
URL:https://thehappydogband.com/concert/the-happy-dog-live-at-mary-ellens-40/
LOCATION:Mary Ellen’s\, 420 Applerouth Lane\, Key West\, FL\, 33040\, United States
ATTACH;FMTTYPE=image/jpeg:https://thehappydogband.com/wp-content/uploads/2017/11/mary-ellens-event-photo.jpg
END:VEVENT
BEGIN:VEVENT
DTSTART;TZID=America/New_York:20181218T130000
DTEND;TZID=America/New_York:20181218T160000
DTSTAMP:20260422T075303
CREATED:20181206T191747Z
LAST-MODIFIED:20181206T191747Z
UID:1767-1545138000-1545148800@thehappydogband.com
SUMMARY:The Happy Dog - LIVE at Hank's
DESCRIPTION:
URL:https://thehappydogband.com/concert/the-happy-dog-live-at-hanks/
LOCATION:Hank’s (formerly Grunts)\, 409 Caroline Street\, Key West\, FL\, 33040\, United States
ATTACH;FMTTYPE=image/jpeg:https://thehappydogband.com/wp-content/uploads/2017/06/grunts-event-photo.jpg
END:VEVENT
BEGIN:VEVENT
DTSTART;TZID=America/New_York:20181215T130000
DTEND;TZID=America/New_York:20181215T160000
DTSTAMP:20260422T075303
CREATED:20181128T004840Z
LAST-MODIFIED:20181128T004840Z
UID:1749-1544878800-1544889600@thehappydogband.com
SUMMARY:The Happy Dog – LIVE at Blue Heaven
DESCRIPTION:
URL:https://thehappydogband.com/concert/the-happy-dog-live-at-blue-heaven-27/
LOCATION:Blue Heaven\, 729 Thomas Street\, Key West\, FL\, 33040\, United States
ATTACH;FMTTYPE=image/jpeg:https://thehappydogband.com/wp-content/uploads/2017/06/squid-event-photo.jpg
END:VEVENT
BEGIN:VEVENT
DTSTART;TZID=America/New_York:20181208T133000
DTEND;TZID=America/New_York:20181208T183000
DTSTAMP:20260422T075303
CREATED:20181128T005226Z
LAST-MODIFIED:20181203T004408Z
UID:1759-1544275800-1544293800@thehappydogband.com
SUMMARY:The Happy Dog – LIVE at Schooner Wharf
DESCRIPTION:
URL:https://thehappydogband.com/concert/the-happy-dog-live-at-schooner-wharf-21/
LOCATION:Schooner Wharf\, 202 William Street\, Key West\, 33040\, United States
ATTACH;FMTTYPE=image/jpeg:https://thehappydogband.com/wp-content/uploads/2018/05/schooner-wharf-event-photo.jpg
END:VEVENT
BEGIN:VEVENT
DTSTART;TZID=America/New_York:20181207T133000
DTEND;TZID=America/New_York:20181207T183000
DTSTAMP:20260422T075303
CREATED:20181128T005143Z
LAST-MODIFIED:20181203T004506Z
UID:1757-1544189400-1544207400@thehappydogband.com
SUMMARY:The Happy Dog – LIVE at Schooner Wharf
DESCRIPTION:
URL:https://thehappydogband.com/concert/the-happy-dog-live-at-schooner-wharf-20/
LOCATION:Schooner Wharf\, 202 William Street\, Key West\, 33040\, United States
ATTACH;FMTTYPE=image/jpeg:https://thehappydogband.com/wp-content/uploads/2018/05/schooner-wharf-event-photo.jpg
END:VEVENT
BEGIN:VEVENT
DTSTART;TZID=America/New_York:20181207T050000
DTEND;TZID=America/New_York:20181207T080000
DTSTAMP:20260422T075303
CREATED:20181128T004808Z
LAST-MODIFIED:20181128T004808Z
UID:1747-1544158800-1544169600@thehappydogband.com
SUMMARY:The Happy Dog – LIVE at Blue Heaven
DESCRIPTION:
URL:https://thehappydogband.com/concert/the-happy-dog-live-at-blue-heaven-26/
LOCATION:Blue Heaven\, 729 Thomas Street\, Key West\, FL\, 33040\, United States
ATTACH;FMTTYPE=image/jpeg:https://thehappydogband.com/wp-content/uploads/2017/06/squid-event-photo.jpg
END:VEVENT
BEGIN:VEVENT
DTSTART;TZID=America/New_York:20181206T150000
DTEND;TZID=America/New_York:20181206T180000
DTSTAMP:20260422T075303
CREATED:20181128T004458Z
LAST-MODIFIED:20181128T004458Z
UID:1739-1544108400-1544119200@thehappydogband.com
SUMMARY:The Happy Dog – LIVE at The Salty Angler
DESCRIPTION:
URL:https://thehappydogband.com/concert/the-happy-dog-live-at-the-salty-angler-11/
LOCATION:Salty Angler\, 1114 Duval Street\, Key West\, FL\, 33040\, United States
ATTACH;FMTTYPE=image/jpeg:https://thehappydogband.com/wp-content/uploads/2016/10/salty-angler.jpg
END:VEVENT
BEGIN:VEVENT
DTSTART;TZID=America/New_York:20181202T123000
DTEND;TZID=America/New_York:20181202T140000
DTSTAMP:20260422T075303
CREATED:20181128T003822Z
LAST-MODIFIED:20181128T003822Z
UID:1731-1543753800-1543759200@thehappydogband.com
SUMMARY:The Happy Dog – LIVE at Green Parrot "Soundcheck"
DESCRIPTION:
URL:https://thehappydogband.com/concert/the-happy-dog-live-at-green-parrot-soundcheck-75/
LOCATION:Green Parrot\, 601 Whitehead Street\, Key West\, FL\, 33040\, United States
ATTACH;FMTTYPE=image/jpeg:https://thehappydogband.com/wp-content/uploads/2018/05/green-parrot-soundcheck.jpg
END:VEVENT
BEGIN:VEVENT
DTSTART;TZID=America/New_York:20181130T053000
DTEND;TZID=America/New_York:20181130T080000
DTSTAMP:20260422T075303
CREATED:20181030T172728Z
LAST-MODIFIED:20181030T172728Z
UID:1726-1543555800-1543564800@thehappydogband.com
SUMMARY:The Happy Dog – LIVE at Blue Heaven
DESCRIPTION:
URL:https://thehappydogband.com/concert/the-happy-dog-live-at-blue-heaven-25/
LOCATION:Blue Heaven\, 729 Thomas Street\, Key West\, FL\, 33040\, United States
ATTACH;FMTTYPE=image/jpeg:https://thehappydogband.com/wp-content/uploads/2017/06/squid-event-photo.jpg
END:VEVENT
BEGIN:VEVENT
DTSTART;TZID=America/New_York:20181129T150000
DTEND;TZID=America/New_York:20181129T180000
DTSTAMP:20260422T075303
CREATED:20181029T173811Z
LAST-MODIFIED:20181029T173811Z
UID:1696-1543503600-1543514400@thehappydogband.com
SUMMARY:The Happy Dog – LIVE at The Salty Angler
DESCRIPTION:
URL:https://thehappydogband.com/concert/the-happy-dog-live-at-the-salty-angler-9/
LOCATION:Salty Angler\, 1114 Duval Street\, Key West\, FL\, 33040\, United States
ATTACH;FMTTYPE=image/jpeg:https://thehappydogband.com/wp-content/uploads/2017/06/salty-angler-event-photo.jpg
END:VEVENT
BEGIN:VEVENT
DTSTART;TZID=America/New_York:20181128T160000
DTEND;TZID=America/New_York:20181128T190000
DTSTAMP:20260422T075303
CREATED:20181029T175009Z
LAST-MODIFIED:20181029T175009Z
UID:1722-1543420800-1543431600@thehappydogband.com
SUMMARY:The Happy Dog – LIVE at General Horseplay
DESCRIPTION:
URL:https://thehappydogband.com/concert/the-happy-dog-live-at-general-horseplay-4/
LOCATION:General Horseplay\, 423 Caroline Street\, Key West\, FL\, 33040\, United States
ATTACH;FMTTYPE=image/jpeg:https://thehappydogband.com/wp-content/uploads/2017/06/squid-event-photo.jpg
END:VEVENT
BEGIN:VEVENT
DTSTART;TZID=America/New_York:20181126T130000
DTEND;TZID=America/New_York:20181126T170000
DTSTAMP:20260422T075303
CREATED:20181109T042343Z
LAST-MODIFIED:20181109T042343Z
UID:1728-1543237200-1543251600@thehappydogband.com
SUMMARY:The Happy Dog – LIVE at Havana Jack’s
DESCRIPTION:
URL:https://thehappydogband.com/concert/the-happy-dog-live-at-havana-jacks-13/
LOCATION:Havana Jack’s\, 401 E Ocean Dr\, Key Colony Beach\, FL\, 33051\, United States
ATTACH;FMTTYPE=image/jpeg:https://thehappydogband.com/wp-content/uploads/2017/06/squid-event-photo.jpg
END:VEVENT
BEGIN:VEVENT
DTSTART;TZID=America/New_York:20181124T160000
DTEND;TZID=America/New_York:20181124T200000
DTSTAMP:20260422T075303
CREATED:20181029T174927Z
LAST-MODIFIED:20181029T174927Z
UID:1720-1543075200-1543089600@thehappydogband.com
SUMMARY:The Happy Dog – LIVE at The Hurricane Grill
DESCRIPTION:
URL:https://thehappydogband.com/concert/the-happy-dog-live-at-the-hurricane-grill-18/
LOCATION:The Hurricane Grill\, 4650 Overseas Highway\, Marathon\, FL\, 33050\, United States
ATTACH;FMTTYPE=image/jpeg:https://thehappydogband.com/wp-content/uploads/2017/06/squid-event-photo.jpg
END:VEVENT
BEGIN:VEVENT
DTSTART;TZID=America/New_York:20181123T150000
DTEND;TZID=America/New_York:20181123T180000
DTSTAMP:20260422T075303
CREATED:20181029T173728Z
LAST-MODIFIED:20181029T173728Z
UID:1694-1542985200-1542996000@thehappydogband.com
SUMMARY:The Happy Dog – LIVE at The Salty Angler
DESCRIPTION:
URL:https://thehappydogband.com/concert/the-happy-dog-live-at-the-salty-angler-8/
LOCATION:Salty Angler\, 1114 Duval Street\, Key West\, FL\, 33040\, United States
ATTACH;FMTTYPE=image/jpeg:https://thehappydogband.com/wp-content/uploads/2017/06/salty-angler-event-photo.jpg
END:VEVENT
BEGIN:VEVENT
DTSTART;TZID=America/New_York:20181122T160000
DTEND;TZID=America/New_York:20181122T193000
DTSTAMP:20260422T075303
CREATED:20181029T174515Z
LAST-MODIFIED:20181029T174515Z
UID:1712-1542902400-1542915000@thehappydogband.com
SUMMARY:The Happy Dog – LIVE at Green Parrot
DESCRIPTION:
URL:https://thehappydogband.com/concert/the-happy-dog-live-at-green-parrot-60/
LOCATION:Green Parrot\, 601 Whitehead Street\, Key West\, FL\, 33040\, United States
ATTACH;FMTTYPE=image/jpeg:https://thehappydogband.com/wp-content/uploads/2016/08/green-parrot.jpg
END:VEVENT
BEGIN:VEVENT
DTSTART;TZID=America/New_York:20181122T123000
DTEND;TZID=America/New_York:20181122T140000
DTSTAMP:20260422T075303
CREATED:20181029T174239Z
LAST-MODIFIED:20181029T174239Z
UID:1706-1542889800-1542895200@thehappydogband.com
SUMMARY:The Happy Dog – LIVE at Green Parrot “Soundcheck”
DESCRIPTION:
URL:https://thehappydogband.com/concert/the-happy-dog-live-at-green-parrot-soundcheck-74/
LOCATION:Green Parrot\, 601 Whitehead Street\, Key West\, FL\, 33040\, United States
ATTACH;FMTTYPE=image/jpeg:https://thehappydogband.com/wp-content/uploads/2018/05/green-parrot-soundcheck.jpg
END:VEVENT
BEGIN:VEVENT
DTSTART;TZID=America/New_York:20181121T160000
DTEND;TZID=America/New_York:20181121T193000
DTSTAMP:20260422T075303
CREATED:20181029T174432Z
LAST-MODIFIED:20181029T174432Z
UID:1710-1542816000-1542828600@thehappydogband.com
SUMMARY:The Happy Dog – LIVE at Green Parrot
DESCRIPTION:
URL:https://thehappydogband.com/concert/the-happy-dog-live-at-green-parrot-59/
LOCATION:Green Parrot\, 601 Whitehead Street\, Key West\, FL\, 33040\, United States
ATTACH;FMTTYPE=image/jpeg:https://thehappydogband.com/wp-content/uploads/2016/08/green-parrot.jpg
END:VEVENT
BEGIN:VEVENT
DTSTART;TZID=America/New_York:20181121T123000
DTEND;TZID=America/New_York:20181121T140000
DTSTAMP:20260422T075303
CREATED:20181029T174206Z
LAST-MODIFIED:20181029T174206Z
UID:1704-1542803400-1542808800@thehappydogband.com
SUMMARY:The Happy Dog – LIVE at Green Parrot “Soundcheck”
DESCRIPTION:
URL:https://thehappydogband.com/concert/the-happy-dog-live-at-green-parrot-soundcheck-73/
LOCATION:Green Parrot\, 601 Whitehead Street\, Key West\, FL\, 33040\, United States
ATTACH;FMTTYPE=image/jpeg:https://thehappydogband.com/wp-content/uploads/2018/05/green-parrot-soundcheck.jpg
END:VEVENT
BEGIN:VEVENT
DTSTART;TZID=America/New_York:20181118T130000
DTEND;TZID=America/New_York:20181118T170000
DTSTAMP:20260422T075303
CREATED:20181029T174808Z
LAST-MODIFIED:20181029T174808Z
UID:1718-1542546000-1542560400@thehappydogband.com
SUMMARY:The Happy Dog – LIVE at Boondocks
DESCRIPTION:
URL:https://thehappydogband.com/concert/the-happy-dog-live-at-boondocks-28/
LOCATION:Boondocks\, 27205 Overseas Highway\, Ramrod Key\, FL\, 33042\, United States
ATTACH;FMTTYPE=image/jpeg:https://thehappydogband.com/wp-content/uploads/2017/05/boondocks-calendar-photo.jpg
END:VEVENT
BEGIN:VEVENT
DTSTART;TZID=America/New_York:20181116T140000
DTEND;TZID=America/New_York:20181116T170000
DTSTAMP:20260422T075303
CREATED:20181029T174630Z
LAST-MODIFIED:20181029T174630Z
UID:1714-1542376800-1542387600@thehappydogband.com
SUMMARY:The Happy Dog – LIVE at Havana Jack’s
DESCRIPTION:
URL:https://thehappydogband.com/concert/the-happy-dog-live-at-havana-jacks-12/
LOCATION:Havana Jack’s\, 401 E Ocean Dr\, Key Colony Beach\, FL\, 33051\, United States
ATTACH;FMTTYPE=image/gif:https://thehappydogband.com/wp-content/uploads/2016/07/website-logo-lotus4.gif
END:VEVENT
BEGIN:VEVENT
DTSTART;TZID=America/New_York:20181115T160000
DTEND;TZID=America/New_York:20181115T193000
DTSTAMP:20260422T075303
CREATED:20181029T174356Z
LAST-MODIFIED:20181029T174356Z
UID:1708-1542297600-1542310200@thehappydogband.com
SUMMARY:The Happy Dog – LIVE at Green Parrot
DESCRIPTION:
URL:https://thehappydogband.com/concert/the-happy-dog-live-at-green-parrot-58/
LOCATION:Green Parrot\, 601 Whitehead Street\, Key West\, FL\, 33040\, United States
ATTACH;FMTTYPE=image/jpeg:https://thehappydogband.com/wp-content/uploads/2016/08/green-parrot.jpg
END:VEVENT
BEGIN:VEVENT
DTSTART;TZID=America/New_York:20181115T123000
DTEND;TZID=America/New_York:20181115T140000
DTSTAMP:20260422T075303
CREATED:20181029T174134Z
LAST-MODIFIED:20181029T174134Z
UID:1702-1542285000-1542290400@thehappydogband.com
SUMMARY:The Happy Dog – LIVE at Green Parrot “Soundcheck”
DESCRIPTION:
URL:https://thehappydogband.com/concert/the-happy-dog-live-at-green-parrot-soundcheck-71/
LOCATION:Green Parrot\, 601 Whitehead Street\, Key West\, FL\, 33040\, United States
ATTACH;FMTTYPE=image/jpeg:https://thehappydogband.com/wp-content/uploads/2018/05/green-parrot-soundcheck.jpg
END:VEVENT
BEGIN:VEVENT
DTSTART;TZID=America/New_York:20181114T150000
DTEND;TZID=America/New_York:20181114T180000
DTSTAMP:20260422T075303
CREATED:20181029T174026Z
LAST-MODIFIED:20181029T174026Z
UID:1700-1542207600-1542218400@thehappydogband.com
SUMMARY:The Happy Dog – LIVE at The Salty Angler
DESCRIPTION:
URL:https://thehappydogband.com/concert/the-happy-dog-live-at-the-salty-angler-10/
LOCATION:Salty Angler\, 1114 Duval Street\, Key West\, FL\, 33040\, United States
ATTACH;FMTTYPE=image/jpeg:https://thehappydogband.com/wp-content/uploads/2017/06/salty-angler-event-photo.jpg
END:VEVENT
BEGIN:VEVENT
DTSTART;TZID=America/New_York:20181108T150000
DTEND;TZID=America/New_York:20181108T180000
DTSTAMP:20260422T075303
CREATED:20181029T173629Z
LAST-MODIFIED:20181029T173629Z
UID:1692-1541689200-1541700000@thehappydogband.com
SUMMARY:The Happy Dog – LIVE at The Salty Angler
DESCRIPTION:
URL:https://thehappydogband.com/concert/the-happy-dog-live-at-the-salty-angler-7/
LOCATION:Salty Angler\, 1114 Duval Street\, Key West\, FL\, 33040\, United States
ATTACH;FMTTYPE=image/jpeg:https://thehappydogband.com/wp-content/uploads/2017/06/salty-angler-event-photo.jpg
END:VEVENT
BEGIN:VEVENT
DTSTART;TZID=America/New_York:20181103T120000
DTEND;TZID=America/New_York:20181103T170000
DTSTAMP:20260422T075303
CREATED:20181029T173917Z
LAST-MODIFIED:20181029T173917Z
UID:1698-1541246400-1541264400@thehappydogband.com
SUMMARY:The Happy Dog – LIVE at Lorelei’s
DESCRIPTION:
URL:https://thehappydogband.com/concert/the-happy-dog-live-at-loreleis-5/
LOCATION:Lorelei’s\, 96 Madeira Rd\, Islamorada\, FL\, 33036\, United States
ATTACH;FMTTYPE=image/gif:https://thehappydogband.com/wp-content/uploads/2016/07/website-logo-lotus4.gif
END:VEVENT
BEGIN:VEVENT
DTSTART;TZID=America/New_York:20181102T140000
DTEND;TZID=America/New_York:20181102T170000
DTSTAMP:20260422T075303
CREATED:20181029T185953Z
LAST-MODIFIED:20181029T185953Z
UID:1724-1541167200-1541178000@thehappydogband.com
SUMMARY:The Happy Dog - LIVE at Blue Heaven
DESCRIPTION:
URL:https://thehappydogband.com/concert/the-happy-dog-live-at-blue-heaven-24/
LOCATION:Blue Heaven\, 729 Thomas Street\, Key West\, FL\, 33040\, United States
ATTACH;FMTTYPE=image/jpeg:https://thehappydogband.com/wp-content/uploads/2017/06/squid-event-photo.jpg
END:VEVENT
BEGIN:VEVENT
DTSTART;TZID=America/New_York:20181101T160000
DTEND;TZID=America/New_York:20181101T190000
DTSTAMP:20260422T075303
CREATED:20181029T173545Z
LAST-MODIFIED:20181029T173545Z
UID:1690-1541088000-1541098800@thehappydogband.com
SUMMARY:The Happy Dog – LIVE at The Salty Angler
DESCRIPTION:
URL:https://thehappydogband.com/concert/the-happy-dog-live-at-the-salty-angler-6/
LOCATION:Salty Angler\, 1114 Duval Street\, Key West\, FL\, 33040\, United States
ATTACH;FMTTYPE=image/jpeg:https://thehappydogband.com/wp-content/uploads/2017/06/salty-angler-event-photo.jpg
END:VEVENT
BEGIN:VEVENT
DTSTART;TZID=America/New_York:20181031T170000
DTEND;TZID=America/New_York:20181031T200000
DTSTAMP:20260422T075303
CREATED:20181011T022808Z
LAST-MODIFIED:20181011T022808Z
UID:1687-1541005200-1541016000@thehappydogband.com
SUMMARY:The Happy Dog – LIVE at General Horseplay
DESCRIPTION:
URL:https://thehappydogband.com/concert/the-happy-dog-live-at-general-horseplay-3/
LOCATION:General Horseplay\, 423 Caroline Street\, Key West\, FL\, 33040\, United States
ATTACH;FMTTYPE=image/gif:https://thehappydogband.com/wp-content/uploads/2016/07/website-logo-lotus4.gif
END:VEVENT
END:VCALENDAR