BEGIN:VCALENDAR
VERSION:2.0
PRODID:-//The Happy Dog - ECPv6.3.7//NONSGML v1.0//EN
CALSCALE:GREGORIAN
METHOD:PUBLISH
X-WR-CALNAME:The Happy Dog
X-ORIGINAL-URL:https://thehappydogband.com
X-WR-CALDESC:Events for The Happy Dog
REFRESH-INTERVAL;VALUE=DURATION:PT1H
X-Robots-Tag:noindex
X-PUBLISHED-TTL:PT1H
BEGIN:VTIMEZONE
TZID:America/New_York
BEGIN:DAYLIGHT
TZOFFSETFROM:-0500
TZOFFSETTO:-0400
TZNAME:EDT
DTSTART:20180311T070000
END:DAYLIGHT
BEGIN:STANDARD
TZOFFSETFROM:-0400
TZOFFSETTO:-0500
TZNAME:EST
DTSTART:20181104T060000
END:STANDARD
END:VTIMEZONE
BEGIN:VEVENT
DTSTART;TZID=America/New_York:20180930T140000
DTEND;TZID=America/New_York:20180930T180000
DTSTAMP:20260422T101635
CREATED:20180828T222450Z
LAST-MODIFIED:20180828T222450Z
UID:1628-1538316000-1538330400@thehappydogband.com
SUMMARY:The Happy Dog – LIVE at Boondocks
DESCRIPTION:
URL:https://thehappydogband.com/concert/the-happy-dog-live-at-boondocks-26/
LOCATION:Boondocks\, 27205 Overseas Highway\, Ramrod Key\, FL\, 33042\, United States
ATTACH;FMTTYPE=image/jpeg:https://thehappydogband.com/wp-content/uploads/2017/05/boondocks-calendar-photo.jpg
END:VEVENT
BEGIN:VEVENT
DTSTART;TZID=America/New_York:20180928T160000
DTEND;TZID=America/New_York:20180928T190000
DTSTAMP:20260422T101635
CREATED:20180828T222405Z
LAST-MODIFIED:20180828T222405Z
UID:1626-1538150400-1538161200@thehappydogband.com
SUMMARY:The Happy Dog – LIVE at The Salty Angler
DESCRIPTION:
URL:https://thehappydogband.com/concert/the-happy-dog-live-at-the-salty-angler-2/
LOCATION:Salty Angler\, 1114 Duval Street\, Key West\, FL\, 33040\, United States
ATTACH;FMTTYPE=image/jpeg:https://thehappydogband.com/wp-content/uploads/2017/06/salty-angler-event-photo.jpg
END:VEVENT
BEGIN:VEVENT
DTSTART;TZID=America/New_York:20180927T170000
DTEND;TZID=America/New_York:20180927T203000
DTSTAMP:20260422T101635
CREATED:20180828T222739Z
LAST-MODIFIED:20180828T222739Z
UID:1636-1538067600-1538080200@thehappydogband.com
SUMMARY:The Happy Dog – LIVE at Green Parrot
DESCRIPTION:
URL:https://thehappydogband.com/concert/the-happy-dog-live-at-green-parrot-54/
LOCATION:Green Parrot\, 601 Whitehead Street\, Key West\, FL\, 33040\, United States
ATTACH;FMTTYPE=image/jpeg:https://thehappydogband.com/wp-content/uploads/2018/07/happy-dog-slide-22.jpg
END:VEVENT
BEGIN:VEVENT
DTSTART;TZID=America/New_York:20180927T133000
DTEND;TZID=America/New_York:20180927T150000
DTSTAMP:20260422T101635
CREATED:20180828T221411Z
LAST-MODIFIED:20180828T221411Z
UID:1607-1538055000-1538060400@thehappydogband.com
SUMMARY:The Happy Dog – LIVE at Green Parrot “Soundcheck”
DESCRIPTION:
URL:https://thehappydogband.com/concert/the-happy-dog-live-at-green-parrot-soundcheck-65/
ATTACH;FMTTYPE=image/jpeg:https://thehappydogband.com/wp-content/uploads/2018/05/green-parrot-soundcheck.jpg
END:VEVENT
BEGIN:VEVENT
DTSTART;TZID=America/New_York:20180922T160000
DTEND;TZID=America/New_York:20180922T190000
DTSTAMP:20260422T101635
CREATED:20180828T222330Z
LAST-MODIFIED:20180828T222330Z
UID:1624-1537632000-1537642800@thehappydogband.com
SUMMARY:The Happy Dog – LIVE at The Salty Angler
DESCRIPTION:
URL:https://thehappydogband.com/concert/the-happy-dog-live-at-the-salty-angler/
LOCATION:Salty Angler\, 1114 Duval Street\, Key West\, FL\, 33040\, United States
ATTACH;FMTTYPE=image/jpeg:https://thehappydogband.com/wp-content/uploads/2017/06/salty-angler-event-photo.jpg
END:VEVENT
BEGIN:VEVENT
DTSTART;TZID=America/New_York:20180921T150000
DTEND;TZID=America/New_York:20180921T180000
DTSTAMP:20260422T101635
CREATED:20180828T222252Z
LAST-MODIFIED:20180828T222252Z
UID:1622-1537542000-1537552800@thehappydogband.com
SUMMARY:The Happy Dog – LIVE at Havana Jack’s
DESCRIPTION:
URL:https://thehappydogband.com/concert/the-happy-dog-live-at-havana-jacks-11/
LOCATION:Havana Jack’s\, 401 E Ocean Dr\, Key Colony Beach\, FL\, 33051\, United States
ATTACH;FMTTYPE=image/jpeg:https://thehappydogband.com/wp-content/uploads/2017/06/squid-event-photo.jpg
END:VEVENT
BEGIN:VEVENT
DTSTART;TZID=America/New_York:20180920T170000
DTEND;TZID=America/New_York:20180920T203000
DTSTAMP:20260422T101635
CREATED:20180828T222709Z
LAST-MODIFIED:20180828T222709Z
UID:1634-1537462800-1537475400@thehappydogband.com
SUMMARY:The Happy Dog – LIVE at Green Parrot
DESCRIPTION:
URL:https://thehappydogband.com/concert/the-happy-dog-live-at-green-parrot-53/
LOCATION:Green Parrot\, 601 Whitehead Street\, Key West\, FL\, 33040\, United States
ATTACH;FMTTYPE=image/jpeg:https://thehappydogband.com/wp-content/uploads/2018/07/happy-dog-slide-22.jpg
END:VEVENT
BEGIN:VEVENT
DTSTART;TZID=America/New_York:20180920T133000
DTEND;TZID=America/New_York:20180920T150000
DTSTAMP:20260422T101635
CREATED:20180828T221339Z
LAST-MODIFIED:20180828T221339Z
UID:1605-1537450200-1537455600@thehappydogband.com
SUMMARY:The Happy Dog – LIVE at Green Parrot “Soundcheck”
DESCRIPTION:
URL:https://thehappydogband.com/concert/the-happy-dog-live-at-green-parrot-soundcheck-64/
LOCATION:Green Parrot\, 601 Whitehead Street\, Key West\, FL\, 33040\, United States
ATTACH;FMTTYPE=image/jpeg:https://thehappydogband.com/wp-content/uploads/2018/05/green-parrot-soundcheck.jpg
END:VEVENT
BEGIN:VEVENT
DTSTART;TZID=America/New_York:20180919T160000
DTEND;TZID=America/New_York:20180919T190000
DTSTAMP:20260422T101635
CREATED:20180828T222211Z
LAST-MODIFIED:20180828T222211Z
UID:1620-1537372800-1537383600@thehappydogband.com
SUMMARY:The Happy Dog – LIVE at The Salty Angler Charity Event
DESCRIPTION:
URL:https://thehappydogband.com/concert/the-happy-dog-live-at-the-salty-angler-charity-event/
LOCATION:Salty Angler\, 1114 Duval Street\, Key West\, FL\, 33040\, United States
ATTACH;FMTTYPE=image/jpeg:https://thehappydogband.com/wp-content/uploads/2017/06/salty-angler-event-photo.jpg
END:VEVENT
BEGIN:VEVENT
DTSTART;TZID=America/New_York:20180915T170000
DTEND;TZID=America/New_York:20180915T210000
DTSTAMP:20260422T101635
CREATED:20180828T222111Z
LAST-MODIFIED:20180828T222111Z
UID:1618-1537030800-1537045200@thehappydogband.com
SUMMARY:The Happy Dog – LIVE at The Hurricane Grill
DESCRIPTION:
URL:https://thehappydogband.com/concert/the-happy-dog-live-at-the-hurricane-grill-17/
LOCATION:The Hurricane Grill\, 4650 Overseas Highway\, Marathon\, FL\, 33050\, United States
ATTACH;FMTTYPE=image/jpeg:https://thehappydogband.com/wp-content/uploads/2017/06/squid-event-photo.jpg
END:VEVENT
BEGIN:VEVENT
DTSTART;TZID=America/New_York:20180914T160000
DTEND;TZID=America/New_York:20180914T190000
DTSTAMP:20260422T101635
CREATED:20180828T221932Z
LAST-MODIFIED:20180828T221932Z
UID:1616-1536940800-1536951600@thehappydogband.com
SUMMARY:The Happy Dog – LIVE at Salty Angler
DESCRIPTION:
URL:https://thehappydogband.com/concert/the-happy-dog-live-at-salty-angler-82/
LOCATION:Salty Angler\, 1114 Duval Street\, Key West\, FL\, 33040\, United States
ATTACH;FMTTYPE=image/jpeg:https://thehappydogband.com/wp-content/uploads/2017/06/salty-angler-event-photo.jpg
END:VEVENT
BEGIN:VEVENT
DTSTART;TZID=America/New_York:20180913T170000
DTEND;TZID=America/New_York:20180913T203000
DTSTAMP:20260422T101635
CREATED:20180828T222635Z
LAST-MODIFIED:20180828T222635Z
UID:1632-1536858000-1536870600@thehappydogband.com
SUMMARY:The Happy Dog – LIVE at Green Parrot
DESCRIPTION:
URL:https://thehappydogband.com/concert/the-happy-dog-live-at-green-parrot-52/
LOCATION:Green Parrot\, 601 Whitehead Street\, Key West\, FL\, 33040\, United States
ATTACH;FMTTYPE=image/jpeg:https://thehappydogband.com/wp-content/uploads/2018/07/happy-dog-slide-22.jpg
END:VEVENT
BEGIN:VEVENT
DTSTART;TZID=America/New_York:20180913T133000
DTEND;TZID=America/New_York:20180913T150000
DTSTAMP:20260422T101635
CREATED:20180828T221304Z
LAST-MODIFIED:20180828T221304Z
UID:1603-1536845400-1536850800@thehappydogband.com
SUMMARY:The Happy Dog – LIVE at Green Parrot “Soundcheck”
DESCRIPTION:
URL:https://thehappydogband.com/concert/the-happy-dog-live-at-green-parrot-soundcheck-63/
LOCATION:Green Parrot\, 601 Whitehead Street\, Key West\, FL\, 33040\, United States
ATTACH;FMTTYPE=image/jpeg:https://thehappydogband.com/wp-content/uploads/2018/05/green-parrot-soundcheck.jpg
END:VEVENT
BEGIN:VEVENT
DTSTART;TZID=America/New_York:20180912T170000
DTEND;TZID=America/New_York:20180912T200000
DTSTAMP:20260422T101635
CREATED:20180828T221812Z
LAST-MODIFIED:20180828T221812Z
UID:1613-1536771600-1536782400@thehappydogband.com
SUMMARY:The Happy Dog – LIVE at General Horseplay
DESCRIPTION:
URL:https://thehappydogband.com/concert/the-happy-dog-live-at-general-horseplay/
LOCATION:General Horseplay\, 423 Caroline Street\, Key West\, FL\, 33040\, United States
ATTACH;FMTTYPE=image/jpeg:https://thehappydogband.com/wp-content/uploads/2017/06/squid-event-photo.jpg
END:VEVENT
BEGIN:VEVENT
DTSTART;TZID=America/New_York:20180908T140000
DTEND;TZID=America/New_York:20180908T180000
DTSTAMP:20260422T101635
CREATED:20180828T221558Z
LAST-MODIFIED:20180828T221558Z
UID:1611-1536415200-1536429600@thehappydogband.com
SUMMARY:The Happy Dog – LIVE at Lorelei’s
DESCRIPTION:
URL:https://thehappydogband.com/concert/the-happy-dog-live-at-loreleis-4/
LOCATION:Lorelei’s\, 96 Madeira Rd\, Islamorada\, FL\, 33036\, United States
ATTACH;FMTTYPE=image/gif:https://thehappydogband.com/wp-content/uploads/2016/07/website-logo-lotus5.gif
END:VEVENT
BEGIN:VEVENT
DTSTART;TZID=America/New_York:20180907T150000
DTEND;TZID=America/New_York:20180907T180000
DTSTAMP:20260422T101635
CREATED:20180828T221500Z
LAST-MODIFIED:20180828T221500Z
UID:1609-1536332400-1536343200@thehappydogband.com
SUMMARY:The Happy Dog – LIVE at Havana Jack’s
DESCRIPTION:
URL:https://thehappydogband.com/concert/the-happy-dog-live-at-havana-jacks-10/
LOCATION:Havana Jack’s\, 401 E Ocean Dr\, Key Colony Beach\, FL\, 33051\, United States
ATTACH;FMTTYPE=image/gif:https://thehappydogband.com/wp-content/uploads/2016/07/website-logo-lotus4.gif
END:VEVENT
BEGIN:VEVENT
DTSTART;TZID=America/New_York:20180906T170000
DTEND;TZID=America/New_York:20180906T203000
DTSTAMP:20260422T101635
CREATED:20180828T222557Z
LAST-MODIFIED:20180828T222557Z
UID:1630-1536253200-1536265800@thehappydogband.com
SUMMARY:The Happy Dog – LIVE at Green Parrot
DESCRIPTION:
URL:https://thehappydogband.com/concert/the-happy-dog-live-at-green-parrot-51/
LOCATION:Green Parrot\, 601 Whitehead Street\, Key West\, FL\, 33040\, United States
ATTACH;FMTTYPE=image/jpeg:https://thehappydogband.com/wp-content/uploads/2018/07/happy-dog-slide-22.jpg
END:VEVENT
BEGIN:VEVENT
DTSTART;TZID=America/New_York:20180906T133000
DTEND;TZID=America/New_York:20180906T150000
DTSTAMP:20260422T101635
CREATED:20180828T221216Z
LAST-MODIFIED:20180828T221216Z
UID:1601-1536240600-1536246000@thehappydogband.com
SUMMARY:The Happy Dog – LIVE at Green Parrot “Soundcheck”
DESCRIPTION:
URL:https://thehappydogband.com/concert/the-happy-dog-live-at-green-parrot-soundcheck-62/
LOCATION:Green Parrot\, 601 Whitehead Street\, Key West\, FL\, 33040\, United States
ATTACH;FMTTYPE=image/jpeg:https://thehappydogband.com/wp-content/uploads/2018/07/happy-dog-slide-22.jpg
END:VEVENT
BEGIN:VEVENT
DTSTART;TZID=America/New_York:20180905T180000
DTEND;TZID=America/New_York:20180905T210000
DTSTAMP:20260422T101635
CREATED:20180828T221019Z
LAST-MODIFIED:20180828T221019Z
UID:1599-1536170400-1536181200@thehappydogband.com
SUMMARY:The Happy Dog – LIVE at Mary Ellen’s
DESCRIPTION:
URL:https://thehappydogband.com/concert/the-happy-dog-live-at-mary-ellens-38/
LOCATION:Mary Ellen’s\, 420 Applerouth Lane\, Key West\, FL\, 33040\, United States
ATTACH;FMTTYPE=image/jpeg:https://thehappydogband.com/wp-content/uploads/2017/11/mary-ellens-event-photo.jpg
END:VEVENT
BEGIN:VEVENT
DTSTART;TZID=America/New_York:20180901T150000
DTEND;TZID=America/New_York:20180901T200000
DTSTAMP:20260422T101635
CREATED:20180725T182501Z
LAST-MODIFIED:20180725T182501Z
UID:1583-1535814000-1535832000@thehappydogband.com
SUMMARY:The Happy Dog – LIVE at Schooner Wharf
DESCRIPTION:
URL:https://thehappydogband.com/concert/the-happy-dog-live-at-schooner-wharf-16/
LOCATION:Schooner Wharf\, 202 William Street\, Key West\, 33040\, United States
ATTACH;FMTTYPE=image/jpeg:https://thehappydogband.com/wp-content/uploads/2018/05/schooner-wharf-event-photo.jpg
END:VEVENT
BEGIN:VEVENT
DTSTART;TZID=America/New_York:20180831T150000
DTEND;TZID=America/New_York:20180831T200000
DTSTAMP:20260422T101635
CREATED:20180725T182428Z
LAST-MODIFIED:20180725T182428Z
UID:1581-1535727600-1535745600@thehappydogband.com
SUMMARY:The Happy Dog – LIVE at Schooner Wharf
DESCRIPTION:
URL:https://thehappydogband.com/concert/the-happy-dog-live-at-schooner-wharf-15/
LOCATION:Schooner Wharf\, 202 William Street\, Key West\, 33040\, United States
ATTACH;FMTTYPE=image/jpeg:https://thehappydogband.com/wp-content/uploads/2018/05/schooner-wharf-event-photo.jpg
END:VEVENT
BEGIN:VEVENT
DTSTART;TZID=America/New_York:20180830T170000
DTEND;TZID=America/New_York:20180830T203000
DTSTAMP:20260422T101635
CREATED:20180725T181115Z
LAST-MODIFIED:20180725T181115Z
UID:1555-1535648400-1535661000@thehappydogband.com
SUMMARY:The Happy Dog – LIVE at Green Parrot
DESCRIPTION:
URL:https://thehappydogband.com/concert/the-happy-dog-live-at-green-parrot-49/
LOCATION:Green Parrot\, 601 Whitehead Street\, Key West\, FL\, 33040\, United States
ATTACH;FMTTYPE=image/jpeg:https://thehappydogband.com/wp-content/uploads/2016/08/green-parrot.jpg
END:VEVENT
BEGIN:VEVENT
DTSTART;TZID=America/New_York:20180830T133000
DTEND;TZID=America/New_York:20180830T150000
DTSTAMP:20260422T101635
CREATED:20180725T180832Z
LAST-MODIFIED:20180725T180832Z
UID:1547-1535635800-1535641200@thehappydogband.com
SUMMARY:The Happy Dog – LIVE at Green Parrot “Soundcheck”
DESCRIPTION:
URL:https://thehappydogband.com/concert/the-happy-dog-live-at-green-parrot-soundcheck-61/
LOCATION:Green Parrot\, 601 Whitehead Street\, Key West\, FL\, 33040\, United States
ATTACH;FMTTYPE=image/jpeg:https://thehappydogband.com/wp-content/uploads/2018/05/green-parrot-soundcheck.jpg
END:VEVENT
BEGIN:VEVENT
DTSTART;TZID=America/New_York:20180829T180000
DTEND;TZID=America/New_York:20180829T210000
DTSTAMP:20260422T101635
CREATED:20180725T181625Z
LAST-MODIFIED:20180725T181625Z
UID:1571-1535565600-1535576400@thehappydogband.com
SUMMARY:The Happy Dog – LIVE at Mary Ellen’s
DESCRIPTION:
URL:https://thehappydogband.com/concert/the-happy-dog-live-at-mary-ellens-37/
LOCATION:Mary Ellen’s\, 420 Applerouth Lane\, Key West\, FL\, 33040\, United States
ATTACH;FMTTYPE=image/jpeg:https://thehappydogband.com/wp-content/uploads/2017/11/mary-ellens-event-photo.jpg
END:VEVENT
BEGIN:VEVENT
DTSTART;TZID=America/New_York:20180825T140000
DTEND;TZID=America/New_York:20180825T180000
DTSTAMP:20260422T101635
CREATED:20180725T182339Z
LAST-MODIFIED:20180725T182339Z
UID:1579-1535205600-1535220000@thehappydogband.com
SUMMARY:The Happy Dog – LIVE at Overseas Pub & Grille
DESCRIPTION:
URL:https://thehappydogband.com/concert/the-happy-dog-live-at-overseas-pub-grille-3/
LOCATION:Overseas Pub & Grill\, 3574 Overseas Highway\, Marathon\, FL\, 33050\, United States
ATTACH;FMTTYPE=image/gif:https://thehappydogband.com/wp-content/uploads/2016/07/website-logo-lotus4.gif
END:VEVENT
BEGIN:VEVENT
DTSTART;TZID=America/New_York:20180824T160000
DTEND;TZID=America/New_York:20180824T190000
DTSTAMP:20260422T101635
CREATED:20180725T181404Z
LAST-MODIFIED:20180725T181404Z
UID:1563-1535126400-1535137200@thehappydogband.com
SUMMARY:The Happy Dog – LIVE at Salty Angler
DESCRIPTION:
URL:https://thehappydogband.com/concert/the-happy-dog-live-at-salty-angler-85/
LOCATION:Salty Angler\, 1114 Duval Street\, Key West\, FL\, 33040\, United States
ATTACH;FMTTYPE=image/jpeg:https://thehappydogband.com/wp-content/uploads/2016/10/salty-angler.jpg
END:VEVENT
BEGIN:VEVENT
DTSTART;TZID=America/New_York:20180823T170000
DTEND;TZID=America/New_York:20180823T203000
DTSTAMP:20260422T101635
CREATED:20180725T181045Z
LAST-MODIFIED:20180725T181045Z
UID:1553-1535043600-1535056200@thehappydogband.com
SUMMARY:The Happy Dog – LIVE at Green Parrot
DESCRIPTION:
URL:https://thehappydogband.com/concert/the-happy-dog-live-at-green-parrot-48/
LOCATION:Green Parrot\, 601 Whitehead Street\, Key West\, FL\, 33040\, United States
ATTACH;FMTTYPE=image/jpeg:https://thehappydogband.com/wp-content/uploads/2016/08/green-parrot.jpg
END:VEVENT
BEGIN:VEVENT
DTSTART;TZID=America/New_York:20180823T133000
DTEND;TZID=America/New_York:20180823T150000
DTSTAMP:20260422T101635
CREATED:20180725T180800Z
LAST-MODIFIED:20180725T180801Z
UID:1545-1535031000-1535036400@thehappydogband.com
SUMMARY:The Happy Dog – LIVE at Green Parrot “Soundcheck”
DESCRIPTION:
URL:https://thehappydogband.com/concert/the-happy-dog-live-at-green-parrot-soundcheck-60/
LOCATION:Green Parrot\, 601 Whitehead Street\, Key West\, FL\, 33040\, United States
ATTACH;FMTTYPE=image/jpeg:https://thehappydogband.com/wp-content/uploads/2018/05/green-parrot-soundcheck.jpg
END:VEVENT
BEGIN:VEVENT
DTSTART;TZID=America/New_York:20180822T180000
DTEND;TZID=America/New_York:20180822T210000
DTSTAMP:20260422T101635
CREATED:20180725T181555Z
LAST-MODIFIED:20180725T181555Z
UID:1569-1534960800-1534971600@thehappydogband.com
SUMMARY:The Happy Dog – LIVE at Mary Ellen’s
DESCRIPTION:
URL:https://thehappydogband.com/concert/the-happy-dog-live-at-mary-ellens-36/
LOCATION:Mary Ellen’s\, 420 Applerouth Lane\, Key West\, FL\, 33040\, United States
ATTACH;FMTTYPE=image/jpeg:https://thehappydogband.com/wp-content/uploads/2017/11/mary-ellens-event-photo.jpg
END:VEVENT
BEGIN:VEVENT
DTSTART;TZID=America/New_York:20180818T150000
DTEND;TZID=America/New_York:20180818T180000
DTSTAMP:20260422T101635
CREATED:20180725T181954Z
LAST-MODIFIED:20180725T181954Z
UID:1575-1534604400-1534615200@thehappydogband.com
SUMMARY:The Happy Dog – LIVE at Havana Jack’s
DESCRIPTION:
URL:https://thehappydogband.com/concert/the-happy-dog-live-at-havana-jacks-9/
LOCATION:Havana Jack’s\, 401 E Ocean Dr\, Key Colony Beach\, FL\, 33051\, United States
ATTACH;FMTTYPE=image/gif:https://thehappydogband.com/wp-content/uploads/2016/07/website-logo-lotus4.gif
END:VEVENT
END:VCALENDAR