BEGIN:VCALENDAR
VERSION:2.0
PRODID:-//The Happy Dog - ECPv6.3.7//NONSGML v1.0//EN
CALSCALE:GREGORIAN
METHOD:PUBLISH
X-WR-CALNAME:The Happy Dog
X-ORIGINAL-URL:https://thehappydogband.com
X-WR-CALDESC:Events for The Happy Dog
REFRESH-INTERVAL;VALUE=DURATION:PT1H
X-Robots-Tag:noindex
X-PUBLISHED-TTL:PT1H
BEGIN:VTIMEZONE
TZID:America/New_York
BEGIN:DAYLIGHT
TZOFFSETFROM:-0500
TZOFFSETTO:-0400
TZNAME:EDT
DTSTART:20180311T070000
END:DAYLIGHT
BEGIN:STANDARD
TZOFFSETFROM:-0400
TZOFFSETTO:-0500
TZNAME:EST
DTSTART:20181104T060000
END:STANDARD
END:VTIMEZONE
BEGIN:VEVENT
DTSTART;TZID=America/New_York:20180518T150000
DTEND;TZID=America/New_York:20180518T200000
DTSTAMP:20260422T133126
CREATED:20180427T181625Z
LAST-MODIFIED:20180427T182413Z
UID:1345-1526655600-1526673600@thehappydogband.com
SUMMARY:The Happy Dog – LIVE at Schooner Wharf
DESCRIPTION:with Gary Hempsey
URL:https://thehappydogband.com/concert/the-happy-dog-live-at-schooner-wharf-9/
LOCATION:Schooner Wharf\, 202 William Street\, Key West\, 33040\, United States
ATTACH;FMTTYPE=image/jpeg:https://thehappydogband.com/wp-content/uploads/2017/12/schooner-wharf-event.jpg
END:VEVENT
BEGIN:VEVENT
DTSTART;TZID=America/New_York:20180517T160000
DTEND;TZID=America/New_York:20180517T190000
DTSTAMP:20260422T133126
CREATED:20180427T174842Z
LAST-MODIFIED:20180427T174842Z
UID:1314-1526572800-1526583600@thehappydogband.com
SUMMARY:The Happy Dog – LIVE at Salty Angler
DESCRIPTION:
URL:https://thehappydogband.com/concert/the-happy-dog-live-at-salty-angler-72/
LOCATION:Salty Angler\, 1114 Duval Street\, Key West\, FL\, 33040\, United States
ATTACH;FMTTYPE=image/jpeg:https://thehappydogband.com/wp-content/uploads/2017/06/salty-angler-event-photo.jpg
END:VEVENT
BEGIN:VEVENT
DTSTART;TZID=America/New_York:20180516T170000
DTEND;TZID=America/New_York:20180516T200000
DTSTAMP:20260422T133126
CREATED:20180427T174556Z
LAST-MODIFIED:20180427T174556Z
UID:1306-1526490000-1526500800@thehappydogband.com
SUMMARY:The Happy Dog – LIVE at Mary Ellen’s
DESCRIPTION:
URL:https://thehappydogband.com/concert/the-happy-dog-live-at-mary-ellens-25/
LOCATION:Mary Ellen’s\, 420 Applerouth Lane\, Key West\, FL\, 33040\, United States
ATTACH;FMTTYPE=image/jpeg:https://thehappydogband.com/wp-content/uploads/2017/11/mary-ellens-event-photo.jpg
END:VEVENT
BEGIN:VEVENT
DTSTART;TZID=America/New_York:20180515T150000
DTEND;TZID=America/New_York:20180515T200000
DTSTAMP:20260422T133126
CREATED:20180427T181524Z
LAST-MODIFIED:20180427T181524Z
UID:1343-1526396400-1526414400@thehappydogband.com
SUMMARY:The Happy Dog – LIVE at Schooner Wharf
DESCRIPTION:with Gary Hempsey
URL:https://thehappydogband.com/concert/the-happy-dog-live-at-schooner-wharf-8/
LOCATION:Schooner Wharf\, 202 William Street\, Key West\, 33040\, United States
ATTACH;FMTTYPE=image/jpeg:https://thehappydogband.com/wp-content/uploads/2017/12/schooner-wharf-event.jpg
END:VEVENT
BEGIN:VEVENT
DTSTART;TZID=America/New_York:20180512T160000
DTEND;TZID=America/New_York:20180512T190000
DTSTAMP:20260422T133126
CREATED:20180508T171742Z
LAST-MODIFIED:20180508T171742Z
UID:1356-1526140800-1526151600@thehappydogband.com
SUMMARY:The Happy Dog – LIVE at Salty Angler
DESCRIPTION:
URL:https://thehappydogband.com/concert/the-happy-dog-live-at-salty-angler-75/
LOCATION:Salty Angler\, 1114 Duval Street\, Key West\, FL\, 33040\, United States
ATTACH;FMTTYPE=image/jpeg:https://thehappydogband.com/wp-content/uploads/2017/06/salty-angler-event-photo.jpg
END:VEVENT
BEGIN:VEVENT
DTSTART;TZID=America/New_York:20180510T170000
DTEND;TZID=America/New_York:20180510T203000
DTSTAMP:20260422T133126
CREATED:20180427T180907Z
LAST-MODIFIED:20180427T181154Z
UID:1332-1525971600-1525984200@thehappydogband.com
SUMMARY:The Happy Dog – LIVE at Green Parrot
DESCRIPTION:
URL:https://thehappydogband.com/concert/the-happy-dog-live-at-green-parrot-50/
LOCATION:Green Parrot\, 601 Whitehead Street\, Key West\, FL\, 33040\, United States
ATTACH;FMTTYPE=image/jpeg:https://thehappydogband.com/wp-content/uploads/2016/08/green-parrot.jpg
END:VEVENT
BEGIN:VEVENT
DTSTART;TZID=America/New_York:20180510T133000
DTEND;TZID=America/New_York:20180510T150000
DTSTAMP:20260422T133126
CREATED:20180427T180830Z
LAST-MODIFIED:20180427T180830Z
UID:1330-1525959000-1525964400@thehappydogband.com
SUMMARY:The Happy Dog – LIVE at Green Parrot “Soundcheck”
DESCRIPTION:
URL:https://thehappydogband.com/concert/the-happy-dog-live-at-green-parrot-soundcheck-49/
LOCATION:Green Parrot\, 601 Whitehead Street\, Key West\, FL\, 33040\, United States
ATTACH;FMTTYPE=image/jpeg:https://thehappydogband.com/wp-content/uploads/2016/08/green-parrot.jpg
END:VEVENT
BEGIN:VEVENT
DTSTART;TZID=America/New_York:20180509T170000
DTEND;TZID=America/New_York:20180509T200000
DTSTAMP:20260422T133126
CREATED:20180427T174523Z
LAST-MODIFIED:20180427T174523Z
UID:1304-1525885200-1525896000@thehappydogband.com
SUMMARY:The Happy Dog – LIVE at Mary Ellen’s
DESCRIPTION:
URL:https://thehappydogband.com/concert/the-happy-dog-live-at-mary-ellens-24/
LOCATION:Mary Ellen’s\, 420 Applerouth Lane\, Key West\, FL\, 33040\, United States
ATTACH;FMTTYPE=image/jpeg:https://thehappydogband.com/wp-content/uploads/2017/11/mary-ellens-event-photo.jpg
END:VEVENT
BEGIN:VEVENT
DTSTART;TZID=America/New_York:20180506T090000
DTEND;TZID=America/New_York:20180506T120000
DTSTAMP:20260422T133126
CREATED:20180427T180616Z
LAST-MODIFIED:20180427T180616Z
UID:1324-1525597200-1525608000@thehappydogband.com
SUMMARY:The Happy Dog – LIVE at Sunset Pier
DESCRIPTION:
URL:https://thehappydogband.com/concert/the-happy-dog-live-at-sunset-pier-111/
LOCATION:Sunset Pier at Ocean Key House\, 0 Duval Street\, Key West\, FL\, 33040\, United States
ATTACH;FMTTYPE=image/jpeg:https://thehappydogband.com/wp-content/uploads/2017/05/sunset-pier-calendar-photo.jpg
END:VEVENT
BEGIN:VEVENT
DTSTART;TZID=America/New_York:20180505T150000
DTEND;TZID=America/New_York:20180505T190000
DTSTAMP:20260422T133126
CREATED:20180427T175140Z
LAST-MODIFIED:20180427T175140Z
UID:1322-1525532400-1525546800@thehappydogband.com
SUMMARY:The Happy Dog – LIVE at Boondocks
DESCRIPTION:
URL:https://thehappydogband.com/concert/the-happy-dog-live-at-boondocks-22/
LOCATION:Boondocks\, 27205 Overseas Highway\, Ramrod Key\, FL\, 33042\, United States
ATTACH;FMTTYPE=image/jpeg:https://thehappydogband.com/wp-content/uploads/2017/05/boondocks-calendar-photo.jpg
END:VEVENT
BEGIN:VEVENT
DTSTART;TZID=America/New_York:20180504T150000
DTEND;TZID=America/New_York:20180504T190000
DTSTAMP:20260422T133126
CREATED:20180427T175111Z
LAST-MODIFIED:20180427T175111Z
UID:1320-1525446000-1525460400@thehappydogband.com
SUMMARY:The Happy Dog – LIVE at Boondocks
DESCRIPTION:
URL:https://thehappydogband.com/concert/the-happy-dog-live-at-boondocks-21/
LOCATION:Boondocks\, 27205 Overseas Highway\, Ramrod Key\, FL\, 33042\, United States
ATTACH;FMTTYPE=image/jpeg:https://thehappydogband.com/wp-content/uploads/2017/05/boondocks-calendar-photo.jpg
END:VEVENT
BEGIN:VEVENT
DTSTART;TZID=America/New_York:20180503T160000
DTEND;TZID=America/New_York:20180503T190000
DTSTAMP:20260422T133126
CREATED:20180427T174759Z
LAST-MODIFIED:20180427T174759Z
UID:1312-1525363200-1525374000@thehappydogband.com
SUMMARY:The Happy Dog – LIVE at Salty Angler
DESCRIPTION:
URL:https://thehappydogband.com/concert/the-happy-dog-live-at-salty-angler-71/
LOCATION:Salty Angler\, 1114 Duval Street\, Key West\, FL\, 33040\, United States
ATTACH;FMTTYPE=image/jpeg:https://thehappydogband.com/wp-content/uploads/2017/06/salty-angler-event-photo.jpg
END:VEVENT
BEGIN:VEVENT
DTSTART;TZID=America/New_York:20180502T170000
DTEND;TZID=America/New_York:20180502T200000
DTSTAMP:20260422T133126
CREATED:20180427T174448Z
LAST-MODIFIED:20180427T174448Z
UID:1302-1525280400-1525291200@thehappydogband.com
SUMMARY:The Happy Dog – LIVE at Mary Ellen’s
DESCRIPTION:
URL:https://thehappydogband.com/concert/the-happy-dog-live-at-mary-ellens-23/
LOCATION:Mary Ellen’s\, 420 Applerouth Lane\, Key West\, FL\, 33040\, United States
ATTACH;FMTTYPE=image/jpeg:https://thehappydogband.com/wp-content/uploads/2017/11/mary-ellens-event-photo.jpg
END:VEVENT
BEGIN:VEVENT
DTSTART;TZID=America/New_York:20180429T090000
DTEND;TZID=America/New_York:20180429T120000
DTSTAMP:20260422T133126
CREATED:20180330T194153Z
LAST-MODIFIED:20180330T194153Z
UID:1258-1524992400-1525003200@thehappydogband.com
SUMMARY:The Happy Dog – LIVE at Sunset Pier
DESCRIPTION:
URL:https://thehappydogband.com/concert/the-happy-dog-live-at-sunset-pier-110/
LOCATION:Sunset Pier at Ocean Key House\, 0 Duval Street\, Key West\, FL\, 33040\, United States
ATTACH;FMTTYPE=image/jpeg:https://thehappydogband.com/wp-content/uploads/2017/05/sunset-pier-calendar-photo.jpg
END:VEVENT
BEGIN:VEVENT
DTSTART;TZID=America/New_York:20180428T150000
DTEND;TZID=America/New_York:20180428T200000
DTSTAMP:20260422T133126
CREATED:20180330T200120Z
LAST-MODIFIED:20180330T200120Z
UID:1296-1524927600-1524945600@thehappydogband.com
SUMMARY:The Happy Dog – LIVE at Schooner Wharf
DESCRIPTION:
URL:https://thehappydogband.com/concert/the-happy-dog-live-at-schooner-wharf-7/
LOCATION:Schooner Wharf\, 202 William Street\, Key West\, 33040\, United States
ATTACH;FMTTYPE=image/jpeg:https://thehappydogband.com/wp-content/uploads/2017/12/schooner-wharf-event.jpg
END:VEVENT
BEGIN:VEVENT
DTSTART;TZID=America/New_York:20180427T150000
DTEND;TZID=America/New_York:20180427T180000
DTSTAMP:20260422T133126
CREATED:20180330T200011Z
LAST-MODIFIED:20180330T200011Z
UID:1294-1524841200-1524852000@thehappydogband.com
SUMMARY:The Happy Dog – LIVE at Havana Jack’s
DESCRIPTION:
URL:https://thehappydogband.com/concert/the-happy-dog-live-at-havana-jacks-2/
LOCATION:Havana Jack’s\, 401 E Ocean Dr\, Key Colony Beach\, FL\, 33051\, United States
ATTACH;FMTTYPE=image/gif:https://thehappydogband.com/wp-content/uploads/2016/07/website-logo-lotus4.gif
END:VEVENT
BEGIN:VEVENT
DTSTART;TZID=America/New_York:20180426T170000
DTEND;TZID=America/New_York:20180426T203000
DTSTAMP:20260422T133126
CREATED:20180330T195926Z
LAST-MODIFIED:20180330T195926Z
UID:1292-1524762000-1524774600@thehappydogband.com
SUMMARY:The Happy Dog – LIVE at Green Parrot
DESCRIPTION:
URL:https://thehappydogband.com/concert/the-happy-dog-live-at-green-parrot-39/
LOCATION:Green Parrot\, 601 Whitehead Street\, Key West\, FL\, 33040\, United States
ATTACH;FMTTYPE=image/jpeg:https://thehappydogband.com/wp-content/uploads/2016/08/green-parrot.jpg
END:VEVENT
BEGIN:VEVENT
DTSTART;TZID=America/New_York:20180425T170000
DTEND;TZID=America/New_York:20180425T200000
DTSTAMP:20260422T133126
CREATED:20180330T194448Z
LAST-MODIFIED:20180330T194448Z
UID:1266-1524675600-1524686400@thehappydogband.com
SUMMARY:The Happy Dog – LIVE at Mary Ellen’s
DESCRIPTION:
URL:https://thehappydogband.com/concert/the-happy-dog-live-at-mary-ellens-22/
LOCATION:Mary Ellen’s\, 420 Applerouth Lane\, Key West\, FL\, 33040\, United States
ATTACH;FMTTYPE=image/jpeg:https://thehappydogband.com/wp-content/uploads/2017/11/mary-ellens-event-photo.jpg
END:VEVENT
BEGIN:VEVENT
DTSTART;TZID=America/New_York:20180422T090000
DTEND;TZID=America/New_York:20180422T120000
DTSTAMP:20260422T133126
CREATED:20180330T194116Z
LAST-MODIFIED:20180330T194116Z
UID:1256-1524387600-1524398400@thehappydogband.com
SUMMARY:The Happy Dog – LIVE at Sunset Pier
DESCRIPTION:
URL:https://thehappydogband.com/concert/the-happy-dog-live-at-sunset-pier-109/
LOCATION:Sunset Pier at Ocean Key House\, 0 Duval Street\, Key West\, FL\, 33040\, United States
ATTACH;FMTTYPE=image/jpeg:https://thehappydogband.com/wp-content/uploads/2017/05/sunset-pier-calendar-photo.jpg
END:VEVENT
BEGIN:VEVENT
DTSTART;TZID=America/New_York:20180421T140000
DTEND;TZID=America/New_York:20180421T180000
DTSTAMP:20260422T133126
CREATED:20180330T195830Z
LAST-MODIFIED:20180330T195830Z
UID:1290-1524319200-1524333600@thehappydogband.com
SUMMARY:The Happy Dog – LIVE at Overseas Pub & Grille
DESCRIPTION:
URL:https://thehappydogband.com/concert/the-happy-dog-live-at-overseas-pub-grille/
LOCATION:Overseas Pub & Grill\, 3574 Overseas Highway\, Marathon\, FL\, 33050\, United States
ATTACH;FMTTYPE=image/gif:https://thehappydogband.com/wp-content/uploads/2016/07/website-logo-lotus4.gif
END:VEVENT
BEGIN:VEVENT
DTSTART;TZID=America/New_York:20180420T160000
DTEND;TZID=America/New_York:20180420T190000
DTSTAMP:20260422T133126
CREATED:20180330T194723Z
LAST-MODIFIED:20180330T194723Z
UID:1272-1524240000-1524250800@thehappydogband.com
SUMMARY:The Happy Dog – LIVE at Salty Angler
DESCRIPTION:
URL:https://thehappydogband.com/concert/the-happy-dog-live-at-salty-angler-70/
LOCATION:Salty Angler\, 1114 Duval Street\, Key West\, FL\, 33040\, United States
ATTACH;FMTTYPE=image/jpeg:https://thehappydogband.com/wp-content/uploads/2017/06/salty-angler-event-photo.jpg
END:VEVENT
BEGIN:VEVENT
DTSTART;TZID=America/New_York:20180420T133000
DTEND;TZID=America/New_York:20180420T150000
DTSTAMP:20260422T133126
CREATED:20180330T195530Z
LAST-MODIFIED:20180330T195530Z
UID:1288-1524231000-1524236400@thehappydogband.com
SUMMARY:The Happy Dog – LIVE at Green Parrot “Soundcheck”
DESCRIPTION:
URL:https://thehappydogband.com/concert/the-happy-dog-live-at-green-parrot-soundcheck-48/
LOCATION:Green Parrot\, 601 Whitehead Street\, Key West\, FL\, 33040\, United States
ATTACH;FMTTYPE=image/jpeg:https://thehappydogband.com/wp-content/uploads/2016/08/green-parrot.jpg
END:VEVENT
BEGIN:VEVENT
DTSTART;TZID=America/New_York:20180419T170000
DTEND;TZID=America/New_York:20180419T203000
DTSTAMP:20260422T133126
CREATED:20180330T195445Z
LAST-MODIFIED:20180330T195445Z
UID:1286-1524157200-1524169800@thehappydogband.com
SUMMARY:The Happy Dog – LIVE at Green Parrot
DESCRIPTION:
URL:https://thehappydogband.com/concert/the-happy-dog-live-at-green-parrot-38/
LOCATION:Green Parrot\, 601 Whitehead Street\, Key West\, FL\, 33040\, United States
ATTACH;FMTTYPE=image/jpeg:https://thehappydogband.com/wp-content/uploads/2016/08/green-parrot.jpg
END:VEVENT
BEGIN:VEVENT
DTSTART;TZID=America/New_York:20180419T133000
DTEND;TZID=America/New_York:20180419T150000
DTSTAMP:20260422T133126
CREATED:20180330T195403Z
LAST-MODIFIED:20180330T195403Z
UID:1284-1524144600-1524150000@thehappydogband.com
SUMMARY:The Happy Dog – LIVE at Green Parrot “Soundcheck”
DESCRIPTION:
URL:https://thehappydogband.com/concert/the-happy-dog-live-at-green-parrot-soundcheck-47/
LOCATION:Green Parrot\, 601 Whitehead Street\, Key West\, FL\, 33040\, United States
ATTACH;FMTTYPE=image/jpeg:https://thehappydogband.com/wp-content/uploads/2016/08/green-parrot.jpg
END:VEVENT
BEGIN:VEVENT
DTSTART;TZID=America/New_York:20180418T170000
DTEND;TZID=America/New_York:20180418T200000
DTSTAMP:20260422T133126
CREATED:20180330T194412Z
LAST-MODIFIED:20180330T194412Z
UID:1264-1524070800-1524081600@thehappydogband.com
SUMMARY:The Happy Dog – LIVE at Mary Ellen’s
DESCRIPTION:
URL:https://thehappydogband.com/concert/the-happy-dog-live-at-mary-ellens-21/
LOCATION:Mary Ellen’s\, 420 Applerouth Lane\, Key West\, FL\, 33040\, United States
ATTACH;FMTTYPE=image/jpeg:https://thehappydogband.com/wp-content/uploads/2017/11/mary-ellens-event-photo.jpg
END:VEVENT
BEGIN:VEVENT
DTSTART;TZID=America/New_York:20180415T090000
DTEND;TZID=America/New_York:20180415T120000
DTSTAMP:20260422T133126
CREATED:20180330T193429Z
LAST-MODIFIED:20180330T194033Z
UID:1254-1523782800-1523793600@thehappydogband.com
SUMMARY:The Happy Dog – LIVE at Sunset Pier
DESCRIPTION:
URL:https://thehappydogband.com/concert/the-happy-dog-live-at-sunset-pier-108/
LOCATION:Sunset Pier at Ocean Key House\, 0 Duval Street\, Key West\, FL\, 33040\, United States
ATTACH;FMTTYPE=image/jpeg:https://thehappydogband.com/wp-content/uploads/2017/05/sunset-pier-calendar-photo.jpg
END:VEVENT
BEGIN:VEVENT
DTSTART;TZID=America/New_York:20180414T170000
DTEND;TZID=America/New_York:20180414T210000
DTSTAMP:20260422T133126
CREATED:20180330T195320Z
LAST-MODIFIED:20180330T195320Z
UID:1282-1523725200-1523739600@thehappydogband.com
SUMMARY:The Happy Dog – LIVE at Green Parrot
DESCRIPTION:
URL:https://thehappydogband.com/concert/the-happy-dog-live-at-green-parrot-37/
LOCATION:Green Parrot\, 601 Whitehead Street\, Key West\, FL\, 33040\, United States
ATTACH;FMTTYPE=image/jpeg:https://thehappydogband.com/wp-content/uploads/2016/08/green-parrot.jpg
END:VEVENT
BEGIN:VEVENT
DTSTART;TZID=America/New_York:20180414T133000
DTEND;TZID=America/New_York:20180414T150000
DTSTAMP:20260422T133126
CREATED:20180330T195244Z
LAST-MODIFIED:20180330T195244Z
UID:1280-1523712600-1523718000@thehappydogband.com
SUMMARY:The Happy Dog – LIVE at Green Parrot “Soundcheck”
DESCRIPTION:
URL:https://thehappydogband.com/concert/the-happy-dog-live-at-green-parrot-soundcheck-46/
LOCATION:Green Parrot\, 601 Whitehead Street\, Key West\, FL\, 33040\, United States
ATTACH;FMTTYPE=image/jpeg:https://thehappydogband.com/wp-content/uploads/2016/08/green-parrot.jpg
END:VEVENT
BEGIN:VEVENT
DTSTART;TZID=America/New_York:20180413T170000
DTEND;TZID=America/New_York:20180413T210000
DTSTAMP:20260422T133126
CREATED:20180330T195206Z
LAST-MODIFIED:20180330T195206Z
UID:1278-1523638800-1523653200@thehappydogband.com
SUMMARY:The Happy Dog – LIVE at Green Parrot
DESCRIPTION:
URL:https://thehappydogband.com/concert/the-happy-dog-live-at-green-parrot-36/
LOCATION:FL
ATTACH;FMTTYPE=image/jpeg:https://thehappydogband.com/wp-content/uploads/2016/08/green-parrot.jpg
END:VEVENT
BEGIN:VEVENT
DTSTART;TZID=America/New_York:20180413T133000
DTEND;TZID=America/New_York:20180413T150000
DTSTAMP:20260422T133126
CREATED:20180330T195128Z
LAST-MODIFIED:20180330T195128Z
UID:1276-1523626200-1523631600@thehappydogband.com
SUMMARY:The Happy Dog – LIVE at Green Parrot “Soundcheck”
DESCRIPTION:
URL:https://thehappydogband.com/concert/the-happy-dog-live-at-green-parrot-soundcheck-45/
LOCATION:Green Parrot\, 601 Whitehead Street\, Key West\, FL\, 33040\, United States
ATTACH;FMTTYPE=image/jpeg:https://thehappydogband.com/wp-content/uploads/2016/08/green-parrot.jpg
END:VEVENT
END:VCALENDAR