BEGIN:VCALENDAR
VERSION:2.0
PRODID:-//The Happy Dog - ECPv6.3.7//NONSGML v1.0//EN
CALSCALE:GREGORIAN
METHOD:PUBLISH
X-WR-CALNAME:The Happy Dog
X-ORIGINAL-URL:https://thehappydogband.com
X-WR-CALDESC:Events for The Happy Dog
REFRESH-INTERVAL;VALUE=DURATION:PT1H
X-Robots-Tag:noindex
X-PUBLISHED-TTL:PT1H
BEGIN:VTIMEZONE
TZID:America/New_York
BEGIN:DAYLIGHT
TZOFFSETFROM:-0500
TZOFFSETTO:-0400
TZNAME:EDT
DTSTART:20180311T070000
END:DAYLIGHT
BEGIN:STANDARD
TZOFFSETFROM:-0400
TZOFFSETTO:-0500
TZNAME:EST
DTSTART:20181104T060000
END:STANDARD
END:VTIMEZONE
BEGIN:VEVENT
DTSTART;TZID=America/New_York:20180316T160000
DTEND;TZID=America/New_York:20180316T190000
DTSTAMP:20260422T130914
CREATED:20180301T011228Z
LAST-MODIFIED:20180301T011228Z
UID:1226-1521216000-1521226800@thehappydogband.com
SUMMARY:The Happy Dog – LIVE at Sugarloaf Lodge
DESCRIPTION:
URL:https://thehappydogband.com/concert/the-happy-dog-live-at-sugarloaf-lodge-3/
LOCATION:Sugarloaf Lodge\, 17001 Overseas Hwy\, Sugarloaf\, FL\, 33042\, United States
END:VEVENT
BEGIN:VEVENT
DTSTART;TZID=America/New_York:20180315T160000
DTEND;TZID=America/New_York:20180315T190000
DTSTAMP:20260422T130914
CREATED:20180301T010151Z
LAST-MODIFIED:20180301T010151Z
UID:1190-1521129600-1521140400@thehappydogband.com
SUMMARY:The Happy Dog – LIVE at Salty Angler
DESCRIPTION:
URL:https://thehappydogband.com/concert/the-happy-dog-live-at-salty-angler-64/
LOCATION:Salty Angler\, 1114 Duval Street\, Key West\, FL\, 33040\, United States
END:VEVENT
BEGIN:VEVENT
DTSTART;TZID=America/New_York:20180314T170000
DTEND;TZID=America/New_York:20180314T210000
DTSTAMP:20260422T130914
CREATED:20180301T011151Z
LAST-MODIFIED:20180301T011151Z
UID:1224-1521046800-1521061200@thehappydogband.com
SUMMARY:The Happy Dog – LIVE at Mary Ellen’s
DESCRIPTION:
URL:https://thehappydogband.com/concert/the-happy-dog-live-at-mary-ellens-16/
LOCATION:Mary Ellen’s\, 420 Applerouth Lane\, Key West\, FL\, 33040\, United States
END:VEVENT
BEGIN:VEVENT
DTSTART;TZID=America/New_York:20180313T170000
DTEND;TZID=America/New_York:20180313T210000
DTSTAMP:20260422T130914
CREATED:20180301T010621Z
LAST-MODIFIED:20180301T010621Z
UID:1208-1520960400-1520974800@thehappydogband.com
SUMMARY:The Happy Dog – LIVE at Smokin’ Tuna
DESCRIPTION:
URL:https://thehappydogband.com/concert/the-happy-dog-live-at-smokin-tuna-7/
LOCATION:Smokin Tuna\, 4 Charles St\, Key West\, FL\, 33040\, United States
END:VEVENT
BEGIN:VEVENT
DTSTART;TZID=America/New_York:20180311T090000
DTEND;TZID=America/New_York:20180311T120000
DTSTAMP:20260422T130914
CREATED:20180301T010415Z
LAST-MODIFIED:20180301T010415Z
UID:1200-1520758800-1520769600@thehappydogband.com
SUMMARY:The Happy Dog – LIVE at Sunset Pier
DESCRIPTION:
URL:https://thehappydogband.com/concert/the-happy-dog-live-at-sunset-pier-103/
END:VEVENT
BEGIN:VEVENT
DTSTART;TZID=America/New_York:20180310T160000
DTEND;TZID=America/New_York:20180310T200000
DTSTAMP:20260422T130914
CREATED:20180301T011102Z
LAST-MODIFIED:20180301T011102Z
UID:1222-1520697600-1520712000@thehappydogband.com
SUMMARY:The Happy Dog – LIVE at The Hurricane Grill
DESCRIPTION:
URL:https://thehappydogband.com/concert/the-happy-dog-live-at-the-hurricane-grill-16/
LOCATION:The Hurricane Grill\, 4650 Overseas Highway\, Marathon\, FL\, 33050\, United States
END:VEVENT
BEGIN:VEVENT
DTSTART;TZID=America/New_York:20180309T160000
DTEND;TZID=America/New_York:20180309T200000
DTSTAMP:20260422T130914
CREATED:20180301T011035Z
LAST-MODIFIED:20180301T011035Z
UID:1220-1520611200-1520625600@thehappydogband.com
SUMMARY:The Happy Dog – LIVE at The Hurricane Grill
DESCRIPTION:
URL:https://thehappydogband.com/concert/the-happy-dog-live-at-the-hurricane-grill-15/
LOCATION:The Hurricane Grill\, 4650 Overseas Highway\, Marathon\, FL\, 33050\, United States
END:VEVENT
BEGIN:VEVENT
DTSTART;TZID=America/New_York:20180308T150000
DTEND;TZID=America/New_York:20180308T180000
DTSTAMP:20260422T130914
CREATED:20180301T010942Z
LAST-MODIFIED:20180301T010942Z
UID:1218-1520521200-1520532000@thehappydogband.com
SUMMARY:The Happy Dog – LIVE at Salty Angler
DESCRIPTION:
URL:https://thehappydogband.com/concert/the-happy-dog-live-at-salty-angler-66/
LOCATION:Salty Angler\, 1114 Duval Street\, Key West\, FL\, 33040\, United States
END:VEVENT
BEGIN:VEVENT
DTSTART;TZID=America/New_York:20180308T123000
DTEND;TZID=America/New_York:20180308T140000
DTSTAMP:20260422T130914
CREATED:20180301T010813Z
LAST-MODIFIED:20180301T010813Z
UID:1214-1520512200-1520517600@thehappydogband.com
SUMMARY:The Happy Dog – LIVE at Green Parrot “Soundcheck”
DESCRIPTION:
URL:https://thehappydogband.com/concert/the-happy-dog-live-at-green-parrot-soundcheck-43/
LOCATION:Green Parrot\, 601 Whitehead Street\, Key West\, FL\, 33040\, United States
END:VEVENT
BEGIN:VEVENT
DTSTART;TZID=America/New_York:20180307T160000
DTEND;TZID=America/New_York:20180307T190000
DTSTAMP:20260422T130914
CREATED:20180301T010850Z
LAST-MODIFIED:20180301T010850Z
UID:1216-1520438400-1520449200@thehappydogband.com
SUMMARY:The Happy Dog – LIVE at Mary Ellen’s
DESCRIPTION:
URL:https://thehappydogband.com/concert/the-happy-dog-live-at-mary-ellens-15/
LOCATION:Mary Ellen’s\, 420 Applerouth Lane\, Key West\, FL\, 33040\, United States
END:VEVENT
BEGIN:VEVENT
DTSTART;TZID=America/New_York:20180307T123000
DTEND;TZID=America/New_York:20180307T140000
DTSTAMP:20260422T130914
CREATED:20180301T010750Z
LAST-MODIFIED:20180301T010750Z
UID:1212-1520425800-1520431200@thehappydogband.com
SUMMARY:The Happy Dog – LIVE at Green Parrot “Soundcheck”
DESCRIPTION:
URL:https://thehappydogband.com/concert/the-happy-dog-live-at-green-parrot-soundcheck-42/
LOCATION:Green Parrot\, 601 Whitehead Street\, Key West\, FL\, 33040\, United States
END:VEVENT
BEGIN:VEVENT
DTSTART;TZID=America/New_York:20180306T160000
DTEND;TZID=America/New_York:20180306T200000
DTSTAMP:20260422T130914
CREATED:20180301T010552Z
LAST-MODIFIED:20180301T010552Z
UID:1206-1520352000-1520366400@thehappydogband.com
SUMMARY:The Happy Dog – LIVE at Smokin’ Tuna
DESCRIPTION:
URL:https://thehappydogband.com/concert/the-happy-dog-live-at-smokin-tuna-6/
LOCATION:Smokin Tuna\, 4 Charles St\, Key West\, FL\, 33040\, United States
END:VEVENT
BEGIN:VEVENT
DTSTART;TZID=America/New_York:20180304T080000
DTEND;TZID=America/New_York:20180304T110000
DTSTAMP:20260422T130914
CREATED:20180301T010354Z
LAST-MODIFIED:20180301T010354Z
UID:1198-1520150400-1520161200@thehappydogband.com
SUMMARY:The Happy Dog – LIVE at Sunset Pier
DESCRIPTION:
URL:https://thehappydogband.com/concert/the-happy-dog-live-at-sunset-pier-102/
LOCATION:Sunset Pier at Ocean Key House\, 0 Duval Street\, Key West\, FL\, 33040\, United States
END:VEVENT
BEGIN:VEVENT
DTSTART;TZID=America/New_York:20180303T140000
DTEND;TZID=America/New_York:20180303T180000
DTSTAMP:20260422T130914
CREATED:20180301T010320Z
LAST-MODIFIED:20180301T010320Z
UID:1196-1520085600-1520100000@thehappydogband.com
SUMMARY:The Happy Dog – LIVE at Boondocks
DESCRIPTION:
URL:https://thehappydogband.com/concert/the-happy-dog-live-at-boondocks-20/
LOCATION:Boondocks\, 27205 Overseas Highway\, Ramrod Key\, FL\, 33042\, United States
END:VEVENT
BEGIN:VEVENT
DTSTART;TZID=America/New_York:20180302T140000
DTEND;TZID=America/New_York:20180302T180000
DTSTAMP:20260422T130914
CREATED:20180301T010256Z
LAST-MODIFIED:20180301T010256Z
UID:1194-1519999200-1520013600@thehappydogband.com
SUMMARY:The Happy Dog – LIVE at Boondocks
DESCRIPTION:
URL:https://thehappydogband.com/concert/the-happy-dog-live-at-boondocks-19/
LOCATION:Boondocks\, 27205 Overseas Highway\, Ramrod Key\, FL\, 33042\, United States
END:VEVENT
BEGIN:VEVENT
DTSTART;TZID=America/New_York:20180301T150000
DTEND;TZID=America/New_York:20180301T180000
DTSTAMP:20260422T130914
CREATED:20180301T010117Z
LAST-MODIFIED:20180301T010117Z
UID:1188-1519916400-1519927200@thehappydogband.com
SUMMARY:The Happy Dog – LIVE at Salty Angler
DESCRIPTION:
URL:https://thehappydogband.com/concert/the-happy-dog-live-at-salty-angler-63/
LOCATION:Salty Angler\, 1114 Duval Street\, Key West\, FL\, 33040\, United States
END:VEVENT
BEGIN:VEVENT
DTSTART;TZID=America/New_York:20180228T160000
DTEND;TZID=America/New_York:20180228T193000
DTSTAMP:20260422T130914
CREATED:20180206T204856Z
LAST-MODIFIED:20180206T204856Z
UID:1183-1519833600-1519846200@thehappydogband.com
SUMMARY:The Happy Dog – LIVE at Green Parrot
DESCRIPTION:with special guest Glenn McClelland from Ween
URL:https://thehappydogband.com/concert/the-happy-dog-live-at-green-parrot-34/
LOCATION:Green Parrot\, 601 Whitehead Street\, Key West\, FL\, 33040\, United States
ATTACH;FMTTYPE=image/jpeg:https://thehappydogband.com/wp-content/uploads/2016/08/green-parrot.jpg
END:VEVENT
BEGIN:VEVENT
DTSTART;TZID=America/New_York:20180228T123000
DTEND;TZID=America/New_York:20180228T140000
DTSTAMP:20260422T130914
CREATED:20180206T204705Z
LAST-MODIFIED:20180206T204726Z
UID:1180-1519821000-1519826400@thehappydogband.com
SUMMARY:The Happy Dog – LIVE at Green Parrot “Soundcheck”
DESCRIPTION:with special guest Glenn McClelland from Ween
URL:https://thehappydogband.com/concert/the-happy-dog-live-at-green-parrot-soundcheck-41/
LOCATION:Green Parrot\, 601 Whitehead Street\, Key West\, FL\, 33040\, United States
ATTACH;FMTTYPE=image/jpeg:https://thehappydogband.com/wp-content/uploads/2016/08/green-parrot.jpg
END:VEVENT
BEGIN:VEVENT
DTSTART;TZID=America/New_York:20180227T160000
DTEND;TZID=America/New_York:20180227T200000
DTSTAMP:20260422T130914
CREATED:20180206T204455Z
LAST-MODIFIED:20180206T204455Z
UID:1178-1519747200-1519761600@thehappydogband.com
SUMMARY:The Happy Dog – LIVE at Smokin’ Tuna
DESCRIPTION:with special guest Glenn McClelland
URL:https://thehappydogband.com/concert/the-happy-dog-live-at-smokin-tuna-4/
LOCATION:Smokin Tuna\, 4 Charles St\, Key West\, FL\, 33040\, United States
ATTACH;FMTTYPE=image/jpeg:https://thehappydogband.com/wp-content/uploads/2017/12/smokin-tuna-event-photo.jpg
END:VEVENT
BEGIN:VEVENT
DTSTART;TZID=America/New_York:20180225T130000
DTEND;TZID=America/New_York:20180225T150000
DTSTAMP:20260422T130914
CREATED:20180206T204346Z
LAST-MODIFIED:20180206T204346Z
UID:1176-1519563600-1519570800@thehappydogband.com
SUMMARY:The Happy Dog – LIVE at Sunset Pier
DESCRIPTION:with special guest Glenn McClelland from Ween
URL:https://thehappydogband.com/concert/the-happy-dog-live-at-sunset-pier-101/
LOCATION:Sunset Pier at Ocean Key House\, 0 Duval Street\, Key West\, FL\, 33040\, United States
ATTACH;FMTTYPE=image/jpeg:https://thehappydogband.com/wp-content/uploads/2016/08/sunset-pier2.jpg
END:VEVENT
BEGIN:VEVENT
DTSTART;TZID=America/New_York:20180225T080000
DTEND;TZID=America/New_York:20180225T110000
DTSTAMP:20260422T130914
CREATED:20180206T204216Z
LAST-MODIFIED:20180206T204216Z
UID:1174-1519545600-1519556400@thehappydogband.com
SUMMARY:The Happy Dog – LIVE at Sunset Pier
DESCRIPTION:with special guest Glenn McClelland from Ween
URL:https://thehappydogband.com/concert/the-happy-dog-live-at-sunset-pier-100/
LOCATION:Sunset Pier at Ocean Key House\, 0 Duval Street\, Key West\, FL\, 33040\, United States
ATTACH;FMTTYPE=image/jpeg:https://thehappydogband.com/wp-content/uploads/2016/08/sunset-pier.jpg
END:VEVENT
BEGIN:VEVENT
DTSTART;TZID=America/New_York:20180224T130000
DTEND;TZID=America/New_York:20180224T170000
DTSTAMP:20260422T130914
CREATED:20180206T204005Z
LAST-MODIFIED:20180206T204005Z
UID:1172-1519477200-1519491600@thehappydogband.com
SUMMARY:The Happy Dog – LIVE at Overseas Pub & Grill
DESCRIPTION:with special guest Glenn McClelland from Ween
URL:https://thehappydogband.com/concert/the-happy-dog-live-at-overseas-pub-grill-7/
LOCATION:Overseas Pub & Grill\, 3574 Overseas Highway\, Marathon\, FL\, 33050\, United States
ATTACH;FMTTYPE=image/gif:https://thehappydogband.com/wp-content/uploads/2016/07/website-logo-lotus4.gif
END:VEVENT
BEGIN:VEVENT
DTSTART;TZID=America/New_York:20180222T150000
DTEND;TZID=America/New_York:20180222T180000
DTSTAMP:20260422T130914
CREATED:20180206T202912Z
LAST-MODIFIED:20180206T202912Z
UID:1170-1519311600-1519322400@thehappydogband.com
SUMMARY:The Happy Dog – LIVE at Salty Angler
DESCRIPTION:
URL:https://thehappydogband.com/concert/the-happy-dog-live-at-salty-angler-61/
LOCATION:Salty Angler\, 1114 Duval Street\, Key West\, FL\, 33040\, United States
ATTACH;FMTTYPE=image/jpeg:https://thehappydogband.com/wp-content/uploads/2016/10/salty-angler.jpg
END:VEVENT
BEGIN:VEVENT
DTSTART;TZID=America/New_York:20180221T160000
DTEND;TZID=America/New_York:20180221T190000
DTSTAMP:20260422T130914
CREATED:20180206T202808Z
LAST-MODIFIED:20180206T202808Z
UID:1168-1519228800-1519239600@thehappydogband.com
SUMMARY:The Happy Dog – LIVE at Mary Ellen’s
DESCRIPTION:
URL:https://thehappydogband.com/concert/the-happy-dog-live-at-mary-ellens-14/
LOCATION:Mary Ellen’s\, 420 Applerouth Lane\, Key West\, FL\, 33040\, United States
ATTACH;FMTTYPE=image/jpeg:https://thehappydogband.com/wp-content/uploads/2017/11/mary-ellens-event-photo.jpg
END:VEVENT
BEGIN:VEVENT
DTSTART;TZID=America/New_York:20180221T123000
DTEND;TZID=America/New_York:20180221T140000
DTSTAMP:20260422T130914
CREATED:20180206T202721Z
LAST-MODIFIED:20180206T202721Z
UID:1166-1519216200-1519221600@thehappydogband.com
SUMMARY:The Happy Dog – LIVE at Green Parrot “Soundcheck”
DESCRIPTION:
URL:https://thehappydogband.com/concert/the-happy-dog-live-at-green-parrot-soundcheck-40/
LOCATION:Green Parrot\, 601 Whitehead Street\, Key West\, FL\, 33040\, United States
ATTACH;FMTTYPE=image/jpeg:https://thehappydogband.com/wp-content/uploads/2016/08/green-parrot.jpg
END:VEVENT
BEGIN:VEVENT
DTSTART;TZID=America/New_York:20180220T160000
DTEND;TZID=America/New_York:20180220T200000
DTSTAMP:20260422T130914
CREATED:20180206T202551Z
LAST-MODIFIED:20180206T202551Z
UID:1164-1519142400-1519156800@thehappydogband.com
SUMMARY:The Happy Dog – LIVE at Smokin’ Tuna
DESCRIPTION:with special guest Gary Hempsey
URL:https://thehappydogband.com/concert/the-happy-dog-live-at-smokin-tuna-3/
LOCATION:Smokin Tuna\, 4 Charles St\, Key West\, FL\, 33040\, United States
ATTACH;FMTTYPE=image/jpeg:https://thehappydogband.com/wp-content/uploads/2017/12/smokin-tuna-event-photo.jpg
END:VEVENT
BEGIN:VEVENT
DTSTART;TZID=America/New_York:20180218T080000
DTEND;TZID=America/New_York:20180218T110000
DTSTAMP:20260422T130914
CREATED:20180206T202443Z
LAST-MODIFIED:20180206T202443Z
UID:1161-1518940800-1518951600@thehappydogband.com
SUMMARY:The Happy Dog – LIVE at Sunset Pier
DESCRIPTION:
URL:https://thehappydogband.com/concert/the-happy-dog-live-at-sunset-pier-99/
LOCATION:Sunset Pier at Ocean Key House\, 0 Duval Street\, Key West\, FL\, 33040\, United States
ATTACH;FMTTYPE=image/jpeg:https://thehappydogband.com/wp-content/uploads/2017/05/sunset-pier-calendar-photo.jpg
END:VEVENT
BEGIN:VEVENT
DTSTART;TZID=America/New_York:20180217T150000
DTEND;TZID=America/New_York:20180217T180000
DTSTAMP:20260422T130914
CREATED:20180206T202231Z
LAST-MODIFIED:20180206T202231Z
UID:1159-1518879600-1518890400@thehappydogband.com
SUMMARY:The Happy Dog – LIVE at Sugarloaf Lodge
DESCRIPTION:with special guest Gary Hempsey
URL:https://thehappydogband.com/concert/the-happy-dog-live-at-sugarloaf-lodge-2/
LOCATION:Sugarloaf Lodge\, 17001 Overseas Hwy\, Sugarloaf\, FL\, 33042\, United States
ATTACH;FMTTYPE=image/gif:https://thehappydogband.com/wp-content/uploads/2016/07/website-logo-lotus4.gif
END:VEVENT
BEGIN:VEVENT
DTSTART;TZID=America/New_York:20180216T133000
DTEND;TZID=America/New_York:20180216T183000
DTSTAMP:20260422T130914
CREATED:20180206T201956Z
LAST-MODIFIED:20180206T201956Z
UID:1157-1518787800-1518805800@thehappydogband.com
SUMMARY:The Happy Dog – LIVE at Schooner Wharf
DESCRIPTION:with special guest Gary Hempsey
URL:https://thehappydogband.com/concert/the-happy-dog-live-at-schooner-wharf-4/
LOCATION:Schooner Wharf\, 202 William Street\, Key West\, 33040\, United States
ATTACH;FMTTYPE=image/jpeg:https://thehappydogband.com/wp-content/uploads/2017/12/schooner-wharf-event.jpg
END:VEVENT
BEGIN:VEVENT
DTSTART;TZID=America/New_York:20180215T150000
DTEND;TZID=America/New_York:20180215T180000
DTSTAMP:20260422T130915
CREATED:20180206T201859Z
LAST-MODIFIED:20180206T201859Z
UID:1155-1518706800-1518717600@thehappydogband.com
SUMMARY:The Happy Dog – LIVE at Salty Angler
DESCRIPTION:
URL:https://thehappydogband.com/concert/the-happy-dog-live-at-salty-angler-60/
LOCATION:Salty Angler\, 1114 Duval Street\, Key West\, FL\, 33040\, United States
ATTACH;FMTTYPE=image/jpeg:https://thehappydogband.com/wp-content/uploads/2016/10/salty-angler.jpg
END:VEVENT
END:VCALENDAR