BEGIN:VCALENDAR
VERSION:2.0
PRODID:-//The Happy Dog - ECPv6.3.7//NONSGML v1.0//EN
CALSCALE:GREGORIAN
METHOD:PUBLISH
X-WR-CALNAME:The Happy Dog
X-ORIGINAL-URL:https://thehappydogband.com
X-WR-CALDESC:Events for The Happy Dog
REFRESH-INTERVAL;VALUE=DURATION:PT1H
X-Robots-Tag:noindex
X-PUBLISHED-TTL:PT1H
BEGIN:VTIMEZONE
TZID:America/New_York
BEGIN:DAYLIGHT
TZOFFSETFROM:-0500
TZOFFSETTO:-0400
TZNAME:EDT
DTSTART:20170312T070000
END:DAYLIGHT
BEGIN:STANDARD
TZOFFSETFROM:-0400
TZOFFSETTO:-0500
TZNAME:EST
DTSTART:20171105T060000
END:STANDARD
END:VTIMEZONE
BEGIN:VEVENT
DTSTART;TZID=America/New_York:20171104T160000
DTEND;TZID=America/New_York:20171104T190000
DTSTAMP:20260422T182456
CREATED:20171104T174800Z
LAST-MODIFIED:20171104T174800Z
UID:1009-1509811200-1509822000@thehappydogband.com
SUMMARY:The Happy Dog – LIVE at Salty Angler
DESCRIPTION:
URL:https://thehappydogband.com/concert/the-happy-dog-live-at-salty-angler-50/
LOCATION:Salty Angler\, 1114 Duval Street\, Key West\, FL\, 33040\, United States
ATTACH;FMTTYPE=image/jpeg:https://thehappydogband.com/wp-content/uploads/2017/06/salty-angler-event-photo.jpg
END:VEVENT
BEGIN:VEVENT
DTSTART;TZID=America/New_York:20171101T133000
DTEND;TZID=America/New_York:20171101T150000
DTSTAMP:20260422T182456
CREATED:20171031T215309Z
LAST-MODIFIED:20171031T215309Z
UID:991-1509543000-1509548400@thehappydogband.com
SUMMARY:The Happy Dog – LIVE at Green Parrot “Soundcheck”
DESCRIPTION:
URL:https://thehappydogband.com/concert/the-happy-dog-live-at-green-parrot-soundcheck-29/
LOCATION:Green Parrot\, 601 Whitehead Street\, Key West\, FL\, 33040\, United States
ATTACH;FMTTYPE=image/jpeg:https://thehappydogband.com/wp-content/uploads/2016/08/green-parrot.jpg
END:VEVENT
BEGIN:VEVENT
DTSTART;TZID=America/New_York:20171025T150000
DTEND;TZID=America/New_York:20171025T200000
DTSTAMP:20260422T182456
CREATED:20171004T232020Z
LAST-MODIFIED:20171004T232020Z
UID:986-1508943600-1508961600@thehappydogband.com
SUMMARY:The Happy Dog – LIVE at Schooner Wharf
DESCRIPTION:
URL:https://thehappydogband.com/concert/the-happy-dog-live-at-schooner-wharf/
LOCATION:Schooner Wharf\, 202 William Street\, Key West\, 33040\, United States
ATTACH;FMTTYPE=image/gif:https://thehappydogband.com/wp-content/uploads/2016/07/website-logo-lotus4.gif
END:VEVENT
BEGIN:VEVENT
DTSTART;TZID=America/New_York:20171019T150000
DTEND;TZID=America/New_York:20171019T180000
DTSTAMP:20260422T182456
CREATED:20171004T231258Z
LAST-MODIFIED:20171004T231258Z
UID:972-1508425200-1508436000@thehappydogband.com
SUMMARY:The Happy Dog – LIVE at Salty Angler
DESCRIPTION:
URL:https://thehappydogband.com/concert/the-happy-dog-live-at-salty-angler-45/
LOCATION:Salty Angler\, 1114 Duval Street\, Key West\, FL\, 33040\, United States
END:VEVENT
BEGIN:VEVENT
DTSTART;TZID=America/New_York:20171018T170000
DTEND;TZID=America/New_York:20171018T210000
DTSTAMP:20260422T182456
CREATED:20171004T231826Z
LAST-MODIFIED:20171004T231826Z
UID:984-1508346000-1508360400@thehappydogband.com
SUMMARY:The Happy Dog – LIVE at Green Parrot
DESCRIPTION:
URL:https://thehappydogband.com/concert/the-happy-dog-live-at-green-parrot-28/
LOCATION:Green Parrot\, 601 Whitehead Street\, Key West\, FL\, 33040\, United States
END:VEVENT
BEGIN:VEVENT
DTSTART;TZID=America/New_York:20171018T133000
DTEND;TZID=America/New_York:20171018T150000
DTSTAMP:20260422T182456
CREATED:20171004T231735Z
LAST-MODIFIED:20171004T231735Z
UID:982-1508333400-1508338800@thehappydogband.com
SUMMARY:The Happy Dog – LIVE at Green Parrot “Soundcheck”
DESCRIPTION:
URL:https://thehappydogband.com/concert/the-happy-dog-live-at-green-parrot-soundcheck-28/
LOCATION:Green Parrot\, 601 Whitehead Street\, Key West\, FL\, 33040\, United States
ATTACH;FMTTYPE=image/jpeg:https://thehappydogband.com/wp-content/uploads/2016/08/green-parrot.jpg
END:VEVENT
BEGIN:VEVENT
DTSTART;TZID=America/New_York:20171015T140000
DTEND;TZID=America/New_York:20171015T180000
DTSTAMP:20260422T182456
CREATED:20171004T232331Z
LAST-MODIFIED:20171004T232331Z
UID:988-1508076000-1508090400@thehappydogband.com
SUMMARY:The Happy Dog – LIVE at Boondocks
DESCRIPTION:
URL:https://thehappydogband.com/concert/the-happy-dog-live-at-boondocks-9/
LOCATION:Boondocks\, 27205 Overseas Highway\, Ramrod Key\, FL\, 33042\, United States
ATTACH;FMTTYPE=image/jpeg:https://thehappydogband.com/wp-content/uploads/2017/05/boondocks-calendar-photo.jpg
END:VEVENT
BEGIN:VEVENT
DTSTART;TZID=America/New_York:20171014T170000
DTEND;TZID=America/New_York:20171014T210000
DTSTAMP:20260422T182456
CREATED:20171004T231632Z
LAST-MODIFIED:20171004T231632Z
UID:980-1508000400-1508014800@thehappydogband.com
SUMMARY:The Happy Dog – LIVE at The Hurricane Grill
DESCRIPTION:
URL:https://thehappydogband.com/concert/the-happy-dog-live-at-the-hurricane-grill-6/
LOCATION:The Hurricane Grill\, 4650 Overseas Highway\, Marathon\, FL\, 33050\, United States
ATTACH;FMTTYPE=image/gif:https://thehappydogband.com/wp-content/uploads/2016/07/website-logo-lotus5.gif
END:VEVENT
BEGIN:VEVENT
DTSTART;TZID=America/New_York:20171013T170000
DTEND;TZID=America/New_York:20171013T210000
DTSTAMP:20260422T182456
CREATED:20171004T231556Z
LAST-MODIFIED:20171004T231556Z
UID:978-1507914000-1507928400@thehappydogband.com
SUMMARY:The Happy Dog – LIVE at The Hurricane Grill
DESCRIPTION:
URL:https://thehappydogband.com/concert/the-happy-dog-live-at-the-hurricane-grill-5/
LOCATION:The Hurricane Grill\, 4650 Overseas Highway\, Marathon\, FL\, 33050\, United States
ATTACH;FMTTYPE=image/gif:https://thehappydogband.com/wp-content/uploads/2016/07/website-logo-lotus4.gif
END:VEVENT
BEGIN:VEVENT
DTSTART;TZID=America/New_York:20171011T133000
DTEND;TZID=America/New_York:20171011T150000
DTSTAMP:20260422T182456
CREATED:20171004T231430Z
LAST-MODIFIED:20171004T231430Z
UID:976-1507728600-1507734000@thehappydogband.com
SUMMARY:The Happy Dog – LIVE at Green Parrot “Soundcheck”
DESCRIPTION:
URL:https://thehappydogband.com/concert/the-happy-dog-live-at-green-parrot-soundcheck-27/
LOCATION:Green Parrot\, 601 Whitehead Street\, Key West\, FL\, 33040\, United States
ATTACH;FMTTYPE=image/jpeg:https://thehappydogband.com/wp-content/uploads/2016/08/green-parrot.jpg
END:VEVENT
BEGIN:VEVENT
DTSTART;TZID=America/New_York:20171006T133000
DTEND;TZID=America/New_York:20171006T150000
DTSTAMP:20260422T182456
CREATED:20171004T231355Z
LAST-MODIFIED:20171004T231355Z
UID:974-1507296600-1507302000@thehappydogband.com
SUMMARY:The Happy Dog – LIVE at Green Parrot “Soundcheck”
DESCRIPTION:
URL:https://thehappydogband.com/concert/the-happy-dog-live-at-green-parrot-soundcheck-26/
LOCATION:Green Parrot\, 601 Whitehead Street\, Key West\, FL\, 33040\, United States
ATTACH;FMTTYPE=image/jpeg:https://thehappydogband.com/wp-content/uploads/2016/08/green-parrot.jpg
END:VEVENT
BEGIN:VEVENT
DTSTART;TZID=America/New_York:20171005T150000
DTEND;TZID=America/New_York:20171005T180000
DTSTAMP:20260422T182456
CREATED:20171004T231221Z
LAST-MODIFIED:20171004T231221Z
UID:970-1507215600-1507226400@thehappydogband.com
SUMMARY:The Happy Dog – LIVE at Salty Angler
DESCRIPTION:
URL:https://thehappydogband.com/concert/the-happy-dog-live-at-salty-angler-44/
LOCATION:Salty Angler\, 1114 Duval Street\, Key West\, FL\, 33040\, United States
ATTACH;FMTTYPE=image/jpeg:https://thehappydogband.com/wp-content/uploads/2017/06/salty-angler-event-photo.jpg
END:VEVENT
BEGIN:VEVENT
DTSTART;TZID=America/New_York:20170930T140000
DTEND;TZID=America/New_York:20170930T180000
DTSTAMP:20260422T182456
CREATED:20170901T232107Z
LAST-MODIFIED:20170901T232107Z
UID:930-1506780000-1506794400@thehappydogband.com
SUMMARY:The Happy Dog – LIVE at Boondocks
DESCRIPTION:
URL:https://thehappydogband.com/concert/the-happy-dog-live-at-boondocks-13/
LOCATION:Boondocks\, 27205 Overseas Highway\, Ramrod Key\, FL\, 33042\, United States
ATTACH;FMTTYPE=image/jpeg:https://thehappydogband.com/wp-content/uploads/2017/05/boondocks-calendar-photo.jpg
END:VEVENT
BEGIN:VEVENT
DTSTART;TZID=America/New_York:20170929T140000
DTEND;TZID=America/New_York:20170929T180000
DTSTAMP:20260422T182456
CREATED:20170901T232029Z
LAST-MODIFIED:20170901T232029Z
UID:928-1506693600-1506708000@thehappydogband.com
SUMMARY:The Happy Dog – LIVE at Boondocks
DESCRIPTION:
URL:https://thehappydogband.com/concert/the-happy-dog-live-at-boondocks-12/
LOCATION:Boondocks\, 27205 Overseas Highway\, Ramrod Key\, FL\, 33042\, United States
ATTACH;FMTTYPE=image/jpeg:https://thehappydogband.com/wp-content/uploads/2017/05/boondocks-calendar-photo.jpg
END:VEVENT
BEGIN:VEVENT
DTSTART;TZID=America/New_York:20170928T160000
DTEND;TZID=America/New_York:20170928T190000
DTSTAMP:20260422T182456
CREATED:20170901T231848Z
LAST-MODIFIED:20170901T231848Z
UID:924-1506614400-1506625200@thehappydogband.com
SUMMARY:The Happy Dog – LIVE at Salty Angler
DESCRIPTION:
URL:https://thehappydogband.com/concert/the-happy-dog-live-at-salty-angler-47/
LOCATION:Salty Angler\, 1114 Duval Street\, Key West\, FL\, 33040\, United States
ATTACH;FMTTYPE=image/jpeg:https://thehappydogband.com/wp-content/uploads/2017/06/salty-angler-event-photo.jpg
END:VEVENT
BEGIN:VEVENT
DTSTART;TZID=America/New_York:20170928T090000
DTEND;TZID=America/New_York:20170928T120000
DTSTAMP:20260422T182456
CREATED:20170901T234004Z
LAST-MODIFIED:20170901T234004Z
UID:963-1506589200-1506600000@thehappydogband.com
SUMMARY:Jesse @ The Green Room
DESCRIPTION:
URL:https://thehappydogband.com/concert/jesse-the-green-room-9/
LOCATION:The Green Room\, 501 Greene Street\, Key West\, FL\, 33040\, United States
ATTACH;FMTTYPE=image/gif:https://thehappydogband.com/wp-content/uploads/2016/07/website-logo-lotus4.gif
END:VEVENT
BEGIN:VEVENT
DTSTART;TZID=America/New_York:20170927T160000
DTEND;TZID=America/New_York:20170927T190000
DTSTAMP:20260422T182456
CREATED:20170901T231618Z
LAST-MODIFIED:20170901T231618Z
UID:916-1506528000-1506538800@thehappydogband.com
SUMMARY:The Happy Dog – LIVE at Grunts
DESCRIPTION:
URL:https://thehappydogband.com/concert/the-happy-dog-live-at-grunts-15/
LOCATION:Hank’s (formerly Grunts)\, 409 Caroline Street\, Key West\, FL\, 33040\, United States
ATTACH;FMTTYPE=image/jpeg:https://thehappydogband.com/wp-content/uploads/2017/06/grunts-event-photo.jpg
END:VEVENT
BEGIN:VEVENT
DTSTART;TZID=America/New_York:20170926T090000
DTEND;TZID=America/New_York:20170926T120000
DTSTAMP:20260422T182456
CREATED:20170901T233711Z
LAST-MODIFIED:20170901T233711Z
UID:953-1506416400-1506427200@thehappydogband.com
SUMMARY:Jesse @ The Green Room
DESCRIPTION:
URL:https://thehappydogband.com/concert/jesse-the-green-room-4/
LOCATION:The Green Room\, 501 Greene Street\, Key West\, FL\, 33040\, United States
ATTACH;FMTTYPE=image/gif:https://thehappydogband.com/wp-content/uploads/2016/07/website-logo-lotus4.gif
END:VEVENT
BEGIN:VEVENT
DTSTART;TZID=America/New_York:20170923T160000
DTEND;TZID=America/New_York:20170923T193000
DTSTAMP:20260422T182456
CREATED:20170922T203348Z
LAST-MODIFIED:20170922T203348Z
UID:967-1506182400-1506195000@thehappydogband.com
SUMMARY:The Happy Dog - LIVE at Green Parrot
DESCRIPTION:
URL:https://thehappydogband.com/concert/the-happy-dog-live-at-green-parrot-27/
LOCATION:Green Parrot\, 601 Whitehead Street\, Key West\, FL\, 33040\, United States
ATTACH;FMTTYPE=image/jpeg:https://thehappydogband.com/wp-content/uploads/2016/08/green-parrot.jpg
END:VEVENT
BEGIN:VEVENT
DTSTART;TZID=America/New_York:20170923T133000
DTEND;TZID=America/New_York:20170923T150000
DTSTAMP:20260422T182456
CREATED:20170922T203306Z
LAST-MODIFIED:20170922T203306Z
UID:965-1506173400-1506178800@thehappydogband.com
SUMMARY:The Happy Dog - LIVE at Green Parrot "Soundcheck"
DESCRIPTION:
URL:https://thehappydogband.com/concert/the-happy-dog-live-at-green-parrot-soundcheck-25/
LOCATION:Green Parrot\, 601 Whitehead Street\, Key West\, FL\, 33040\, United States
ATTACH;FMTTYPE=image/jpeg:https://thehappydogband.com/wp-content/uploads/2016/08/green-parrot.jpg
END:VEVENT
BEGIN:VEVENT
DTSTART;TZID=America/New_York:20170906T160000
DTEND;TZID=America/New_York:20170906T190000
DTSTAMP:20260422T182456
CREATED:20170901T231422Z
LAST-MODIFIED:20170901T231422Z
UID:910-1504713600-1504724400@thehappydogband.com
SUMMARY:The Happy Dog – LIVE at Grunts
DESCRIPTION:
URL:https://thehappydogband.com/concert/the-happy-dog-live-at-grunts-12/
LOCATION:Hank’s (formerly Grunts)\, 409 Caroline Street\, Key West\, FL\, 33040\, United States
ATTACH;FMTTYPE=image/jpeg:https://thehappydogband.com/wp-content/uploads/2017/06/grunts-event-photo.jpg
END:VEVENT
BEGIN:VEVENT
DTSTART;TZID=America/New_York:20170905T090000
DTEND;TZID=America/New_York:20170905T120000
DTSTAMP:20260422T182456
CREATED:20170901T233251Z
LAST-MODIFIED:20170901T233251Z
UID:946-1504602000-1504612800@thehappydogband.com
SUMMARY:Jesse @ The Green Room
DESCRIPTION:
URL:https://thehappydogband.com/concert/jesse-the-green-room/
LOCATION:The Green Room\, 501 Greene Street\, Key West\, FL\, 33040\, United States
ATTACH;FMTTYPE=image/gif:https://thehappydogband.com/wp-content/uploads/2016/07/website-logo-lotus4.gif
END:VEVENT
BEGIN:VEVENT
DTSTART;TZID=America/New_York:20170903T150000
DTEND;TZID=America/New_York:20170903T180000
DTSTAMP:20260422T182456
CREATED:20170901T231236Z
LAST-MODIFIED:20170901T231236Z
UID:907-1504450800-1504461600@thehappydogband.com
SUMMARY:The Happy Dog – LIVE at Sugarloaf KOA
DESCRIPTION:
URL:https://thehappydogband.com/concert/the-happy-dog-live-at-sugarloaf-koa/
LOCATION:Sugarloaf KOA\, 251 State Road 939\, Sugarloaf\, 33042\, United States
ATTACH;FMTTYPE=image/gif:https://thehappydogband.com/wp-content/uploads/2016/07/website-logo-lotus4.gif
END:VEVENT
BEGIN:VEVENT
DTSTART;TZID=America/New_York:20170831T160000
DTEND;TZID=America/New_York:20170831T190000
DTSTAMP:20260422T182456
CREATED:20170804T011108Z
LAST-MODIFIED:20170804T011108Z
UID:900-1504195200-1504206000@thehappydogband.com
SUMMARY:The Happy Dog – LIVE at Salty Angler
DESCRIPTION:
URL:https://thehappydogband.com/concert/the-happy-dog-live-at-salty-angler-43/
LOCATION:Salty Angler\, 1114 Duval Street\, Key West\, FL\, 33040\, United States
ATTACH;FMTTYPE=image/jpeg:https://thehappydogband.com/wp-content/uploads/2017/06/salty-angler-event-photo.jpg
END:VEVENT
BEGIN:VEVENT
DTSTART;TZID=America/New_York:20170830T160000
DTEND;TZID=America/New_York:20170830T190000
DTSTAMP:20260422T182456
CREATED:20170804T011009Z
LAST-MODIFIED:20170804T011009Z
UID:898-1504108800-1504119600@thehappydogband.com
SUMMARY:The Happy Dog – LIVE at Grunts
DESCRIPTION:
URL:https://thehappydogband.com/concert/the-happy-dog-live-at-grunts-11/
LOCATION:Hank’s (formerly Grunts)\, 409 Caroline Street\, Key West\, FL\, 33040\, United States
ATTACH;FMTTYPE=image/jpeg:https://thehappydogband.com/wp-content/uploads/2017/06/grunts-event-photo.jpg
END:VEVENT
BEGIN:VEVENT
DTSTART;TZID=America/New_York:20170829T150000
DTEND;TZID=America/New_York:20170829T170000
DTSTAMP:20260422T182456
CREATED:20170804T010922Z
LAST-MODIFIED:20170804T010922Z
UID:896-1504018800-1504026000@thehappydogband.com
SUMMARY:The Happy Dog – LIVE at Sunset Pier
DESCRIPTION:
URL:https://thehappydogband.com/concert/the-happy-dog-live-at-sunset-pier-96/
LOCATION:Sunset Pier at Ocean Key House\, 0 Duval Street\, Key West\, FL\, 33040\, United States
ATTACH;FMTTYPE=image/jpeg:https://thehappydogband.com/wp-content/uploads/2017/05/sunset-pier-calendar-photo.jpg
END:VEVENT
BEGIN:VEVENT
DTSTART;TZID=America/New_York:20170825T160000
DTEND;TZID=America/New_York:20170825T190000
DTSTAMP:20260422T182456
CREATED:20170804T010838Z
LAST-MODIFIED:20170804T010838Z
UID:894-1503676800-1503687600@thehappydogband.com
SUMMARY:The Happy Dog – LIVE at Salty Angler
DESCRIPTION:
URL:https://thehappydogband.com/concert/the-happy-dog-live-at-salty-angler-42/
LOCATION:Salty Angler\, 1114 Duval Street\, Key West\, FL\, 33040\, United States
ATTACH;FMTTYPE=image/jpeg:https://thehappydogband.com/wp-content/uploads/2017/06/salty-angler-event-photo.jpg
END:VEVENT
BEGIN:VEVENT
DTSTART;TZID=America/New_York:20170824T170000
DTEND;TZID=America/New_York:20170824T210000
DTSTAMP:20260422T182456
CREATED:20170804T010750Z
LAST-MODIFIED:20170804T010750Z
UID:892-1503594000-1503608400@thehappydogband.com
SUMMARY:The Happy Dog – LIVE at Green Parrot
DESCRIPTION:
URL:https://thehappydogband.com/concert/the-happy-dog-live-at-green-parrot-26/
LOCATION:Green Parrot\, 601 Whitehead Street\, Key West\, FL\, 33040\, United States
ATTACH;FMTTYPE=image/jpeg:https://thehappydogband.com/wp-content/uploads/2016/08/green-parrot.jpg
END:VEVENT
BEGIN:VEVENT
DTSTART;TZID=America/New_York:20170824T133000
DTEND;TZID=America/New_York:20170824T150000
DTSTAMP:20260422T182456
CREATED:20170804T010711Z
LAST-MODIFIED:20170804T010711Z
UID:890-1503581400-1503586800@thehappydogband.com
SUMMARY:The Happy Dog – LIVE at Green Parrot “Soundcheck”
DESCRIPTION:
URL:https://thehappydogband.com/concert/the-happy-dog-live-at-green-parrot-soundcheck-24/
LOCATION:Green Parrot\, 601 Whitehead Street\, Key West\, FL\, 33040\, United States
ATTACH;FMTTYPE=image/jpeg:https://thehappydogband.com/wp-content/uploads/2016/08/green-parrot.jpg
END:VEVENT
BEGIN:VEVENT
DTSTART;TZID=America/New_York:20170823T160000
DTEND;TZID=America/New_York:20170823T190000
DTSTAMP:20260422T182456
CREATED:20170804T010542Z
LAST-MODIFIED:20170804T010542Z
UID:888-1503504000-1503514800@thehappydogband.com
SUMMARY:The Happy Dog – LIVE at Grunts
DESCRIPTION:
URL:https://thehappydogband.com/concert/the-happy-dog-live-at-grunts-10/
LOCATION:Hank’s (formerly Grunts)\, 409 Caroline Street\, Key West\, FL\, 33040\, United States
ATTACH;FMTTYPE=image/jpeg:https://thehappydogband.com/wp-content/uploads/2017/06/grunts-event-photo.jpg
END:VEVENT
END:VCALENDAR