BEGIN:VCALENDAR
VERSION:2.0
PRODID:-//The Happy Dog - ECPv6.3.7//NONSGML v1.0//EN
CALSCALE:GREGORIAN
METHOD:PUBLISH
X-WR-CALNAME:The Happy Dog
X-ORIGINAL-URL:https://thehappydogband.com
X-WR-CALDESC:Events for The Happy Dog
REFRESH-INTERVAL;VALUE=DURATION:PT1H
X-Robots-Tag:noindex
X-PUBLISHED-TTL:PT1H
BEGIN:VTIMEZONE
TZID:America/New_York
BEGIN:DAYLIGHT
TZOFFSETFROM:-0500
TZOFFSETTO:-0400
TZNAME:EDT
DTSTART:20170312T070000
END:DAYLIGHT
BEGIN:STANDARD
TZOFFSETFROM:-0400
TZOFFSETTO:-0500
TZNAME:EST
DTSTART:20171105T060000
END:STANDARD
END:VTIMEZONE
BEGIN:VEVENT
DTSTART;TZID=America/New_York:20170731T170000
DTEND;TZID=America/New_York:20170731T210000
DTSTAMP:20260422T212512
CREATED:20170629T221037Z
LAST-MODIFIED:20170629T221131Z
UID:824-1501520400-1501534800@thehappydogband.com
SUMMARY:The Happy Dog – LIVE at Green Parrot "Jerry Garcia's Birthday"
DESCRIPTION:Garcia’s birthday and a benefit for Reef Relief
URL:https://thehappydogband.com/concert/the-happy-dog-live-at-green-parrot-24/
LOCATION:Green Parrot\, 601 Whitehead Street\, Key West\, FL\, 33040\, United States
ATTACH;FMTTYPE=image/jpeg:https://thehappydogband.com/wp-content/uploads/2016/08/green-parrot.jpg
END:VEVENT
BEGIN:VEVENT
DTSTART;TZID=America/New_York:20170731T133000
DTEND;TZID=America/New_York:20170731T150000
DTSTAMP:20260422T212512
CREATED:20170629T220910Z
LAST-MODIFIED:20170629T221101Z
UID:822-1501507800-1501513200@thehappydogband.com
SUMMARY:The Happy Dog – LIVE at Green Parrot "Soundcheck"
DESCRIPTION:Celebration of Jerry Garcia’s birthday and a benefit for Reef Relief
URL:https://thehappydogband.com/concert/the-happy-dog-live-at-green-parrot-soundcheck-22/
LOCATION:Green Parrot\, 601 Whitehead Street\, Key West\, FL\, 33040\, United States
ATTACH;FMTTYPE=image/jpeg:https://thehappydogband.com/wp-content/uploads/2016/08/green-parrot.jpg
END:VEVENT
BEGIN:VEVENT
DTSTART;TZID=America/New_York:20170727T160000
DTEND;TZID=America/New_York:20170727T190000
DTSTAMP:20260422T212512
CREATED:20170629T175317Z
LAST-MODIFIED:20170629T175317Z
UID:808-1501171200-1501182000@thehappydogband.com
SUMMARY:The Happy Dog – LIVE at Salty Angler
DESCRIPTION:
URL:https://thehappydogband.com/concert/the-happy-dog-live-at-salty-angler-39/
LOCATION:Salty Angler\, 1114 Duval Street\, Key West\, FL\, 33040\, United States
ATTACH;FMTTYPE=image/jpeg:https://thehappydogband.com/wp-content/uploads/2017/06/salty-angler-event-photo.jpg
END:VEVENT
BEGIN:VEVENT
DTSTART;TZID=America/New_York:20170726T160000
DTEND;TZID=America/New_York:20170726T190000
DTSTAMP:20260422T212512
CREATED:20170629T224731Z
LAST-MODIFIED:20170629T224731Z
UID:840-1501084800-1501095600@thehappydogband.com
SUMMARY:The Happy Dog – LIVE at Grunts
DESCRIPTION:
URL:https://thehappydogband.com/concert/the-happy-dog-live-at-grunts-5/
LOCATION:Hank’s (formerly Grunts)\, 409 Caroline Street\, Key West\, FL\, 33040\, United States
ATTACH;FMTTYPE=image/jpeg:https://thehappydogband.com/wp-content/uploads/2017/06/grunts-event-photo.jpg
END:VEVENT
BEGIN:VEVENT
DTSTART;TZID=America/New_York:20170725T150000
DTEND;TZID=America/New_York:20170725T170000
DTSTAMP:20260422T212512
CREATED:20170629T175652Z
LAST-MODIFIED:20170629T175652Z
UID:816-1500994800-1501002000@thehappydogband.com
SUMMARY:The Happy Dog – LIVE at Sunset Pier
DESCRIPTION:
URL:https://thehappydogband.com/concert/the-happy-dog-live-at-sunset-pier-91/
LOCATION:Sunset Pier at Ocean Key House\, 0 Duval Street\, Key West\, FL\, 33040\, United States
ATTACH;FMTTYPE=image/jpeg:https://thehappydogband.com/wp-content/uploads/2017/05/sunset-pier-calendar-photo.jpg
END:VEVENT
BEGIN:VEVENT
DTSTART;TZID=America/New_York:20170723T140000
DTEND;TZID=America/New_York:20170723T170000
DTSTAMP:20260422T212512
CREATED:20170629T221708Z
LAST-MODIFIED:20170630T193437Z
UID:831-1500818400-1500829200@thehappydogband.com
SUMMARY:The Happy Dog – LIVE at Blue Heaven
DESCRIPTION:
URL:https://thehappydogband.com/concert/he-happy-dog-live-at-blue-heaven/
LOCATION:Blue Heaven\, 729 Thomas Street\, Key West\, FL\, 33040\, United States
ATTACH;FMTTYPE=image/jpeg:https://thehappydogband.com/wp-content/uploads/2015/09/happy-dog-slide-6.jpg
END:VEVENT
BEGIN:VEVENT
DTSTART;TZID=America/New_York:20170722T150000
DTEND;TZID=America/New_York:20170722T190000
DTSTAMP:20260422T212512
CREATED:20170629T220651Z
LAST-MODIFIED:20170629T220651Z
UID:820-1500735600-1500750000@thehappydogband.com
SUMMARY:The Happy Dog – LIVE at Island Dogs
DESCRIPTION:
URL:https://thehappydogband.com/concert/the-happy-dog-live-at-island-dogs-6/
LOCATION:Island Dogs\, 505 Front Street\, Key West\, FL\, 33040\, United States
ATTACH;FMTTYPE=image/jpeg:https://thehappydogband.com/wp-content/uploads/2017/06/island-dogs-event-photo.jpg
END:VEVENT
BEGIN:VEVENT
DTSTART;TZID=America/New_York:20170720T160000
DTEND;TZID=America/New_York:20170720T190000
DTSTAMP:20260422T212512
CREATED:20170629T175241Z
LAST-MODIFIED:20170629T175241Z
UID:806-1500566400-1500577200@thehappydogband.com
SUMMARY:The Happy Dog – LIVE at Salty Angler
DESCRIPTION:
URL:https://thehappydogband.com/concert/the-happy-dog-live-at-salty-angler-38/
LOCATION:Salty Angler\, 1114 Duval Street\, Key West\, FL\, 33040\, United States
ATTACH;FMTTYPE=image/jpeg:https://thehappydogband.com/wp-content/uploads/2017/06/salty-angler-event-photo.jpg
END:VEVENT
BEGIN:VEVENT
DTSTART;TZID=America/New_York:20170719T160000
DTEND;TZID=America/New_York:20170719T190000
DTSTAMP:20260422T212512
CREATED:20170629T224656Z
LAST-MODIFIED:20170629T224656Z
UID:838-1500480000-1500490800@thehappydogband.com
SUMMARY:The Happy Dog – LIVE at Grunts
DESCRIPTION:
URL:https://thehappydogband.com/concert/the-happy-dog-live-at-grunts-4/
LOCATION:Hank’s (formerly Grunts)\, 409 Caroline Street\, Key West\, FL\, 33040\, United States
ATTACH;FMTTYPE=image/jpeg:https://thehappydogband.com/wp-content/uploads/2017/06/grunts-event-photo.jpg
END:VEVENT
BEGIN:VEVENT
DTSTART;TZID=America/New_York:20170718T150000
DTEND;TZID=America/New_York:20170718T170000
DTSTAMP:20260422T212512
CREATED:20170629T175617Z
LAST-MODIFIED:20170629T175617Z
UID:814-1500390000-1500397200@thehappydogband.com
SUMMARY:The Happy Dog – LIVE at Sunset Pier
DESCRIPTION:
URL:https://thehappydogband.com/concert/the-happy-dog-live-at-sunset-pier-90/
LOCATION:Sunset Pier at Ocean Key House\, 0 Duval Street\, Key West\, FL\, 33040\, United States
ATTACH;FMTTYPE=image/jpeg:https://thehappydogband.com/wp-content/uploads/2017/05/sunset-pier-calendar-photo.jpg
END:VEVENT
BEGIN:VEVENT
DTSTART;TZID=America/New_York:20170715T140000
DTEND;TZID=America/New_York:20170715T180000
DTSTAMP:20260422T212512
CREATED:20170629T221312Z
LAST-MODIFIED:20170629T221312Z
UID:827-1500127200-1500141600@thehappydogband.com
SUMMARY:The Happy Dog – LIVE at Overseas Pub & Grill
DESCRIPTION:
URL:https://thehappydogband.com/concert/the-happy-dog-live-at-overseas-pub-grill-5/
LOCATION:Overseas Pub & Grill\, 3574 Overseas Highway\, Marathon\, FL\, 33050\, United States
ATTACH;FMTTYPE=image/gif:https://thehappydogband.com/wp-content/uploads/2016/07/website-logo-lotus4.gif
END:VEVENT
BEGIN:VEVENT
DTSTART;TZID=America/New_York:20170713T160000
DTEND;TZID=America/New_York:20170713T190000
DTSTAMP:20260422T212512
CREATED:20170629T175057Z
LAST-MODIFIED:20170629T175057Z
UID:802-1499961600-1499972400@thehappydogband.com
SUMMARY:The Happy Dog – LIVE at Salty Angler
DESCRIPTION:
URL:https://thehappydogband.com/concert/the-happy-dog-live-at-salty-angler-36/
LOCATION:Salty Angler\, 1114 Duval Street\, Key West\, FL\, 33040\, United States
ATTACH;FMTTYPE=image/jpeg:https://thehappydogband.com/wp-content/uploads/2017/06/salty-angler-event-photo.jpg
END:VEVENT
BEGIN:VEVENT
DTSTART;TZID=America/New_York:20170712T170000
DTEND;TZID=America/New_York:20170712T210000
DTSTAMP:20260422T212512
CREATED:20170629T174631Z
LAST-MODIFIED:20170629T174631Z
UID:798-1499878800-1499893200@thehappydogband.com
SUMMARY:The Happy Dog – LIVE at Green Parrot
DESCRIPTION:
URL:https://thehappydogband.com/concert/the-happy-dog-live-at-green-parrot-23/
LOCATION:Green Parrot\, 601 Whitehead Street\, Key West\, FL\, 33040\, United States
ATTACH;FMTTYPE=image/jpeg:https://thehappydogband.com/wp-content/uploads/2016/08/green-parrot.jpg
END:VEVENT
BEGIN:VEVENT
DTSTART;TZID=America/New_York:20170712T133000
DTEND;TZID=America/New_York:20170712T150000
DTSTAMP:20260422T212512
CREATED:20170629T174555Z
LAST-MODIFIED:20170629T174555Z
UID:796-1499866200-1499871600@thehappydogband.com
SUMMARY:The Happy Dog – LIVE at Green Parrot "Soundcheck"
DESCRIPTION:
URL:https://thehappydogband.com/concert/the-happy-dog-live-at-green-parrot-soundcheck-21/
LOCATION:Green Parrot\, 601 Whitehead Street\, Key West\, FL\, 33040\, United States
ATTACH;FMTTYPE=image/jpeg:https://thehappydogband.com/wp-content/uploads/2016/08/green-parrot.jpg
END:VEVENT
BEGIN:VEVENT
DTSTART;TZID=America/New_York:20170711T150000
DTEND;TZID=America/New_York:20170711T170000
DTSTAMP:20260422T212512
CREATED:20170629T175547Z
LAST-MODIFIED:20170629T175547Z
UID:812-1499785200-1499792400@thehappydogband.com
SUMMARY:The Happy Dog – LIVE at Sunset Pier
DESCRIPTION:
URL:https://thehappydogband.com/concert/the-happy-dog-live-at-sunset-pier-89/
LOCATION:Sunset Pier at Ocean Key House\, 0 Duval Street\, Key West\, FL\, 33040\, United States
ATTACH;FMTTYPE=image/jpeg:https://thehappydogband.com/wp-content/uploads/2017/05/sunset-pier-calendar-photo.jpg
END:VEVENT
BEGIN:VEVENT
DTSTART;TZID=America/New_York:20170709T140000
DTEND;TZID=America/New_York:20170709T180000
DTSTAMP:20260422T212512
CREATED:20170629T222026Z
LAST-MODIFIED:20170629T222026Z
UID:834-1499608800-1499623200@thehappydogband.com
SUMMARY:The Happy Dog – LIVE at Boondocks
DESCRIPTION:
URL:https://thehappydogband.com/concert/the-happy-dog-live-at-boondocks-5/
LOCATION:Boondocks\, 27205 Overseas Highway\, Ramrod Key\, FL\, 33042\, United States
ATTACH;FMTTYPE=image/jpeg:https://thehappydogband.com/wp-content/uploads/2017/05/boondocks-calendar-photo.jpg
END:VEVENT
BEGIN:VEVENT
DTSTART;TZID=America/New_York:20170708T140000
DTEND;TZID=America/New_York:20170708T170000
DTSTAMP:20260422T212512
CREATED:20170629T221612Z
LAST-MODIFIED:20170630T193506Z
UID:829-1499522400-1499533200@thehappydogband.com
SUMMARY:The Happy Dog – LIVE at Blue Heaven
DESCRIPTION:
URL:https://thehappydogband.com/concert/the-happy-dog-live-at-blue-heaven-22/
LOCATION:Blue Heaven\, 729 Thomas Street\, Key West\, FL\, 33040\, United States
ATTACH;FMTTYPE=image/jpeg:https://thehappydogband.com/wp-content/uploads/2015/09/happy-dog-slide-6.jpg
END:VEVENT
BEGIN:VEVENT
DTSTART;TZID=America/New_York:20170706T160000
DTEND;TZID=America/New_York:20170706T190000
DTSTAMP:20260422T212512
CREATED:20170629T175023Z
LAST-MODIFIED:20170629T175023Z
UID:800-1499356800-1499367600@thehappydogband.com
SUMMARY:The Happy Dog – LIVE at Salty Angler
DESCRIPTION:
URL:https://thehappydogband.com/concert/the-happy-dog-live-at-salty-angler-35/
LOCATION:Salty Angler\, 1114 Duval Street\, Key West\, FL\, 33040\, United States
ATTACH;FMTTYPE=image/jpeg:https://thehappydogband.com/wp-content/uploads/2017/06/salty-angler-event-photo.jpg
END:VEVENT
BEGIN:VEVENT
DTSTART;TZID=America/New_York:20170705T160000
DTEND;TZID=America/New_York:20170705T190000
DTSTAMP:20260422T212512
CREATED:20170629T222243Z
LAST-MODIFIED:20170629T222243Z
UID:836-1499270400-1499281200@thehappydogband.com
SUMMARY:The Happy Dog – LIVE at Grunts
DESCRIPTION:
URL:https://thehappydogband.com/concert/the-happy-dog-live-at-grunts-3/
LOCATION:Hank’s (formerly Grunts)\, 409 Caroline Street\, Key West\, FL\, 33040\, United States
ATTACH;FMTTYPE=image/jpeg:https://thehappydogband.com/wp-content/uploads/2017/06/grunts-event-photo.jpg
END:VEVENT
BEGIN:VEVENT
DTSTART;TZID=America/New_York:20170704T180000
DTEND;TZID=America/New_York:20170704T220000
DTSTAMP:20260422T212512
CREATED:20170629T174031Z
LAST-MODIFIED:20170629T174031Z
UID:790-1499191200-1499205600@thehappydogband.com
SUMMARY:The Happy Dog – LIVE at Hog's Breath Saloon
DESCRIPTION:
URL:https://thehappydogband.com/concert/the-happy-dog-live-at-hogs-breath-saloon-11/
LOCATION:Hog’s Breath Saloon\, 400 Front Street\, Key West\, FL\, 33040\, United States
ATTACH;FMTTYPE=image/jpeg:https://thehappydogband.com/wp-content/uploads/2017/06/hogs-breath.jpg
END:VEVENT
BEGIN:VEVENT
DTSTART;TZID=America/New_York:20170704T150000
DTEND;TZID=America/New_York:20170704T170000
DTSTAMP:20260422T212512
CREATED:20170629T175511Z
LAST-MODIFIED:20170629T175511Z
UID:810-1499180400-1499187600@thehappydogband.com
SUMMARY:The Happy Dog – LIVE at Sunset Pier
DESCRIPTION:
URL:https://thehappydogband.com/concert/the-happy-dog-live-at-sunset-pier-88/
LOCATION:Sunset Pier at Ocean Key House\, 0 Duval Street\, Key West\, FL\, 33040\, United States
ATTACH;FMTTYPE=image/jpeg:https://thehappydogband.com/wp-content/uploads/2017/05/sunset-pier-calendar-photo.jpg
END:VEVENT
BEGIN:VEVENT
DTSTART;TZID=America/New_York:20170703T180000
DTEND;TZID=America/New_York:20170703T220000
DTSTAMP:20260422T212512
CREATED:20170629T173939Z
LAST-MODIFIED:20170629T173939Z
UID:787-1499104800-1499119200@thehappydogband.com
SUMMARY:The Happy Dog – LIVE at Hog's Breath Saloon
DESCRIPTION:
URL:https://thehappydogband.com/concert/the-happy-dog-live-at-hogs-breath-saloon-10/
LOCATION:Hog’s Breath Saloon\, 400 Front Street\, Key West\, FL\, 33040\, United States
ATTACH;FMTTYPE=image/jpeg:https://thehappydogband.com/wp-content/uploads/2017/06/hogs-breath.jpg
END:VEVENT
BEGIN:VEVENT
DTSTART;TZID=America/New_York:20170702T170000
DTEND;TZID=America/New_York:20170702T210000
DTSTAMP:20260422T212512
CREATED:20170629T174458Z
LAST-MODIFIED:20170629T174458Z
UID:794-1499014800-1499029200@thehappydogband.com
SUMMARY:The Happy Dog – LIVE at Green Parrot
DESCRIPTION:
URL:https://thehappydogband.com/concert/the-happy-dog-live-at-green-parrot-22/
LOCATION:Green Parrot\, 601 Whitehead Street\, Key West\, FL\, 33040\, United States
ATTACH;FMTTYPE=image/jpeg:https://thehappydogband.com/wp-content/uploads/2016/08/green-parrot.jpg
END:VEVENT
BEGIN:VEVENT
DTSTART;TZID=America/New_York:20170701T150000
DTEND;TZID=America/New_York:20170701T190000
DTSTAMP:20260422T212512
CREATED:20170629T220607Z
LAST-MODIFIED:20170629T220607Z
UID:818-1498921200-1498935600@thehappydogband.com
SUMMARY:The Happy Dog – LIVE at Island Dogs
DESCRIPTION:
URL:https://thehappydogband.com/concert/the-happy-dog-live-at-island-dogs-5/
LOCATION:Island Dogs\, 505 Front Street\, Key West\, FL\, 33040\, United States
ATTACH;FMTTYPE=image/jpeg:https://thehappydogband.com/wp-content/uploads/2017/06/island-dogs-event-photo.jpg
END:VEVENT
BEGIN:VEVENT
DTSTART;TZID=America/New_York:20170629T160000
DTEND;TZID=America/New_York:20170629T190000
DTSTAMP:20260422T212512
CREATED:20170601T213743Z
LAST-MODIFIED:20170601T213743Z
UID:768-1498752000-1498762800@thehappydogband.com
SUMMARY:The Happy Dog – LIVE at Salty Angler
DESCRIPTION:
URL:https://thehappydogband.com/concert/the-happy-dog-live-at-salty-angler-34/
LOCATION:Salty Angler\, 1114 Duval Street\, Key West\, FL\, 33040\, United States
ATTACH;FMTTYPE=image/jpeg:https://thehappydogband.com/wp-content/uploads/2017/06/salty-angler-event-photo.jpg
END:VEVENT
BEGIN:VEVENT
DTSTART;TZID=America/New_York:20170629T040000
DTEND;TZID=America/New_York:20170629T130000
DTSTAMP:20260422T212512
CREATED:20170629T175150Z
LAST-MODIFIED:20170629T175200Z
UID:804-1498708800-1498741200@thehappydogband.com
SUMMARY:The Happy Dog – LIVE at Salty Angler
DESCRIPTION:
URL:https://thehappydogband.com/concert/the-happy-dog-live-at-salty-angler-37/
LOCATION:FL
ATTACH;FMTTYPE=image/jpeg:https://thehappydogband.com/wp-content/uploads/2017/06/salty-angler-event-photo.jpg
END:VEVENT
BEGIN:VEVENT
DTSTART;TZID=America/New_York:20170628T170000
DTEND;TZID=America/New_York:20170628T210000
DTSTAMP:20260422T212512
CREATED:20170601T215728Z
LAST-MODIFIED:20170601T223420Z
UID:784-1498669200-1498683600@thehappydogband.com
SUMMARY:The Happy Dog – LIVE at Green Parrot
DESCRIPTION:
URL:https://thehappydogband.com/concert/the-happy-dog-live-at-green-parrot-21/
LOCATION:Green Parrot\, 601 Whitehead Street\, Key West\, FL\, 33040\, United States
ATTACH;FMTTYPE=image/jpeg:https://thehappydogband.com/wp-content/uploads/2016/08/green-parrot.jpg
END:VEVENT
BEGIN:VEVENT
DTSTART;TZID=America/New_York:20170627T150000
DTEND;TZID=America/New_York:20170627T170000
DTSTAMP:20260422T212512
CREATED:20170601T213241Z
LAST-MODIFIED:20170601T213241Z
UID:759-1498575600-1498582800@thehappydogband.com
SUMMARY:The Happy Dog – LIVE at Sunset Pier
DESCRIPTION:
URL:https://thehappydogband.com/concert/the-happy-dog-live-at-sunset-pier-87/
LOCATION:Sunset Pier at Ocean Key House\, 0 Duval Street\, Key West\, FL\, 33040\, United States
ATTACH;FMTTYPE=image/jpeg:https://thehappydogband.com/wp-content/uploads/2017/05/sunset-pier-calendar-photo.jpg
END:VEVENT
BEGIN:VEVENT
DTSTART;TZID=America/New_York:20170624T170000
DTEND;TZID=America/New_York:20170624T200000
DTSTAMP:20260422T212512
CREATED:20170601T215324Z
LAST-MODIFIED:20170601T215324Z
UID:778-1498323600-1498334400@thehappydogband.com
SUMMARY:The Happy Dog – LIVE at The Hurricane Grill
DESCRIPTION:
URL:https://thehappydogband.com/concert/the-happy-dog-live-at-the-hurricane-grill-3/
LOCATION:The Hurricane Grill\, 4650 Overseas Highway\, Marathon\, FL\, 33050\, United States
ATTACH;FMTTYPE=image/jpeg:https://thehappydogband.com/wp-content/uploads/2017/06/squid-event-photo.jpg
END:VEVENT
BEGIN:VEVENT
DTSTART;TZID=America/New_York:20170623T170000
DTEND;TZID=America/New_York:20170623T200000
DTSTAMP:20260422T212512
CREATED:20170601T215242Z
LAST-MODIFIED:20170601T215242Z
UID:775-1498237200-1498248000@thehappydogband.com
SUMMARY:The Happy Dog – LIVE at The Hurricane Grill
DESCRIPTION:
URL:https://thehappydogband.com/concert/the-happy-dog-live-at-the-hurricane-grill-2/
LOCATION:The Hurricane Grill\, 4650 Overseas Highway\, Marathon\, FL\, 33050\, United States
ATTACH;FMTTYPE=image/jpeg:https://thehappydogband.com/wp-content/uploads/2017/06/squid-event-photo.jpg
END:VEVENT
END:VCALENDAR