BEGIN:VCALENDAR
VERSION:2.0
PRODID:-//The Happy Dog - ECPv6.3.7//NONSGML v1.0//EN
CALSCALE:GREGORIAN
METHOD:PUBLISH
X-WR-CALNAME:The Happy Dog
X-ORIGINAL-URL:https://thehappydogband.com
X-WR-CALDESC:Events for The Happy Dog
REFRESH-INTERVAL;VALUE=DURATION:PT1H
X-Robots-Tag:noindex
X-PUBLISHED-TTL:PT1H
BEGIN:VTIMEZONE
TZID:America/New_York
BEGIN:DAYLIGHT
TZOFFSETFROM:-0500
TZOFFSETTO:-0400
TZNAME:EDT
DTSTART:20170312T070000
END:DAYLIGHT
BEGIN:STANDARD
TZOFFSETFROM:-0400
TZOFFSETTO:-0500
TZNAME:EST
DTSTART:20171105T060000
END:STANDARD
END:VTIMEZONE
BEGIN:VEVENT
DTSTART;TZID=America/New_York:20170523T150000
DTEND;TZID=America/New_York:20170523T163000
DTSTAMP:20260422T230636
CREATED:20170503T183405Z
LAST-MODIFIED:20170503T183405Z
UID:728-1495551600-1495557000@thehappydogband.com
SUMMARY:The Happy Dog - LIVE at Sunset Pier
DESCRIPTION:
URL:https://thehappydogband.com/concert/the-happy-dog-live-at-sunset-pier-82/
LOCATION:Sunset Pier at Ocean Key House\, 0 Duval Street\, Key West\, FL\, 33040\, United States
ATTACH;FMTTYPE=image/jpeg:https://thehappydogband.com/wp-content/uploads/2017/05/sunset-pier-calendar-photo.jpg
END:VEVENT
BEGIN:VEVENT
DTSTART;TZID=America/New_York:20170522T133000
DTEND;TZID=America/New_York:20170522T173000
DTSTAMP:20260422T230636
CREATED:20170503T182527Z
LAST-MODIFIED:20170503T182527Z
UID:726-1495459800-1495474200@thehappydogband.com
SUMMARY:The Happy Dog - LIVE at Sloppy Joe's
DESCRIPTION:
URL:https://thehappydogband.com/concert/the-happy-dog-live-at-sloppy-joes-10/
LOCATION:Sloppy Joe’s\, 201 Duval Street\, Key West\, FL\, 33040\, United States
ATTACH;FMTTYPE=image/jpeg:https://thehappydogband.com/wp-content/uploads/2016/08/sloppy-joes-1.jpg
END:VEVENT
BEGIN:VEVENT
DTSTART;TZID=America/New_York:20170521T160000
DTEND;TZID=America/New_York:20170521T190000
DTSTAMP:20260422T230636
CREATED:20170503T182417Z
LAST-MODIFIED:20170503T182417Z
UID:724-1495382400-1495393200@thehappydogband.com
SUMMARY:The Happy Dog - LIVE at Mangoes
DESCRIPTION:
URL:https://thehappydogband.com/concert/the-happy-dog-live-at-mangoes-12/
LOCATION:Mangoes\, 700 Duval Street\, Key West\, FL\, 33040\, United States
ATTACH;FMTTYPE=image/jpeg:https://thehappydogband.com/wp-content/uploads/2017/03/mangoes.jpg
END:VEVENT
BEGIN:VEVENT
DTSTART;TZID=America/New_York:20170520T150000
DTEND;TZID=America/New_York:20170520T190000
DTSTAMP:20260422T230636
CREATED:20170503T182333Z
LAST-MODIFIED:20170503T182333Z
UID:722-1495292400-1495306800@thehappydogband.com
SUMMARY:The Happy Dog - LIVE at Island Dogs
DESCRIPTION:
URL:https://thehappydogband.com/concert/the-happy-dog-live-at-island-dogs-2/
LOCATION:Island Dogs\, 505 Front Street\, Key West\, FL\, 33040\, United States
ATTACH;FMTTYPE=image/gif:https://thehappydogband.com/wp-content/uploads/2016/07/website-logo-lotus4.gif
END:VEVENT
BEGIN:VEVENT
DTSTART;TZID=America/New_York:20170519T160000
DTEND;TZID=America/New_York:20170519T190000
DTSTAMP:20260422T230636
CREATED:20170503T182243Z
LAST-MODIFIED:20170503T182243Z
UID:720-1495209600-1495220400@thehappydogband.com
SUMMARY:The Happy Dog - LIVE at BITE
DESCRIPTION:
URL:https://thehappydogband.com/concert/the-happy-dog-live-at-bite-11/
LOCATION:Bite\, 920 Caroline Street\, Key West\, FL\, 33040\, United States
ATTACH;FMTTYPE=image/jpeg:https://thehappydogband.com/wp-content/uploads/2017/03/bite-key-west.jpg
END:VEVENT
BEGIN:VEVENT
DTSTART;TZID=America/New_York:20170518T160000
DTEND;TZID=America/New_York:20170518T190000
DTSTAMP:20260422T230636
CREATED:20170503T182200Z
LAST-MODIFIED:20170503T182200Z
UID:718-1495123200-1495134000@thehappydogband.com
SUMMARY:The Happy Dog - LIVE at Salt Angler
DESCRIPTION:
URL:https://thehappydogband.com/concert/the-happy-dog-live-at-salt-angler/
LOCATION:Salty Angler\, 1114 Duval Street\, Key West\, FL\, 33040\, United States
ATTACH;FMTTYPE=image/jpeg:https://thehappydogband.com/wp-content/uploads/2017/03/mangoes.jpg
END:VEVENT
BEGIN:VEVENT
DTSTART;TZID=America/New_York:20170516T150000
DTEND;TZID=America/New_York:20170516T163000
DTSTAMP:20260422T230636
CREATED:20170503T182017Z
LAST-MODIFIED:20170503T182017Z
UID:715-1494946800-1494952200@thehappydogband.com
SUMMARY:The Happy Dog - LIVE at Sunset Pier
DESCRIPTION:
URL:https://thehappydogband.com/concert/the-happy-dog-live-at-sunset-pier-81/
LOCATION:Sunset Pier at Ocean Key House\, 0 Duval Street\, Key West\, FL\, 33040\, United States
ATTACH;FMTTYPE=image/jpeg:https://thehappydogband.com/wp-content/uploads/2017/05/sunset-pier-calendar-photo.jpg
END:VEVENT
BEGIN:VEVENT
DTSTART;TZID=America/New_York:20170514T140000
DTEND;TZID=America/New_York:20170514T180000
DTSTAMP:20260422T230636
CREATED:20170503T181227Z
LAST-MODIFIED:20170503T181227Z
UID:712-1494770400-1494784800@thehappydogband.com
SUMMARY:The Happy Dog - LIVE at Boondocks
DESCRIPTION:
URL:https://thehappydogband.com/concert/the-happy-dog-live-at-boondocks-4/
LOCATION:Boondocks\, 27205 Overseas Highway\, Ramrod Key\, FL\, 33042\, United States
ATTACH;FMTTYPE=image/jpeg:https://thehappydogband.com/wp-content/uploads/2017/05/boondocks-calendar-photo.jpg
END:VEVENT
BEGIN:VEVENT
DTSTART;TZID=America/New_York:20170512T160000
DTEND;TZID=America/New_York:20170512T160000
DTSTAMP:20260422T230636
CREATED:20170503T173256Z
LAST-MODIFIED:20170503T173256Z
UID:710-1494604800-1494604800@thehappydogband.com
SUMMARY:The Happy Dog - LIVE at BITE
DESCRIPTION:
URL:https://thehappydogband.com/concert/the-happy-dog-live-at-bite-10/
LOCATION:Bite\, 920 Caroline Street\, Key West\, FL\, 33040\, United States
ATTACH;FMTTYPE=image/jpeg:https://thehappydogband.com/wp-content/uploads/2017/03/bite-key-west.jpg
END:VEVENT
BEGIN:VEVENT
DTSTART;TZID=America/New_York:20170512T063000
DTEND;TZID=America/New_York:20170512T093000
DTSTAMP:20260422T230636
CREATED:20170503T173213Z
LAST-MODIFIED:20170503T173213Z
UID:708-1494570600-1494581400@thehappydogband.com
SUMMARY:The Happy Dog - LIVE at Blue Heaven
DESCRIPTION:
URL:https://thehappydogband.com/concert/the-happy-dog-live-at-blue-heaven-20/
LOCATION:Blue Heaven\, 729 Thomas Street\, Key West\, FL\, 33040\, United States
ATTACH;FMTTYPE=image/gif:https://thehappydogband.com/wp-content/uploads/2016/07/website-logo-lotus4.gif
END:VEVENT
BEGIN:VEVENT
DTSTART;TZID=America/New_York:20170511T160000
DTEND;TZID=America/New_York:20170511T190000
DTSTAMP:20260422T230636
CREATED:20170503T172302Z
LAST-MODIFIED:20170503T172302Z
UID:706-1494518400-1494529200@thehappydogband.com
SUMMARY:The Happy Dog - LIVE at Salty Angler
DESCRIPTION:
URL:https://thehappydogband.com/concert/the-happy-dog-live-at-salty-angler-28/
LOCATION:Salty Angler\, 1114 Duval Street\, Key West\, FL\, 33040\, United States
ATTACH;FMTTYPE=image/jpeg:https://thehappydogband.com/wp-content/uploads/2016/10/salty-angler.jpg
END:VEVENT
BEGIN:VEVENT
DTSTART;TZID=America/New_York:20170510T160000
DTEND;TZID=America/New_York:20170510T190000
DTSTAMP:20260422T230636
CREATED:20170503T172123Z
LAST-MODIFIED:20170503T172123Z
UID:703-1494432000-1494442800@thehappydogband.com
SUMMARY:The Happy Dog – LIVE at Grunts
DESCRIPTION:
URL:https://thehappydogband.com/concert/the-happy-dog-live-at-grunts/
LOCATION:Hank’s (formerly Grunts)\, 409 Caroline Street\, Key West\, FL\, 33040\, United States
ATTACH;FMTTYPE=image/gif:https://thehappydogband.com/wp-content/uploads/2016/07/website-logo-lotus4.gif
END:VEVENT
BEGIN:VEVENT
DTSTART;TZID=America/New_York:20170509T150000
DTEND;TZID=America/New_York:20170509T163000
DTSTAMP:20260422T230636
CREATED:20170503T171923Z
LAST-MODIFIED:20170503T171923Z
UID:701-1494342000-1494347400@thehappydogband.com
SUMMARY:The Happy Dog – LIVE at Sunset Pier
DESCRIPTION:
URL:https://thehappydogband.com/concert/the-happy-dog-live-at-sunset-pier-80/
LOCATION:Sunset Pier at Ocean Key House\, 0 Duval Street\, Key West\, FL\, 33040\, United States
ATTACH;FMTTYPE=image/jpeg:https://thehappydogband.com/wp-content/uploads/2016/08/sunset-pier.jpg
END:VEVENT
BEGIN:VEVENT
DTSTART;TZID=America/New_York:20170506T150000
DTEND;TZID=America/New_York:20170506T190000
DTSTAMP:20260422T230636
CREATED:20170503T170900Z
LAST-MODIFIED:20170503T170900Z
UID:695-1494082800-1494097200@thehappydogband.com
SUMMARY:The Happy Dog – LIVE at Island Dogs
DESCRIPTION:
URL:https://thehappydogband.com/concert/the-happy-dog-live-at-island-dogs/
LOCATION:Island Dogs\, 505 Front Street\, Key West\, FL\, 33040\, United States
ATTACH;FMTTYPE=image/gif:https://thehappydogband.com/wp-content/uploads/2016/07/website-logo-lotus4.gif
END:VEVENT
BEGIN:VEVENT
DTSTART;TZID=America/New_York:20170505T160000
DTEND;TZID=America/New_York:20170505T190000
DTSTAMP:20260422T230636
CREATED:20170503T170422Z
LAST-MODIFIED:20170503T170422Z
UID:693-1494000000-1494010800@thehappydogband.com
SUMMARY:The Happy Dog – LIVE at BITE
DESCRIPTION:
URL:https://thehappydogband.com/concert/the-happy-dog-live-at-bite-9/
LOCATION:Bite\, 920 Caroline Street\, Key West\, FL\, 33040\, United States
ATTACH;FMTTYPE=image/jpeg:https://thehappydogband.com/wp-content/uploads/2017/03/bite-key-west.jpg
END:VEVENT
BEGIN:VEVENT
DTSTART;TZID=America/New_York:20170504T160000
DTEND;TZID=America/New_York:20170504T190000
DTSTAMP:20260422T230636
CREATED:20170503T170304Z
LAST-MODIFIED:20170503T171118Z
UID:691-1493913600-1493924400@thehappydogband.com
SUMMARY:The Happy Dog – LIVE at Salty Angler
DESCRIPTION:
URL:https://thehappydogband.com/concert/the-happy-dog-live-at-salty-angler-27/
LOCATION:Salty Angler\, 1114 Duval Street\, Key West\, FL\, 33040\, United States
ATTACH;FMTTYPE=image/jpeg:https://thehappydogband.com/wp-content/uploads/2016/10/salty-angler.jpg
END:VEVENT
BEGIN:VEVENT
DTSTART;TZID=America/New_York:20170503T133000
DTEND;TZID=America/New_York:20170503T150000
DTSTAMP:20260422T230636
CREATED:20170503T165452Z
LAST-MODIFIED:20170503T165452Z
UID:689-1493818200-1493823600@thehappydogband.com
SUMMARY:The Happy Dog – LIVE at Green Parrot "Soundcheck"
DESCRIPTION:
URL:https://thehappydogband.com/concert/the-happy-dog-live-at-green-parrot-soundcheck-20/
LOCATION:Green Parrot\, 601 Whitehead Street\, Key West\, FL\, 33040\, United States
ATTACH;FMTTYPE=image/jpeg:https://thehappydogband.com/wp-content/uploads/2016/08/green-parrot.jpg
END:VEVENT
BEGIN:VEVENT
DTSTART;TZID=America/New_York:20170502T150000
DTEND;TZID=America/New_York:20170502T163000
DTSTAMP:20260422T230636
CREATED:20170503T165217Z
LAST-MODIFIED:20170503T165217Z
UID:687-1493737200-1493742600@thehappydogband.com
SUMMARY:The Happy Dog – LIVE at Sunset Pier
DESCRIPTION:
URL:https://thehappydogband.com/concert/the-happy-dog-live-at-sunset-pier-79/
LOCATION:Sunset Pier at Ocean Key House\, 0 Duval Street\, Key West\, FL\, 33040\, United States
ATTACH;FMTTYPE=image/jpeg:https://thehappydogband.com/wp-content/uploads/2016/08/sunset-pier.jpg
END:VEVENT
BEGIN:VEVENT
DTSTART;TZID=America/New_York:20170430T160000
DTEND;TZID=America/New_York:20170430T190000
DTSTAMP:20260422T230636
CREATED:20170330T213158Z
LAST-MODIFIED:20170330T213158Z
UID:684-1493568000-1493578800@thehappydogband.com
SUMMARY:The Happy Dog – LIVE at Mangoes
DESCRIPTION:
URL:https://thehappydogband.com/concert/the-happy-dog-live-at-mangoes-10/
LOCATION:Mangoes\, 700 Duval Street\, Key West\, FL\, 33040\, United States
ATTACH;FMTTYPE=image/jpeg:https://thehappydogband.com/wp-content/uploads/2017/03/mangoes.jpg
END:VEVENT
BEGIN:VEVENT
DTSTART;TZID=America/New_York:20170428T160000
DTEND;TZID=America/New_York:20170428T190000
DTSTAMP:20260422T230636
CREATED:20170330T213124Z
LAST-MODIFIED:20170330T213124Z
UID:682-1493395200-1493406000@thehappydogband.com
SUMMARY:The Happy Dog – LIVE at BITE
DESCRIPTION:
URL:https://thehappydogband.com/concert/the-happy-dog-live-at-bite-8/
LOCATION:Bite\, 920 Caroline Street\, Key West\, FL\, 33040\, United States
ATTACH;FMTTYPE=image/jpeg:https://thehappydogband.com/wp-content/uploads/2017/03/bite-key-west.jpg
END:VEVENT
BEGIN:VEVENT
DTSTART;TZID=America/New_York:20170427T160000
DTEND;TZID=America/New_York:20170427T190000
DTSTAMP:20260422T230636
CREATED:20170330T213041Z
LAST-MODIFIED:20170330T213041Z
UID:680-1493308800-1493319600@thehappydogband.com
SUMMARY:The Happy Dog – LIVE at Salty Angler
DESCRIPTION:
URL:https://thehappydogband.com/concert/the-happy-dog-live-at-salty-angler-26/
LOCATION:Salty Angler\, 1114 Duval Street\, Key West\, FL\, 33040\, United States
ATTACH;FMTTYPE=image/jpeg:https://thehappydogband.com/wp-content/uploads/2016/10/salty-angler.jpg
END:VEVENT
BEGIN:VEVENT
DTSTART;TZID=America/New_York:20170426T170000
DTEND;TZID=America/New_York:20170426T210000
DTSTAMP:20260422T230636
CREATED:20170330T212936Z
LAST-MODIFIED:20170330T212936Z
UID:678-1493226000-1493240400@thehappydogband.com
SUMMARY:The Happy Dog – LIVE at Green Parrot
DESCRIPTION:
URL:https://thehappydogband.com/concert/the-happy-dog-live-at-green-parrot-19/
LOCATION:Green Parrot\, 601 Whitehead Street\, Key West\, FL\, 33040\, United States
ATTACH;FMTTYPE=image/jpeg:https://thehappydogband.com/wp-content/uploads/2016/08/green-parrot.jpg
END:VEVENT
BEGIN:VEVENT
DTSTART;TZID=America/New_York:20170425T143000
DTEND;TZID=America/New_York:20170425T163000
DTSTAMP:20260422T230636
CREATED:20170330T212726Z
LAST-MODIFIED:20170330T212726Z
UID:674-1493130600-1493137800@thehappydogband.com
SUMMARY:The Happy Dog – LIVE at Sunset Pier
DESCRIPTION:
URL:https://thehappydogband.com/concert/the-happy-dog-live-at-sunset-pier-78/
LOCATION:Sunset Pier at Ocean Key House\, 0 Duval Street\, Key West\, FL\, 33040\, United States
ATTACH;FMTTYPE=image/jpeg:https://thehappydogband.com/wp-content/uploads/2016/08/sunset-pier2.jpg
END:VEVENT
BEGIN:VEVENT
DTSTART;TZID=America/New_York:20170423T160000
DTEND;TZID=America/New_York:20170423T190000
DTSTAMP:20260422T230636
CREATED:20170330T212646Z
LAST-MODIFIED:20170330T212646Z
UID:672-1492963200-1492974000@thehappydogband.com
SUMMARY:The Happy Dog – LIVE at Mangoes
DESCRIPTION:
URL:https://thehappydogband.com/concert/the-happy-dog-live-at-mangoes-9/
LOCATION:Mangoes\, 700 Duval Street\, Key West\, FL\, 33040\, United States
ATTACH;FMTTYPE=image/jpeg:https://thehappydogband.com/wp-content/uploads/2017/03/mangoes.jpg
END:VEVENT
BEGIN:VEVENT
DTSTART;TZID=America/New_York:20170422T150000
DTEND;TZID=America/New_York:20170422T190000
DTSTAMP:20260422T230636
CREATED:20170330T212602Z
LAST-MODIFIED:20170330T212602Z
UID:670-1492873200-1492887600@thehappydogband.com
SUMMARY:The Happy Dog – LIVE at Boondock's
DESCRIPTION:
URL:https://thehappydogband.com/concert/the-happy-dog-live-at-boondocks-7/
LOCATION:Boondocks\, 27205 Overseas Highway\, Ramrod Key\, FL\, 33042\, United States
ATTACH;FMTTYPE=image/jpeg:https://thehappydogband.com/wp-content/uploads/2016/12/boondocks.jpg
END:VEVENT
BEGIN:VEVENT
DTSTART;TZID=America/New_York:20170421T150000
DTEND;TZID=America/New_York:20170421T190000
DTSTAMP:20260422T230636
CREATED:20170330T212504Z
LAST-MODIFIED:20170330T212524Z
UID:668-1492786800-1492801200@thehappydogband.com
SUMMARY:The Happy Dog – LIVE at Boondock's
DESCRIPTION:
URL:https://thehappydogband.com/concert/the-happy-dog-live-at-boondocks-6/
LOCATION:Boondocks\, 27205 Overseas Highway\, Ramrod Key\, FL\, 33042\, United States
ATTACH;FMTTYPE=image/jpeg:https://thehappydogband.com/wp-content/uploads/2016/12/boondocks.jpg
END:VEVENT
BEGIN:VEVENT
DTSTART;TZID=America/New_York:20170420T170000
DTEND;TZID=America/New_York:20170420T194500
DTSTAMP:20260422T230636
CREATED:20170330T212052Z
LAST-MODIFIED:20170330T212052Z
UID:665-1492707600-1492717500@thehappydogband.com
SUMMARY:The Happy Dog – LIVE at Rick's
DESCRIPTION:
URL:https://thehappydogband.com/concert/the-happy-dog-live-at-ricks/
LOCATION:Rick’s\, 202 Duval Street\, Key West\, FL\, 33040\, United States
ATTACH;FMTTYPE=image/gif:https://thehappydogband.com/wp-content/uploads/2016/07/website-logo-lotus3.gif
END:VEVENT
BEGIN:VEVENT
DTSTART;TZID=America/New_York:20170419T140000
DTEND;TZID=America/New_York:20170419T170000
DTSTAMP:20260422T230636
CREATED:20170330T211931Z
LAST-MODIFIED:20170330T211931Z
UID:663-1492610400-1492621200@thehappydogband.com
SUMMARY:The Happy Dog – LIVE at Blue Heaven
DESCRIPTION:
URL:https://thehappydogband.com/concert/the-happy-dog-live-at-blue-heaven-19/
LOCATION:Blue Heaven\, 729 Thomas Street\, Key West\, FL\, 33040\, United States
ATTACH;FMTTYPE=image/jpeg:https://thehappydogband.com/wp-content/uploads/2015/09/happy-dog-slide-6.jpg
END:VEVENT
BEGIN:VEVENT
DTSTART;TZID=America/New_York:20170418T143000
DTEND;TZID=America/New_York:20170418T163000
DTSTAMP:20260422T230636
CREATED:20170330T211838Z
LAST-MODIFIED:20170330T211838Z
UID:661-1492525800-1492533000@thehappydogband.com
SUMMARY:The Happy Dog – LIVE at Sunset Pier
DESCRIPTION:
URL:https://thehappydogband.com/concert/the-happy-dog-live-at-sunset-pier-77/
LOCATION:Sunset Pier at Ocean Key House\, 0 Duval Street\, Key West\, FL\, 33040\, United States
ATTACH;FMTTYPE=image/jpeg:https://thehappydogband.com/wp-content/uploads/2016/08/sunset-pier2.jpg
END:VEVENT
BEGIN:VEVENT
DTSTART;TZID=America/New_York:20170416T160000
DTEND;TZID=America/New_York:20170416T190000
DTSTAMP:20260422T230636
CREATED:20170330T211753Z
LAST-MODIFIED:20170330T211753Z
UID:659-1492358400-1492369200@thehappydogband.com
SUMMARY:The Happy Dog – LIVE at Mangoes
DESCRIPTION:
URL:https://thehappydogband.com/concert/the-happy-dog-live-at-mangoes-8/
LOCATION:Mangoes\, 700 Duval Street\, Key West\, FL\, 33040\, United States
ATTACH;FMTTYPE=image/jpeg:https://thehappydogband.com/wp-content/uploads/2017/03/mangoes.jpg
END:VEVENT
END:VCALENDAR