BEGIN:VCALENDAR
VERSION:2.0
PRODID:-//The Happy Dog - ECPv6.3.7//NONSGML v1.0//EN
CALSCALE:GREGORIAN
METHOD:PUBLISH
X-WR-CALNAME:The Happy Dog
X-ORIGINAL-URL:https://thehappydogband.com
X-WR-CALDESC:Events for The Happy Dog
REFRESH-INTERVAL;VALUE=DURATION:PT1H
X-Robots-Tag:noindex
X-PUBLISHED-TTL:PT1H
BEGIN:VTIMEZONE
TZID:America/New_York
BEGIN:DAYLIGHT
TZOFFSETFROM:-0500
TZOFFSETTO:-0400
TZNAME:EDT
DTSTART:20170312T070000
END:DAYLIGHT
BEGIN:STANDARD
TZOFFSETFROM:-0400
TZOFFSETTO:-0500
TZNAME:EST
DTSTART:20171105T060000
END:STANDARD
END:VTIMEZONE
BEGIN:VEVENT
DTSTART;TZID=America/New_York:20170316T160000
DTEND;TZID=America/New_York:20170316T190000
DTSTAMP:20260423T002915
CREATED:20170303T010329Z
LAST-MODIFIED:20170303T010329Z
UID:615-1489680000-1489690800@thehappydogband.com
SUMMARY:The Happy Dog – LIVE at Salty Angler
DESCRIPTION:
URL:https://thehappydogband.com/concert/the-happy-dog-live-at-salty-angler-21/
LOCATION:Salty Angler\, 1114 Duval Street\, Key West\, FL\, 33040\, United States
ATTACH;FMTTYPE=image/jpeg:https://thehappydogband.com/wp-content/uploads/2016/10/salty-angler.jpg
END:VEVENT
BEGIN:VEVENT
DTSTART;TZID=America/New_York:20170314T143000
DTEND;TZID=America/New_York:20170314T163000
DTSTAMP:20260423T002915
CREATED:20170303T010239Z
LAST-MODIFIED:20170303T020415Z
UID:613-1489501800-1489509000@thehappydogband.com
SUMMARY:The Happy Dog – LIVE at Sunset Pier
DESCRIPTION:
URL:https://thehappydogband.com/concert/the-happy-dog-live-at-sunset-pier-72/
LOCATION:Sunset Pier at Ocean Key House\, 0 Duval Street\, Key West\, FL\, 33040\, United States
ATTACH;FMTTYPE=image/jpeg:https://thehappydogband.com/wp-content/uploads/2016/09/20160614_194613.jpg
END:VEVENT
BEGIN:VEVENT
DTSTART;TZID=America/New_York:20170310T150000
DTEND;TZID=America/New_York:20170310T180000
DTSTAMP:20260423T002915
CREATED:20170303T010125Z
LAST-MODIFIED:20170303T010125Z
UID:611-1489158000-1489168800@thehappydogband.com
SUMMARY:The Happy Dog – LIVE at BITE
DESCRIPTION:
URL:https://thehappydogband.com/concert/the-happy-dog-live-at-bite-2/
LOCATION:Bite\, 920 Caroline Street\, Key West\, FL\, 33040\, United States
ATTACH;FMTTYPE=image/jpeg:https://thehappydogband.com/wp-content/uploads/2017/03/bite-key-west.jpg
END:VEVENT
BEGIN:VEVENT
DTSTART;TZID=America/New_York:20170309T150000
DTEND;TZID=America/New_York:20170309T180000
DTSTAMP:20260423T002915
CREATED:20170303T005954Z
LAST-MODIFIED:20170303T005954Z
UID:609-1489071600-1489082400@thehappydogband.com
SUMMARY:The Happy Dog – LIVE at Salty Angler
DESCRIPTION:
URL:https://thehappydogband.com/concert/the-happy-dog-live-at-salty-angler-20/
LOCATION:Salty Angler\, 1114 Duval Street\, Key West\, FL\, 33040\, United States
ATTACH;FMTTYPE=image/jpeg:https://thehappydogband.com/wp-content/uploads/2016/10/salty-angler.jpg
END:VEVENT
BEGIN:VEVENT
DTSTART;TZID=America/New_York:20170307T123000
DTEND;TZID=America/New_York:20170307T143000
DTSTAMP:20260423T002915
CREATED:20170303T005840Z
LAST-MODIFIED:20170303T020505Z
UID:607-1488889800-1488897000@thehappydogband.com
SUMMARY:The Happy Dog – LIVE at Sunset Pier
DESCRIPTION:
URL:https://thehappydogband.com/concert/the-happy-dog-live-at-sunset-pier-71/
LOCATION:Sunset Pier at Ocean Key House\, 0 Duval Street\, Key West\, FL\, 33040\, United States
ATTACH;FMTTYPE=image/jpeg:https://thehappydogband.com/wp-content/uploads/2016/08/sunset-pier2.jpg
END:VEVENT
BEGIN:VEVENT
DTSTART;TZID=America/New_York:20170305T160000
DTEND;TZID=America/New_York:20170305T190000
DTSTAMP:20260423T002915
CREATED:20170303T005734Z
LAST-MODIFIED:20170303T005734Z
UID:604-1488729600-1488740400@thehappydogband.com
SUMMARY:The Happy Dog – LIVE at Mangoes
DESCRIPTION:
URL:https://thehappydogband.com/concert/the-happy-dog-live-at-mangoes-4/
LOCATION:Mangoes\, 700 Duval Street\, Key West\, FL\, 33040\, United States
ATTACH;FMTTYPE=image/jpeg:https://thehappydogband.com/wp-content/uploads/2017/03/mangoes.jpg
END:VEVENT
BEGIN:VEVENT
DTSTART;TZID=America/New_York:20170304T150000
DTEND;TZID=America/New_York:20170304T180000
DTSTAMP:20260423T002915
CREATED:20161202T021958Z
LAST-MODIFIED:20161202T021958Z
UID:491-1488639600-1488650400@thehappydogband.com
SUMMARY:The Happy Dog – LIVE at Boondocks
DESCRIPTION:
URL:https://thehappydogband.com/concert/the-happy-dog-live-at-boondocks-3/
LOCATION:Boondocks\, 27205 Overseas Highway\, Ramrod Key\, FL\, 33042\, United States
ATTACH;FMTTYPE=image/jpeg:https://thehappydogband.com/wp-content/uploads/2016/12/boondocks.jpg
END:VEVENT
BEGIN:VEVENT
DTSTART;TZID=America/New_York:20170303T150000
DTEND;TZID=America/New_York:20170303T180000
DTSTAMP:20260423T002915
CREATED:20170303T005233Z
LAST-MODIFIED:20170303T005233Z
UID:601-1488553200-1488564000@thehappydogband.com
SUMMARY:The Happy Dog - LIVE at BITE
DESCRIPTION:
URL:https://thehappydogband.com/concert/the-happy-dog-live-at-bite/
LOCATION:Bite\, 920 Caroline Street\, Key West\, FL\, 33040\, United States
ATTACH;FMTTYPE=image/jpeg:https://thehappydogband.com/wp-content/uploads/2017/03/bite-key-west.jpg
END:VEVENT
BEGIN:VEVENT
DTSTART;TZID=America/New_York:20170302T150000
DTEND;TZID=America/New_York:20170302T180000
DTSTAMP:20260423T002915
CREATED:20170302T212451Z
LAST-MODIFIED:20170302T212451Z
UID:599-1488466800-1488477600@thehappydogband.com
SUMMARY:The Happy Dog – LIVE at Salty Angler
DESCRIPTION:
URL:https://thehappydogband.com/concert/the-happy-dog-live-at-salty-angler-19/
LOCATION:Salty Angler\, 1114 Duval Street\, Key West\, FL\, 33040\, United States
ATTACH;FMTTYPE=image/jpeg:https://thehappydogband.com/wp-content/uploads/2016/10/salty-angler.jpg
END:VEVENT
BEGIN:VEVENT
DTSTART;TZID=America/New_York:20170228T053000
DTEND;TZID=America/New_York:20170228T083000
DTSTAMP:20260423T002915
CREATED:20170202T045219Z
LAST-MODIFIED:20170202T045219Z
UID:593-1488259800-1488270600@thehappydogband.com
SUMMARY:The Happy Dog – LIVE at Blue Heaven
DESCRIPTION:
URL:https://thehappydogband.com/concert/the-happy-dog-live-at-blue-heaven-18/
LOCATION:Blue Heaven\, 729 Thomas Street\, Key West\, FL\, 33040\, United States
ATTACH;FMTTYPE=image/jpeg:https://thehappydogband.com/wp-content/uploads/2015/09/happy-dog-slide-6.jpg
END:VEVENT
BEGIN:VEVENT
DTSTART;TZID=America/New_York:20170226T130000
DTEND;TZID=America/New_York:20170226T170000
DTSTAMP:20260423T002915
CREATED:20170202T043139Z
LAST-MODIFIED:20170202T043139Z
UID:573-1488114000-1488128400@thehappydogband.com
SUMMARY:The Happy Dog – LIVE at Conch Republic Seafood Co.
DESCRIPTION:
URL:https://thehappydogband.com/concert/the-happy-dog-live-at-conch-republic-seafood-co-9/
LOCATION:Conch Republic Seafood Co.\, 631 Greene Street\, Key West\, FL\, 33040\, United States
ATTACH;FMTTYPE=image/jpeg:https://thehappydogband.com/wp-content/uploads/2016/12/conch-republic.jpg
END:VEVENT
BEGIN:VEVENT
DTSTART;TZID=America/New_York:20170224T123000
DTEND;TZID=America/New_York:20170224T143000
DTSTAMP:20260423T002915
CREATED:20170202T045103Z
LAST-MODIFIED:20170220T200841Z
UID:591-1487939400-1487946600@thehappydogband.com
SUMMARY:The Happy Dog – LIVE at Sunset Pier
DESCRIPTION:
URL:https://thehappydogband.com/concert/the-happy-dog-live-at-sunset-pier-70/
LOCATION:Blue Heaven\, 729 Thomas Street\, Key West\, FL\, 33040\, United States
ATTACH;FMTTYPE=image/jpeg:https://thehappydogband.com/wp-content/uploads/2016/08/sunset-pier2.jpg
END:VEVENT
BEGIN:VEVENT
DTSTART;TZID=America/New_York:20170224T053000
DTEND;TZID=America/New_York:20170224T083000
DTSTAMP:20260423T002915
CREATED:20170202T044914Z
LAST-MODIFIED:20170202T044914Z
UID:589-1487914200-1487925000@thehappydogband.com
SUMMARY:The Happy Dog – LIVE at Blue Heaven
DESCRIPTION:
URL:https://thehappydogband.com/concert/the-happy-dog-live-at-blue-heaven-17/
LOCATION:Blue Heaven\, 729 Thomas Street\, Key West\, FL\, 33040\, United States
ATTACH;FMTTYPE=image/jpeg:https://thehappydogband.com/wp-content/uploads/2015/09/happy-dog-slide-6.jpg
END:VEVENT
BEGIN:VEVENT
DTSTART;TZID=America/New_York:20170223T150000
DTEND;TZID=America/New_York:20170223T180000
DTSTAMP:20260423T002915
CREATED:20170202T042029Z
LAST-MODIFIED:20170202T042029Z
UID:560-1487862000-1487872800@thehappydogband.com
SUMMARY:The Happy Dog – LIVE at Salty Angler
DESCRIPTION:
URL:https://thehappydogband.com/concert/the-happy-dog-live-at-salty-angler-17/
LOCATION:Salty Angler\, 1114 Duval Street\, Key West\, FL\, 33040\, United States
ATTACH;FMTTYPE=image/jpeg:https://thehappydogband.com/wp-content/uploads/2016/10/salty-angler.jpg
END:VEVENT
BEGIN:VEVENT
DTSTART;TZID=America/New_York:20170222T150000
DTEND;TZID=America/New_York:20170222T180000
DTSTAMP:20260423T002915
CREATED:20170202T044700Z
LAST-MODIFIED:20170202T044700Z
UID:586-1487775600-1487786400@thehappydogband.com
SUMMARY:The Happy Dog - LIVE at Mangoes
DESCRIPTION:
URL:https://thehappydogband.com/concert/the-happy-dog-live-at-mangoes-3/
LOCATION:Mangoes\, 700 Duval Street\, Key West\, FL\, 33040\, United States
ATTACH;FMTTYPE=image/gif:https://thehappydogband.com/wp-content/uploads/2016/07/website-logo-lotus4.gif
END:VEVENT
BEGIN:VEVENT
DTSTART;TZID=America/New_York:20170219T130000
DTEND;TZID=America/New_York:20170219T170000
DTSTAMP:20260423T002915
CREATED:20170202T043039Z
LAST-MODIFIED:20170202T043039Z
UID:571-1487509200-1487523600@thehappydogband.com
SUMMARY:The Happy Dog – LIVE at Conch Republic Seafood Co.
DESCRIPTION:
URL:https://thehappydogband.com/concert/the-happy-dog-live-at-conch-republic-seafood-co-8/
LOCATION:Conch Republic Seafood Co.\, 631 Greene Street\, Key West\, FL\, 33040\, United States
ATTACH;FMTTYPE=image/jpeg:https://thehappydogband.com/wp-content/uploads/2016/12/conch-republic.jpg
END:VEVENT
BEGIN:VEVENT
DTSTART;TZID=America/New_York:20170219T090000
DTEND;TZID=America/New_York:20170219T120000
DTSTAMP:20260423T002915
CREATED:20170217T054515Z
LAST-MODIFIED:20170217T054515Z
UID:596-1487494800-1487505600@thehappydogband.com
SUMMARY:The Happy Dog – LIVE at Salty Angler
DESCRIPTION:A celebration of Salty Angler’s expanded menu…tasty music\, drinks\, & food
URL:https://thehappydogband.com/concert/the-happy-dog-live-at-salty-angler-18/
LOCATION:Salty Angler\, 1114 Duval Street\, Key West\, FL\, 33040\, United States
ATTACH;FMTTYPE=image/jpeg:https://thehappydogband.com/wp-content/uploads/2016/10/salty-angler.jpg
END:VEVENT
BEGIN:VEVENT
DTSTART;TZID=America/New_York:20170218T150000
DTEND;TZID=America/New_York:20170218T180000
DTSTAMP:20260423T002915
CREATED:20170202T044532Z
LAST-MODIFIED:20170202T044732Z
UID:583-1487430000-1487440800@thehappydogband.com
SUMMARY:The Happy Dog - LIVE at Bite
DESCRIPTION:
URL:https://thehappydogband.com/concert/bite/
LOCATION:Bite\, 920 Caroline Street\, Key West\, FL\, 33040\, United States
ATTACH;FMTTYPE=image/gif:https://thehappydogband.com/wp-content/uploads/2016/07/website-logo-lotus4.gif
END:VEVENT
BEGIN:VEVENT
DTSTART;TZID=America/New_York:20170217T123000
DTEND;TZID=America/New_York:20170217T143000
DTSTAMP:20260423T002915
CREATED:20170202T044326Z
LAST-MODIFIED:20170202T044326Z
UID:581-1487334600-1487341800@thehappydogband.com
SUMMARY:The Happy Dog – LIVE at Sunset Pier
DESCRIPTION:
URL:https://thehappydogband.com/concert/the-happy-dog-live-at-sunset-pier-69/
LOCATION:Sunset Pier at Ocean Key House\, 0 Duval Street\, Key West\, FL\, 33040\, United States
ATTACH;FMTTYPE=image/jpeg:https://thehappydogband.com/wp-content/uploads/2016/08/sunset-pier2.jpg
END:VEVENT
BEGIN:VEVENT
DTSTART;TZID=America/New_York:20170216T150000
DTEND;TZID=America/New_York:20170216T180000
DTSTAMP:20260423T002915
CREATED:20170202T041937Z
LAST-MODIFIED:20170202T041937Z
UID:558-1487257200-1487268000@thehappydogband.com
SUMMARY:The Happy Dog – LIVE at Salty Angler
DESCRIPTION:
URL:https://thehappydogband.com/concert/the-happy-dog-live-at-salty-angler-16/
LOCATION:Salty Angler\, 1114 Duval Street\, Key West\, FL\, 33040\, United States
ATTACH;FMTTYPE=image/jpeg:https://thehappydogband.com/wp-content/uploads/2016/10/salty-angler.jpg
END:VEVENT
BEGIN:VEVENT
DTSTART;TZID=America/New_York:20170212T130000
DTEND;TZID=America/New_York:20170212T170000
DTSTAMP:20260423T002915
CREATED:20170202T042910Z
LAST-MODIFIED:20170202T042910Z
UID:569-1486904400-1486918800@thehappydogband.com
SUMMARY:The Happy Dog – LIVE at Conch Republic Seafood Co.
DESCRIPTION:
URL:https://thehappydogband.com/concert/the-happy-dog-live-at-conch-republic-seafood-co-7/
LOCATION:Conch Republic Seafood Co.\, 631 Greene Street\, Key West\, FL\, 33040\, United States
ATTACH;FMTTYPE=image/jpeg:https://thehappydogband.com/wp-content/uploads/2016/12/conch-republic.jpg
END:VEVENT
BEGIN:VEVENT
DTSTART;TZID=America/New_York:20170211T150000
DTEND;TZID=America/New_York:20170211T190000
DTSTAMP:20260423T002915
CREATED:20170202T044119Z
LAST-MODIFIED:20170202T044119Z
UID:579-1486825200-1486839600@thehappydogband.com
SUMMARY:The Happy Dog – LIVE at Overseas Pub & Grill
DESCRIPTION:
URL:https://thehappydogband.com/concert/the-happy-dog-live-at-overseas-pub-grill-2/
LOCATION:Overseas Pub & Grill\, 3574 Overseas Highway\, Marathon\, FL\, 33050\, United States
ATTACH;FMTTYPE=image/gif:https://thehappydogband.com/wp-content/uploads/2016/07/website-logo-lotus4.gif
END:VEVENT
BEGIN:VEVENT
DTSTART;TZID=America/New_York:20170210T053000
DTEND;TZID=America/New_York:20170210T083000
DTSTAMP:20260423T002915
CREATED:20170202T043834Z
LAST-MODIFIED:20170202T043948Z
UID:577-1486704600-1486715400@thehappydogband.com
SUMMARY:The Happy Dog – LIVE at Blue Heaven
DESCRIPTION:
URL:https://thehappydogband.com/concert/the-happy-dog-live-at-blue-heaven-16/
LOCATION:Blue Heaven\, 729 Thomas Street\, Key West\, FL\, 33040\, United States
ATTACH;FMTTYPE=image/jpeg:https://thehappydogband.com/wp-content/uploads/2015/09/happy-dog-slide-6.jpg
END:VEVENT
BEGIN:VEVENT
DTSTART;TZID=America/New_York:20170209T150000
DTEND;TZID=America/New_York:20170209T180000
DTSTAMP:20260423T002915
CREATED:20170202T041850Z
LAST-MODIFIED:20170202T041850Z
UID:556-1486652400-1486663200@thehappydogband.com
SUMMARY:The Happy Dog – LIVE at Salty Angler
DESCRIPTION:
URL:https://thehappydogband.com/concert/the-happy-dog-live-at-salty-angler-15/
LOCATION:Salty Angler\, 1114 Duval Street\, Key West\, FL\, 33040\, United States
ATTACH;FMTTYPE=image/jpeg:https://thehappydogband.com/wp-content/uploads/2016/10/salty-angler.jpg
END:VEVENT
BEGIN:VEVENT
DTSTART;TZID=America/New_York:20170207T123000
DTEND;TZID=America/New_York:20170207T143000
DTSTAMP:20260423T002915
CREATED:20170202T043559Z
LAST-MODIFIED:20170202T043559Z
UID:575-1486470600-1486477800@thehappydogband.com
SUMMARY:The Happy Dog – LIVE at Sunset Pier
DESCRIPTION:
URL:https://thehappydogband.com/concert/the-happy-dog-live-at-sunset-pier-68/
LOCATION:Sunset Pier at Ocean Key House\, 0 Duval Street\, Key West\, FL\, 33040\, United States
ATTACH;FMTTYPE=image/jpeg:https://thehappydogband.com/wp-content/uploads/2016/08/sunset-pier2.jpg
END:VEVENT
BEGIN:VEVENT
DTSTART;TZID=America/New_York:20170205T130000
DTEND;TZID=America/New_York:20170205T170000
DTSTAMP:20260423T002915
CREATED:20170202T042641Z
LAST-MODIFIED:20170202T042641Z
UID:567-1486299600-1486314000@thehappydogband.com
SUMMARY:The Happy Dog – LIVE at Conch Republic Seafood Co.
DESCRIPTION:
URL:https://thehappydogband.com/concert/the-happy-dog-live-at-conch-republic-seafood-co-6/
LOCATION:Conch Republic Seafood Co.\, 631 Greene Street\, Key West\, FL\, 33040\, United States
ATTACH;FMTTYPE=image/jpeg:https://thehappydogband.com/wp-content/uploads/2016/12/conch-republic.jpg
END:VEVENT
BEGIN:VEVENT
DTSTART;TZID=America/New_York:20170204T160000
DTEND;TZID=America/New_York:20170204T190000
DTSTAMP:20260423T002915
CREATED:20170202T042520Z
LAST-MODIFIED:20170202T042520Z
UID:564-1486224000-1486234800@thehappydogband.com
SUMMARY:The Happy Dog – LIVE at The Hurricane Grill
DESCRIPTION:
URL:https://thehappydogband.com/concert/the-happy-dog-live-at-the-hurricane-grill/
LOCATION:The Hurricane Grill\, 4650 Overseas Highway\, Marathon\, FL\, 33050\, United States
ATTACH;FMTTYPE=image/gif:https://thehappydogband.com/wp-content/uploads/2016/07/website-logo-lotus4.gif
END:VEVENT
BEGIN:VEVENT
DTSTART;TZID=America/New_York:20170203T123000
DTEND;TZID=America/New_York:20170203T143000
DTSTAMP:20260423T002915
CREATED:20170202T042203Z
LAST-MODIFIED:20170202T042203Z
UID:562-1486125000-1486132200@thehappydogband.com
SUMMARY:The Happy Dog – LIVE at Sunset Pier
DESCRIPTION:
URL:https://thehappydogband.com/concert/the-happy-dog-live-at-sunset-pier-67/
LOCATION:Sunset Pier at Ocean Key House\, 0 Duval Street\, Key West\, FL\, 33040\, United States
ATTACH;FMTTYPE=image/jpeg:https://thehappydogband.com/wp-content/uploads/2016/09/20160614_194613.jpg
END:VEVENT
BEGIN:VEVENT
DTSTART;TZID=America/New_York:20170202T150000
DTEND;TZID=America/New_York:20170202T180000
DTSTAMP:20260423T002915
CREATED:20170202T041804Z
LAST-MODIFIED:20170202T041804Z
UID:554-1486047600-1486058400@thehappydogband.com
SUMMARY:The Happy Dog – LIVE at Salty Angler
DESCRIPTION:
URL:https://thehappydogband.com/concert/the-happy-dog-live-at-salty-angler-14/
LOCATION:Salty Angler\, 1114 Duval Street\, Key West\, FL\, 33040\, United States
ATTACH;FMTTYPE=image/jpeg:https://thehappydogband.com/wp-content/uploads/2016/10/salty-angler.jpg
END:VEVENT
BEGIN:VEVENT
DTSTART;TZID=America/New_York:20170201T160000
DTEND;TZID=America/New_York:20170201T200000
DTSTAMP:20260423T002915
CREATED:20170202T041604Z
LAST-MODIFIED:20170202T041604Z
UID:552-1485964800-1485979200@thehappydogband.com
SUMMARY:The Happy Dog – LIVE at Green Parrot
DESCRIPTION:
URL:https://thehappydogband.com/concert/the-happy-dog-live-at-green-parrot-17/
LOCATION:Green Parrot\, 601 Whitehead Street\, Key West\, FL\, 33040\, United States
ATTACH;FMTTYPE=image/jpeg:https://thehappydogband.com/wp-content/uploads/2016/08/20160801_221509.jpg
END:VEVENT
END:VCALENDAR