BEGIN:VCALENDAR
VERSION:2.0
PRODID:-//The Happy Dog - ECPv6.3.7//NONSGML v1.0//EN
CALSCALE:GREGORIAN
METHOD:PUBLISH
X-WR-CALNAME:The Happy Dog
X-ORIGINAL-URL:https://thehappydogband.com
X-WR-CALDESC:Events for The Happy Dog
REFRESH-INTERVAL;VALUE=DURATION:PT1H
X-Robots-Tag:noindex
X-PUBLISHED-TTL:PT1H
BEGIN:VTIMEZONE
TZID:America/New_York
BEGIN:DAYLIGHT
TZOFFSETFROM:-0500
TZOFFSETTO:-0400
TZNAME:EDT
DTSTART:20160313T070000
END:DAYLIGHT
BEGIN:STANDARD
TZOFFSETFROM:-0400
TZOFFSETTO:-0500
TZNAME:EST
DTSTART:20161106T060000
END:STANDARD
BEGIN:DAYLIGHT
TZOFFSETFROM:-0500
TZOFFSETTO:-0400
TZNAME:EDT
DTSTART:20170312T070000
END:DAYLIGHT
BEGIN:STANDARD
TZOFFSETFROM:-0400
TZOFFSETTO:-0500
TZNAME:EST
DTSTART:20171105T060000
END:STANDARD
END:VTIMEZONE
BEGIN:VEVENT
DTSTART;TZID=America/New_York:20170101T130000
DTEND;TZID=America/New_York:20170101T170000
DTSTAMP:20260423T020215
CREATED:20161231T000254Z
LAST-MODIFIED:20161231T000254Z
UID:502-1483275600-1483290000@thehappydogband.com
SUMMARY:The Happy Dog - LIVE at Conch Republic Seafood Co.
DESCRIPTION:
URL:https://thehappydogband.com/concert/the-happy-dog-live-at-conch-republic-seafood-co/
LOCATION:Conch Republic Seafood Co.\, 631 Greene Street\, Key West\, FL\, 33040\, United States
ATTACH;FMTTYPE=image/jpeg:https://thehappydogband.com/wp-content/uploads/2016/12/conch-republic.jpg
END:VEVENT
BEGIN:VEVENT
DTSTART;TZID=America/New_York:20161231T170000
DTEND;TZID=America/New_York:20161231T200000
DTSTAMP:20260423T020215
CREATED:20161231T002423Z
LAST-MODIFIED:20161231T002423Z
UID:549-1483203600-1483214400@thehappydogband.com
SUMMARY:The Happy Dog – LIVE at The Porch
DESCRIPTION:
URL:https://thehappydogband.com/concert/the-happy-dog-live-at-the-porch-8/
LOCATION:The Porch\, 429 Caroline Street\, Key West\, 33040\, United States
ATTACH;FMTTYPE=image/jpeg:https://thehappydogband.com/wp-content/uploads/2015/09/happy-dog-slide-8.jpg
END:VEVENT
BEGIN:VEVENT
DTSTART;TZID=America/New_York:20161231T140000
DTEND;TZID=America/New_York:20161231T160000
DTSTAMP:20260423T020215
CREATED:20161222T200148Z
LAST-MODIFIED:20161231T002308Z
UID:499-1483192800-1483200000@thehappydogband.com
SUMMARY:The Happy Dog – LIVE at Sunset Pier
DESCRIPTION:
URL:https://thehappydogband.com/concert/the-happy-dog-live-at-sunset-pier-61/
LOCATION:Sunset Pier at Ocean Key House\, 0 Duval Street\, Key West\, FL\, 33040\, United States
ATTACH;FMTTYPE=image/jpeg:https://thehappydogband.com/wp-content/uploads/2016/09/20160614_194613.jpg
END:VEVENT
BEGIN:VEVENT
DTSTART;TZID=America/New_York:20161230T053000
DTEND;TZID=America/New_York:20161230T083000
DTSTAMP:20260423T020215
CREATED:20161202T020700Z
LAST-MODIFIED:20161202T020700Z
UID:471-1483075800-1483086600@thehappydogband.com
SUMMARY:The Happy Dog – LIVE at Blue Heaven
DESCRIPTION:
URL:https://thehappydogband.com/concert/the-happy-dog-live-at-blue-heaven-10/
LOCATION:Blue Heaven\, 729 Thomas Street\, Key West\, FL\, 33040\, United States
ATTACH;FMTTYPE=image/jpeg:https://thehappydogband.com/wp-content/uploads/2015/09/happy-dog-slide-6.jpg
END:VEVENT
BEGIN:VEVENT
DTSTART;TZID=America/New_York:20161228T123000
DTEND;TZID=America/New_York:20161228T140000
DTSTAMP:20260423T020215
CREATED:20161202T021449Z
LAST-MODIFIED:20161202T021449Z
UID:489-1482928200-1482933600@thehappydogband.com
SUMMARY:The Happy Dog – LIVE at Green Parrot “Soundcheck”
DESCRIPTION:
URL:https://thehappydogband.com/concert/the-happy-dog-live-at-green-parrot-soundcheck-17/
LOCATION:Green Parrot\, 601 Whitehead Street\, Key West\, FL\, 33040\, United States
ATTACH;FMTTYPE=image/jpeg:https://thehappydogband.com/wp-content/uploads/2016/08/20160801_221509.jpg
END:VEVENT
BEGIN:VEVENT
DTSTART;TZID=America/New_York:20161227T120000
DTEND;TZID=America/New_York:20161227T140000
DTSTAMP:20260423T020215
CREATED:20161202T020953Z
LAST-MODIFIED:20161202T020953Z
UID:479-1482840000-1482847200@thehappydogband.com
SUMMARY:The Happy Dog – LIVE at Sunset Pier
DESCRIPTION:
URL:https://thehappydogband.com/concert/the-happy-dog-live-at-sunset-pier-60/
LOCATION:Sunset Pier at Ocean Key House\, 0 Duval Street\, Key West\, FL\, 33040\, United States
ATTACH;FMTTYPE=image/jpeg:https://thehappydogband.com/wp-content/uploads/2016/08/sunset-pier2.jpg
END:VEVENT
BEGIN:VEVENT
DTSTART;TZID=America/New_York:20161226T150000
DTEND;TZID=America/New_York:20161226T180000
DTSTAMP:20260423T020215
CREATED:20161202T021123Z
LAST-MODIFIED:20161202T021123Z
UID:483-1482764400-1482775200@thehappydogband.com
SUMMARY:The Happy Dog – LIVE at Salty Angler
DESCRIPTION:
URL:https://thehappydogband.com/concert/the-happy-dog-live-at-salty-angler-10/
LOCATION:Salty Angler\, 1114 Duval Street\, Key West\, FL\, 33040\, United States
ATTACH;FMTTYPE=image/jpeg:https://thehappydogband.com/wp-content/uploads/2016/10/salty-angler.jpg
END:VEVENT
BEGIN:VEVENT
DTSTART;TZID=America/New_York:20161225T160000
DTEND;TZID=America/New_York:20161225T200000
DTSTAMP:20260423T020215
CREATED:20161202T021408Z
LAST-MODIFIED:20161202T021408Z
UID:487-1482681600-1482696000@thehappydogband.com
SUMMARY:The Happy Dog – LIVE at Green Parrot
DESCRIPTION:
URL:https://thehappydogband.com/concert/the-happy-dog-live-at-green-parrot-16/
LOCATION:Green Parrot\, 601 Whitehead Street\, Key West\, FL\, 33040\, United States
ATTACH;FMTTYPE=image/jpeg:https://thehappydogband.com/wp-content/uploads/2015/09/happy-dog-slide-10.jpg
END:VEVENT
BEGIN:VEVENT
DTSTART;TZID=America/New_York:20161225T123000
DTEND;TZID=America/New_York:20161225T140000
DTSTAMP:20260423T020215
CREATED:20161202T021233Z
LAST-MODIFIED:20161202T021233Z
UID:485-1482669000-1482674400@thehappydogband.com
SUMMARY:The Happy Dog – LIVE at Green Parrot “Soundcheck”
DESCRIPTION:
URL:https://thehappydogband.com/concert/the-happy-dog-live-at-green-parrot-soundcheck-16/
LOCATION:Green Parrot\, 601 Whitehead Street\, Key West\, FL\, 33040\, United States
ATTACH;FMTTYPE=image/jpeg:https://thehappydogband.com/wp-content/uploads/2016/08/green-parrot.jpg
END:VEVENT
BEGIN:VEVENT
DTSTART;TZID=America/New_York:20161224T120000
DTEND;TZID=America/New_York:20161224T140000
DTSTAMP:20260423T020215
CREATED:20161202T020909Z
LAST-MODIFIED:20161202T020909Z
UID:477-1482580800-1482588000@thehappydogband.com
SUMMARY:The Happy Dog – LIVE at Sunset Pier
DESCRIPTION:
URL:https://thehappydogband.com/concert/the-happy-dog-live-at-sunset-pier-59/
LOCATION:Sunset Pier at Ocean Key House\, 0 Duval Street\, Key West\, FL\, 33040\, United States
ATTACH;FMTTYPE=image/jpeg:https://thehappydogband.com/wp-content/uploads/2016/08/sunset-pier2.jpg
END:VEVENT
BEGIN:VEVENT
DTSTART;TZID=America/New_York:20161220T053000
DTEND;TZID=America/New_York:20161220T083000
DTSTAMP:20260423T020215
CREATED:20161202T020626Z
LAST-MODIFIED:20161202T020626Z
UID:469-1482211800-1482222600@thehappydogband.com
SUMMARY:The Happy Dog – LIVE at Blue Heaven
DESCRIPTION:
URL:https://thehappydogband.com/concert/the-happy-dog-live-at-blue-heaven-9/
LOCATION:Blue Heaven\, 729 Thomas Street\, Key West\, FL\, 33040\, United States
ATTACH;FMTTYPE=image/jpeg:https://thehappydogband.com/wp-content/uploads/2015/09/happy-dog-slide-6.jpg
END:VEVENT
BEGIN:VEVENT
DTSTART;TZID=America/New_York:20161216T053000
DTEND;TZID=America/New_York:20161216T083000
DTSTAMP:20260423T020215
CREATED:20161202T020541Z
LAST-MODIFIED:20161202T020541Z
UID:467-1481866200-1481877000@thehappydogband.com
SUMMARY:The Happy Dog – LIVE at Blue Heaven
DESCRIPTION:
URL:https://thehappydogband.com/concert/the-happy-dog-live-at-blue-heaven-8/
LOCATION:Blue Heaven\, 729 Thomas Street\, Key West\, FL\, 33040\, United States
ATTACH;FMTTYPE=image/jpeg:https://thehappydogband.com/wp-content/uploads/2015/09/happy-dog-slide-6.jpg
END:VEVENT
BEGIN:VEVENT
DTSTART;TZID=America/New_York:20161213T120000
DTEND;TZID=America/New_York:20161213T140000
DTSTAMP:20260423T020215
CREATED:20161202T020836Z
LAST-MODIFIED:20161202T020836Z
UID:475-1481630400-1481637600@thehappydogband.com
SUMMARY:The Happy Dog – LIVE at Sunset Pier
DESCRIPTION:
URL:https://thehappydogband.com/concert/the-happy-dog-live-at-sunset-pier-58/
LOCATION:Sunset Pier at Ocean Key House\, 0 Duval Street\, Key West\, FL\, 33040\, United States
ATTACH;FMTTYPE=image/jpeg:https://thehappydogband.com/wp-content/uploads/2016/08/sunset-pier2.jpg
END:VEVENT
BEGIN:VEVENT
DTSTART;TZID=America/New_York:20161212T150000
DTEND;TZID=America/New_York:20161212T180000
DTSTAMP:20260423T020215
CREATED:20161202T021050Z
LAST-MODIFIED:20161202T021050Z
UID:481-1481554800-1481565600@thehappydogband.com
SUMMARY:The Happy Dog – LIVE at Salty Angler
DESCRIPTION:
URL:https://thehappydogband.com/concert/the-happy-dog-live-at-salty-angler-9/
LOCATION:Salty Angler\, 1114 Duval Street\, Key West\, FL\, 33040\, United States
ATTACH;FMTTYPE=image/jpeg:https://thehappydogband.com/wp-content/uploads/2016/10/salty-angler.jpg
END:VEVENT
BEGIN:VEVENT
DTSTART;TZID=America/New_York:20161206T120000
DTEND;TZID=America/New_York:20161206T140000
DTSTAMP:20260423T020215
CREATED:20161202T020806Z
LAST-MODIFIED:20161202T020806Z
UID:473-1481025600-1481032800@thehappydogband.com
SUMMARY:The Happy Dog – LIVE at Sunset Pier
DESCRIPTION:
URL:https://thehappydogband.com/concert/the-happy-dog-live-at-sunset-pier-57/
LOCATION:Sunset Pier at Ocean Key House\, 0 Duval Street\, Key West\, FL\, 33040\, United States
ATTACH;FMTTYPE=image/jpeg:https://thehappydogband.com/wp-content/uploads/2016/08/sunset-pier2.jpg
END:VEVENT
BEGIN:VEVENT
DTSTART;TZID=America/New_York:20161206T053000
DTEND;TZID=America/New_York:20161206T083000
DTSTAMP:20260423T020215
CREATED:20161202T020502Z
LAST-MODIFIED:20161202T020502Z
UID:465-1481002200-1481013000@thehappydogband.com
SUMMARY:The Happy Dog – LIVE at Blue Heaven
DESCRIPTION:
URL:https://thehappydogband.com/concert/the-happy-dog-live-at-blue-heaven-7/
LOCATION:Blue Heaven\, 729 Thomas Street\, Key West\, FL\, 33040\, United States
ATTACH;FMTTYPE=image/jpeg:https://thehappydogband.com/wp-content/uploads/2015/09/happy-dog-slide-6.jpg
END:VEVENT
BEGIN:VEVENT
DTSTART;TZID=America/New_York:20161201T160000
DTEND;TZID=America/New_York:20161201T200000
DTSTAMP:20260423T020215
CREATED:20161123T002406Z
LAST-MODIFIED:20161123T002406Z
UID:462-1480608000-1480622400@thehappydogband.com
SUMMARY:The Happy Dog – LIVE at Green Parrot
DESCRIPTION:
URL:https://thehappydogband.com/concert/the-happy-dog-live-at-green-parrot-15/
LOCATION:Green Parrot\, 601 Whitehead Street\, Key West\, FL\, 33040\, United States
ATTACH;FMTTYPE=image/jpeg:https://thehappydogband.com/wp-content/uploads/2016/08/20160801_221509.jpg
END:VEVENT
BEGIN:VEVENT
DTSTART;TZID=America/New_York:20161201T123000
DTEND;TZID=America/New_York:20161201T140000
DTSTAMP:20260423T020215
CREATED:20161123T002309Z
LAST-MODIFIED:20161123T002309Z
UID:460-1480595400-1480600800@thehappydogband.com
SUMMARY:The Happy Dog – LIVE at Green Parrot “Soundcheck”
DESCRIPTION:
URL:https://thehappydogband.com/concert/the-happy-dog-live-at-green-parrot-soundcheck-15/
LOCATION:Green Parrot\, 601 Whitehead Street\, Key West\, FL\, 33040\, United States
ATTACH;FMTTYPE=image/jpeg:https://thehappydogband.com/wp-content/uploads/2016/08/20160801_221509.jpg
END:VEVENT
BEGIN:VEVENT
DTSTART;TZID=America/New_York:20161129T120000
DTEND;TZID=America/New_York:20161129T140000
DTSTAMP:20260423T020215
CREATED:20161031T185255Z
LAST-MODIFIED:20161117T003833Z
UID:443-1480420800-1480428000@thehappydogband.com
SUMMARY:The Happy Dog – LIVE at Sunset Pier
DESCRIPTION:
URL:https://thehappydogband.com/concert/the-happy-dog-live-at-sunset-pier-56/
LOCATION:Sunset Pier at Ocean Key House\, 0 Duval Street\, Key West\, FL\, 33040\, United States
ATTACH;FMTTYPE=image/jpeg:https://thehappydogband.com/wp-content/uploads/2016/09/20160614_194613.jpg
END:VEVENT
BEGIN:VEVENT
DTSTART;TZID=America/New_York:20161128T150000
DTEND;TZID=America/New_York:20161128T180000
DTSTAMP:20260423T020215
CREATED:20161110T210703Z
LAST-MODIFIED:20161110T210703Z
UID:454-1480345200-1480356000@thehappydogband.com
SUMMARY:The Happy Dog – LIVE at Salty Angler
DESCRIPTION:
URL:https://thehappydogband.com/concert/the-happy-dog-live-at-salty-angler-8/
LOCATION:Salty Angler\, 1114 Duval Street\, Key West\, FL\, 33040\, United States
ATTACH;FMTTYPE=image/jpeg:https://thehappydogband.com/wp-content/uploads/2016/10/salty-angler.jpg
END:VEVENT
BEGIN:VEVENT
DTSTART;TZID=America/New_York:20161125T150000
DTEND;TZID=America/New_York:20161125T180000
DTSTAMP:20260423T020215
CREATED:20161110T210630Z
LAST-MODIFIED:20161110T210630Z
UID:452-1480086000-1480096800@thehappydogband.com
SUMMARY:The Happy Dog – LIVE at Salty Angler
DESCRIPTION:
URL:https://thehappydogband.com/concert/the-happy-dog-live-at-salty-angler-7/
LOCATION:Salty Angler\, 1114 Duval Street\, Key West\, FL\, 33040\, United States
ATTACH;FMTTYPE=image/jpeg:https://thehappydogband.com/wp-content/uploads/2016/10/salty-angler.jpg
END:VEVENT
BEGIN:VEVENT
DTSTART;TZID=America/New_York:20161124T160000
DTEND;TZID=America/New_York:20161124T200000
DTSTAMP:20260423T020215
CREATED:20161031T185211Z
LAST-MODIFIED:20161031T192543Z
UID:441-1480003200-1480017600@thehappydogband.com
SUMMARY:Keith and Tucker from Happy Dog w/ Michael Morrow of Pure Jerry – LIVE at Green Parrot
DESCRIPTION:
URL:https://thehappydogband.com/concert/keith-tucker-from-happy-dog-w-michael-morrow-of-pure-jerry-live-at-green-parrot/
LOCATION:Green Parrot\, 601 Whitehead Street\, Key West\, FL\, 33040\, United States
ATTACH;FMTTYPE=image/jpeg:https://thehappydogband.com/wp-content/uploads/2015/09/keith-snyder.jpg
END:VEVENT
BEGIN:VEVENT
DTSTART;TZID=America/New_York:20161124T123000
DTEND;TZID=America/New_York:20161124T140000
DTSTAMP:20260423T020215
CREATED:20161031T185136Z
LAST-MODIFIED:20161031T192555Z
UID:439-1479990600-1479996000@thehappydogband.com
SUMMARY:Keith and Tucker from Happy Dog w/ Michael Morrow of Pure Jerry – LIVE at Green Parrot "Soundcheck"
DESCRIPTION:
URL:https://thehappydogband.com/concert/keith-tucker-from-happy-dog-w-michael-morrow-of-pure-jerry-live-at-green-parrot-soundcheck/
LOCATION:Green Parrot\, 601 Whitehead Street\, Key West\, FL\, 33040\, United States
ATTACH;FMTTYPE=image/jpeg:https://thehappydogband.com/wp-content/uploads/2015/09/keith-snyder.jpg
END:VEVENT
BEGIN:VEVENT
DTSTART;TZID=America/New_York:20161123T150000
DTEND;TZID=America/New_York:20161123T180000
DTSTAMP:20260423T020215
CREATED:20161119T183251Z
LAST-MODIFIED:20161123T000304Z
UID:457-1479913200-1479924000@thehappydogband.com
SUMMARY:Keith and Tucker from Happy Dog w/ Michael Morrow of Pure Jerry  – LIVE at Mangoes
DESCRIPTION:
URL:https://thehappydogband.com/concert/the-happy-dog-live-at-mangoes-2/
LOCATION:Mangoes\, 700 Duval Street\, Key West\, FL\, 33040\, United States
ATTACH;FMTTYPE=image/jpeg:https://thehappydogband.com/wp-content/uploads/2015/09/happy-dog-slide-5.jpg
END:VEVENT
BEGIN:VEVENT
DTSTART;TZID=America/New_York:20161122T120000
DTEND;TZID=America/New_York:20161122T140000
DTSTAMP:20260423T020215
CREATED:20161031T185013Z
LAST-MODIFIED:20161122T204636Z
UID:437-1479816000-1479823200@thehappydogband.com
SUMMARY:Keith and Tucker from Happy Dog w/ Michael Morrow of Pure Jerry – LIVE at Sunset Pier
DESCRIPTION:
URL:https://thehappydogband.com/concert/keith-tucker-from-happy-dog-w-michael-morrow-of-pure-jerry-live-at-sunset-pier/
LOCATION:Sunset Pier at Ocean Key House\, 0 Duval Street\, Key West\, FL\, 33040\, United States
ATTACH;FMTTYPE=image/jpeg:https://thehappydogband.com/wp-content/uploads/2015/09/keith-snyder.jpg
END:VEVENT
BEGIN:VEVENT
DTSTART;TZID=America/New_York:20161122T053000
DTEND;TZID=America/New_York:20161122T083000
DTSTAMP:20260423T020215
CREATED:20161031T184905Z
LAST-MODIFIED:20161031T192622Z
UID:434-1479792600-1479803400@thehappydogband.com
SUMMARY:Keith and Tucker from Happy Dog w/ Michael Morrow of Pure Jerry – LIVE at Blue Heaven
DESCRIPTION:
URL:https://thehappydogband.com/concert/keith-tucker-from-hdog-w-michael-morrof-of-pure-jerry-live-at-blue-heaven/
LOCATION:Blue Heaven\, 729 Thomas Street\, Key West\, FL\, 33040\, United States
ATTACH;FMTTYPE=image/jpeg:https://thehappydogband.com/wp-content/uploads/2015/09/keith-snyder.jpg
END:VEVENT
BEGIN:VEVENT
DTSTART;TZID=America/New_York:20161118T053000
DTEND;TZID=America/New_York:20161118T083000
DTSTAMP:20260423T020215
CREATED:20161031T184711Z
LAST-MODIFIED:20161031T184711Z
UID:432-1479447000-1479457800@thehappydogband.com
SUMMARY:The Happy Dog – LIVE at Blue Heaven
DESCRIPTION:
URL:https://thehappydogband.com/concert/the-happy-dog-live-at-blue-heaven-6/
LOCATION:Blue Heaven\, 729 Thomas Street\, Key West\, FL\, 33040\, United States
ATTACH;FMTTYPE=image/jpeg:https://thehappydogband.com/wp-content/uploads/2015/09/happy-dog-slide-6.jpg
END:VEVENT
BEGIN:VEVENT
DTSTART;TZID=America/New_York:20161115T130000
DTEND;TZID=America/New_York:20161115T150000
DTSTAMP:20260423T020215
CREATED:20161031T184608Z
LAST-MODIFIED:20161031T184608Z
UID:430-1479214800-1479222000@thehappydogband.com
SUMMARY:The Happy Dog – LIVE at Sunset Pier
DESCRIPTION:
URL:https://thehappydogband.com/concert/the-happy-dog-live-at-sunset-pier-55/
LOCATION:Sunset Pier at Ocean Key House\, 0 Duval Street\, Key West\, FL\, 33040\, United States
ATTACH;FMTTYPE=image/jpeg:https://thehappydogband.com/wp-content/uploads/2016/09/20160614_194613.jpg
END:VEVENT
BEGIN:VEVENT
DTSTART;TZID=America/New_York:20161114T150000
DTEND;TZID=America/New_York:20161114T180000
DTSTAMP:20260423T020215
CREATED:20161110T210555Z
LAST-MODIFIED:20161110T210555Z
UID:450-1479135600-1479146400@thehappydogband.com
SUMMARY:The Happy Dog – LIVE at Salty Angler
DESCRIPTION:
URL:https://thehappydogband.com/concert/the-happy-dog-live-at-salty-angler-6/
LOCATION:Salty Angler\, 1114 Duval Street\, Key West\, FL\, 33040\, United States
ATTACH;FMTTYPE=image/jpeg:https://thehappydogband.com/wp-content/uploads/2016/10/salty-angler.jpg
END:VEVENT
BEGIN:VEVENT
DTSTART;TZID=America/New_York:20161112T140000
DTEND;TZID=America/New_York:20161112T180000
DTSTAMP:20260423T020215
CREATED:20161031T184507Z
LAST-MODIFIED:20161031T184507Z
UID:428-1478959200-1478973600@thehappydogband.com
SUMMARY:The Happy Dog - LIVE at Boondocks
DESCRIPTION:
URL:https://thehappydogband.com/concert/the-happy-dog-live-at-boondocks-2/
LOCATION:Boondocks\, 27205 Overseas Highway\, Ramrod Key\, FL\, 33042\, United States
ATTACH;FMTTYPE=image/gif:https://thehappydogband.com/wp-content/uploads/2016/07/website-logo-lotus4.gif
END:VEVENT
END:VCALENDAR