BEGIN:VCALENDAR
VERSION:2.0
PRODID:-//The Happy Dog - ECPv6.3.7//NONSGML v1.0//EN
CALSCALE:GREGORIAN
METHOD:PUBLISH
X-WR-CALNAME:The Happy Dog
X-ORIGINAL-URL:https://thehappydogband.com
X-WR-CALDESC:Events for The Happy Dog
REFRESH-INTERVAL;VALUE=DURATION:PT1H
X-Robots-Tag:noindex
X-PUBLISHED-TTL:PT1H
BEGIN:VTIMEZONE
TZID:America/New_York
BEGIN:DAYLIGHT
TZOFFSETFROM:-0500
TZOFFSETTO:-0400
TZNAME:EDT
DTSTART:20160313T070000
END:DAYLIGHT
BEGIN:STANDARD
TZOFFSETFROM:-0400
TZOFFSETTO:-0500
TZNAME:EST
DTSTART:20161106T060000
END:STANDARD
END:VTIMEZONE
BEGIN:VEVENT
DTSTART;TZID=America/New_York:20161010T180000
DTEND;TZID=America/New_York:20161010T220000
DTSTAMP:20260423T014819
CREATED:20160927T174456Z
LAST-MODIFIED:20160927T174456Z
UID:393-1476122400-1476136800@thehappydogband.com
SUMMARY:The Happy Dog – LIVE at Hog’s Breath Saloon
DESCRIPTION:
URL:https://thehappydogband.com/concert/the-happy-dog-live-at-hogs-breath-saloon-8/
LOCATION:Hog’s Breath Saloon\, 400 Front Street\, Key West\, FL\, 33040\, United States
ATTACH;FMTTYPE=image/jpeg:https://thehappydogband.com/wp-content/uploads/2016/09/20160723_231750.jpg
END:VEVENT
BEGIN:VEVENT
DTSTART;TZID=America/New_York:20161010T140000
DTEND;TZID=America/New_York:20161010T160000
DTSTAMP:20260423T014819
CREATED:20161009T200509Z
LAST-MODIFIED:20161009T200509Z
UID:407-1476108000-1476115200@thehappydogband.com
SUMMARY:The Happy Dog - Live at Fury "Commotion on the Ocean"
DESCRIPTION:
URL:https://thehappydogband.com/concert/the-happy-dog-live-at-fury-commotion-on-the-ocean-3/
LOCATION:Fury “Commotion on the Ocean”\, 631 Greene Street\, Key West\, FL\, 33040\, United States
END:VEVENT
BEGIN:VEVENT
DTSTART;TZID=America/New_York:20161007T150000
DTEND;TZID=America/New_York:20161007T170000
DTSTAMP:20260423T014819
CREATED:20160927T174207Z
LAST-MODIFIED:20160927T174207Z
UID:392-1475852400-1475859600@thehappydogband.com
SUMMARY:The Happy Dog – LIVE at Hogfish
DESCRIPTION:
URL:https://thehappydogband.com/concert/the-happy-dog-live-at-hogfish-3/
LOCATION:Hogfish\,  6810 Front St\, Stock Island\, FL\, 33040\, United States
END:VEVENT
BEGIN:VEVENT
DTSTART;TZID=America/New_York:20161004T143000
DTEND;TZID=America/New_York:20161004T163000
DTSTAMP:20260423T014819
CREATED:20160927T174131Z
LAST-MODIFIED:20160927T174131Z
UID:390-1475591400-1475598600@thehappydogband.com
SUMMARY:The Happy Dog – LIVE at Sunset Pier
DESCRIPTION:
URL:https://thehappydogband.com/concert/the-happy-dog-live-at-sunset-pier-49/
LOCATION:Sunset Pier at Ocean Key House\, 0 Duval Street\, Key West\, FL\, 33040\, United States
ATTACH;FMTTYPE=image/jpeg:https://thehappydogband.com/wp-content/uploads/2016/09/20160614_194613.jpg
END:VEVENT
BEGIN:VEVENT
DTSTART;TZID=America/New_York:20160930T150000
DTEND;TZID=America/New_York:20160930T170000
DTSTAMP:20260423T014819
CREATED:20160927T173805Z
LAST-MODIFIED:20160927T173935Z
UID:389-1475247600-1475254800@thehappydogband.com
SUMMARY:The Happy Dog – LIVE at Hogfish
DESCRIPTION:
URL:https://thehappydogband.com/concert/the-happy-dog-live-at-hogfish-2/
LOCATION:Hogfish\,  6810 Front St\, Stock Island\, FL\, 33040\, United States
END:VEVENT
BEGIN:VEVENT
DTSTART;TZID=America/New_York:20160927T143000
DTEND;TZID=America/New_York:20160927T163000
DTSTAMP:20260423T014819
CREATED:20160830T204130Z
LAST-MODIFIED:20160913T182544Z
UID:374-1474986600-1474993800@thehappydogband.com
SUMMARY:The Happy Dog – LIVE at Sunset Pier
DESCRIPTION:
URL:https://thehappydogband.com/concert/the-happy-dog-live-at-sunset-pier-47/
LOCATION:Sunset Pier at Ocean Key House\, 0 Duval Street\, Key West\, FL\, 33040\, United States
ATTACH;FMTTYPE=image/jpeg:https://thehappydogband.com/wp-content/uploads/2016/08/sunset-pier2.jpg
END:VEVENT
BEGIN:VEVENT
DTSTART;TZID=America/New_York:20160924T150000
DTEND;TZID=America/New_York:20160924T170000
DTSTAMP:20260423T014819
CREATED:20160830T210820Z
LAST-MODIFIED:20160830T210820Z
UID:382-1474729200-1474736400@thehappydogband.com
SUMMARY:The Happy Dog - LIVE at Hogfish
DESCRIPTION:
URL:https://thehappydogband.com/concert/the-happy-dog-live-at-hogfish/
LOCATION:Hogfish\,  6810 Front St\, Stock Island\, FL\, 33040\, United States
END:VEVENT
BEGIN:VEVENT
DTSTART;TZID=America/New_York:20160922T133000
DTEND;TZID=America/New_York:20160922T150000
DTSTAMP:20260423T014819
CREATED:20160830T210459Z
LAST-MODIFIED:20160830T210459Z
UID:381-1474551000-1474556400@thehappydogband.com
SUMMARY:The Happy Dog – LIVE at Green Parrot
DESCRIPTION:
URL:https://thehappydogband.com/concert/the-happy-dog-live-at-green-parrot-12/
LOCATION:Green Parrot\, 601 Whitehead Street\, Key West\, FL\, 33040\, United States
ATTACH;FMTTYPE=image/jpeg:https://thehappydogband.com/wp-content/uploads/2016/08/green-parrot.jpg
END:VEVENT
BEGIN:VEVENT
DTSTART;TZID=America/New_York:20160922T133000
DTEND;TZID=America/New_York:20160922T150000
DTSTAMP:20260423T014819
CREATED:20160830T210412Z
LAST-MODIFIED:20160830T210412Z
UID:380-1474551000-1474556400@thehappydogband.com
SUMMARY:The Happy Dog – LIVE at Green Parrot “Soundcheck”
DESCRIPTION:
URL:https://thehappydogband.com/concert/the-happy-dog-live-at-green-parrot-soundcheck-12/
LOCATION:Green Parrot\, 601 Whitehead Street\, Key West\, FL\, 33040\, United States
END:VEVENT
BEGIN:VEVENT
DTSTART;TZID=America/New_York:20160920T143000
DTEND;TZID=America/New_York:20160920T163000
DTSTAMP:20260423T014819
CREATED:20160830T204051Z
LAST-MODIFIED:20160913T182602Z
UID:373-1474381800-1474389000@thehappydogband.com
SUMMARY:The Happy Dog – LIVE at Sunset Pier
DESCRIPTION:
URL:https://thehappydogband.com/concert/the-happy-dog-live-at-sunset-pier-46/
LOCATION:Sunset Pier at Ocean Key House\, 0 Duval Street\, Key West\, FL\, 33040\, United States
ATTACH;FMTTYPE=image/jpeg:https://thehappydogband.com/wp-content/uploads/2016/08/sunset-pier2.jpg
END:VEVENT
BEGIN:VEVENT
DTSTART;TZID=America/New_York:20160915T133000
DTEND;TZID=America/New_York:20160915T150000
DTSTAMP:20260423T014819
CREATED:20160830T210335Z
LAST-MODIFIED:20160830T210335Z
UID:379-1473946200-1473951600@thehappydogband.com
SUMMARY:The Happy Dog – LIVE at Green Parrot “Soundcheck”
DESCRIPTION:
URL:https://thehappydogband.com/concert/the-happy-dog-live-at-green-parrot-soundcheck-11/
LOCATION:Green Parrot\, 601 Whitehead Street\, Key West\, FL\, 33040\, United States
ATTACH;FMTTYPE=image/jpeg:https://thehappydogband.com/wp-content/uploads/2016/08/green-parrot.jpg
END:VEVENT
BEGIN:VEVENT
DTSTART;TZID=America/New_York:20160913T143000
DTEND;TZID=America/New_York:20160913T163000
DTSTAMP:20260423T014819
CREATED:20160830T204017Z
LAST-MODIFIED:20160913T182628Z
UID:372-1473777000-1473784200@thehappydogband.com
SUMMARY:The Happy Dog – LIVE at Sunset Pier
DESCRIPTION:
URL:https://thehappydogband.com/concert/the-happy-dog-live-at-sunset-pier-45/
LOCATION:Sunset Pier at Ocean Key House\, 0 Duval Street\, Key West\, FL\, 33040\, United States
ATTACH;FMTTYPE=image/jpeg:https://thehappydogband.com/wp-content/uploads/2016/08/sunset-pier2.jpg
END:VEVENT
BEGIN:VEVENT
DTSTART;TZID=America/New_York:20160912T150000
DTEND;TZID=America/New_York:20160912T170000
DTSTAMP:20260423T014819
CREATED:20160830T203252Z
LAST-MODIFIED:20160830T203252Z
UID:369-1473692400-1473699600@thehappydogband.com
SUMMARY:The Happy Dog - Live at Fury "Commotion on the Ocean"
DESCRIPTION:Check-in is at 6:30 pm!
URL:https://thehappydogband.com/concert/the-happy-dog-live-at-fury-commotion-on-the-ocean-2/
LOCATION:Fury “Commotion on the Ocean”\, 631 Greene Street\, Key West\, FL\, 33040\, United States
ATTACH;FMTTYPE=image/jpeg:https://thehappydogband.com/wp-content/uploads/2016/08/fury-commotion-on-the-ocean.jpg
END:VEVENT
BEGIN:VEVENT
DTSTART;TZID=America/New_York:20160909T150000
DTEND;TZID=America/New_York:20160909T170000
DTSTAMP:20260423T014819
CREATED:20160830T205930Z
LAST-MODIFIED:20160830T205930Z
UID:377-1473433200-1473440400@thehappydogband.com
SUMMARY:The Happy Dog – LIVE at Sunset Pier
DESCRIPTION:
URL:https://thehappydogband.com/concert/the-happy-dog-live-at-sunset-pier-48/
LOCATION:Sunset Pier at Ocean Key House\, 0 Duval Street\, Key West\, FL\, 33040\, United States
ATTACH;FMTTYPE=image/jpeg:https://thehappydogband.com/wp-content/uploads/2016/08/sunset-pier.jpg
END:VEVENT
BEGIN:VEVENT
DTSTART;TZID=America/New_York:20160908T170000
DTEND;TZID=America/New_York:20160908T210000
DTSTAMP:20260423T014819
CREATED:20160830T210151Z
LAST-MODIFIED:20160830T210202Z
UID:378-1473354000-1473368400@thehappydogband.com
SUMMARY:The Happy Dog – LIVE at Green Parrot
DESCRIPTION:
URL:https://thehappydogband.com/concert/the-happy-dog-live-at-green-parrot-11/
LOCATION:Green Parrot\, 601 Whitehead Street\, Key West\, FL\, 33040\, United States
ATTACH;FMTTYPE=image/jpeg:https://thehappydogband.com/wp-content/uploads/2016/08/green-parrot.jpg
END:VEVENT
BEGIN:VEVENT
DTSTART;TZID=America/New_York:20160908T133000
DTEND;TZID=America/New_York:20160908T150000
DTSTAMP:20260423T014819
CREATED:20160830T205514Z
LAST-MODIFIED:20160830T205514Z
UID:375-1473341400-1473346800@thehappydogband.com
SUMMARY:The Happy Dog – LIVE at Green Parrot "Soundcheck"
DESCRIPTION:
URL:https://thehappydogband.com/concert/the-happy-dog-live-at-green-parrot-soundcheck-10/
LOCATION:Green Parrot\, 601 Whitehead Street\, Key West\, FL\, 33040\, United States
ATTACH;FMTTYPE=image/jpeg:https://thehappydogband.com/wp-content/uploads/2016/08/20160801_221509.jpg
END:VEVENT
BEGIN:VEVENT
DTSTART;TZID=America/New_York:20160906T150000
DTEND;TZID=America/New_York:20160906T170000
DTSTAMP:20260423T014819
CREATED:20160830T203942Z
LAST-MODIFIED:20160830T203942Z
UID:370-1473174000-1473181200@thehappydogband.com
SUMMARY:The Happy Dog – LIVE at Sunset Pier
DESCRIPTION:
URL:https://thehappydogband.com/concert/the-happy-dog-live-at-sunset-pier-44/
LOCATION:Sunset Pier at Ocean Key House\, 0 Duval Street\, Key West\, FL\, 33040\, United States
ATTACH;FMTTYPE=image/jpeg:https://thehappydogband.com/wp-content/uploads/2016/08/sunset-pier2.jpg
END:VEVENT
BEGIN:VEVENT
DTSTART;TZID=America/New_York:20160905T150000
DTEND;TZID=America/New_York:20160905T170000
DTSTAMP:20260423T014819
CREATED:20160830T203156Z
LAST-MODIFIED:20160830T203418Z
UID:366-1473087600-1473094800@thehappydogband.com
SUMMARY:The Happy Dog - Live at Fury "Commotion on the Ocean"
DESCRIPTION:Check-in is at 6:30pm!
URL:https://thehappydogband.com/concert/the-happy-dog-live-at-fury-commotion-on-the-ocean/
LOCATION:Fury “Commotion on the Ocean”\, 631 Greene Street\, Key West\, FL\, 33040\, United States
ATTACH;FMTTYPE=image/jpeg:https://thehappydogband.com/wp-content/uploads/2016/08/fury-commotion-on-the-ocean.jpg
END:VEVENT
BEGIN:VEVENT
DTSTART;TZID=America/New_York:20160903T160000
DTEND;TZID=America/New_York:20160903T190000
DTSTAMP:20260423T014819
CREATED:20160830T202136Z
LAST-MODIFIED:20160830T202136Z
UID:365-1472918400-1472929200@thehappydogband.com
SUMMARY:The Happy Dog - LIVE at The Porch
DESCRIPTION:
URL:https://thehappydogband.com/concert/the-happy-dog-live-at-the-porch-6/
LOCATION:The Porch\, 429 Caroline Street\, Key West\, 33040\, United States
ATTACH;FMTTYPE=image/jpeg:https://thehappydogband.com/wp-content/uploads/2015/09/happy-dog-slide-8.jpg
END:VEVENT
BEGIN:VEVENT
DTSTART;TZID=America/New_York:20160902T133000
DTEND;TZID=America/New_York:20160902T171500
DTSTAMP:20260423T014819
CREATED:20160830T202023Z
LAST-MODIFIED:20160830T202023Z
UID:364-1472823000-1472836500@thehappydogband.com
SUMMARY:The Happy Dog – LIVE at Sloppy Joe’s
DESCRIPTION:
URL:https://thehappydogband.com/concert/the-happy-dog-live-at-sloppy-joes-9/
LOCATION:Sloppy Joe’s\, 201 Duval Street\, Key West\, FL\, 33040\, United States
ATTACH;FMTTYPE=image/jpeg:https://thehappydogband.com/wp-content/uploads/2016/08/sloppy-joes-1.jpg
END:VEVENT
BEGIN:VEVENT
DTSTART;TZID=America/New_York:20160831T133000
DTEND;TZID=America/New_York:20160831T173000
DTSTAMP:20260423T014819
CREATED:20160807T233339Z
LAST-MODIFIED:20160808T015312Z
UID:344-1472650200-1472664600@thehappydogband.com
SUMMARY:The Happy Dog – LIVE at Sloppy Joe’s
DESCRIPTION:
URL:https://thehappydogband.com/concert/the-happy-dog-live-at-sloppy-joes-7/
LOCATION:Sloppy Joe’s\, 201 Duval Street\, Key West\, FL\, 33040\, United States
ATTACH;FMTTYPE=image/jpeg:https://thehappydogband.com/wp-content/uploads/2016/08/sloppy-joes-1.jpg
END:VEVENT
BEGIN:VEVENT
DTSTART;TZID=America/New_York:20160830T150000
DTEND;TZID=America/New_York:20160830T170000
DTSTAMP:20260423T014819
CREATED:20160807T233737Z
LAST-MODIFIED:20160808T015911Z
UID:351-1472569200-1472576400@thehappydogband.com
SUMMARY:The Happy Dog – LIVE at Sunset Pier
DESCRIPTION:
URL:https://thehappydogband.com/concert/the-happy-dog-live-at-sunset-pier-42/
LOCATION:Sunset Pier at Ocean Key House\, 0 Duval Street\, Key West\, FL\, 33040\, United States
ATTACH;FMTTYPE=image/jpeg:https://thehappydogband.com/wp-content/uploads/2016/08/sunset-pier.jpg
END:VEVENT
BEGIN:VEVENT
DTSTART;TZID=America/New_York:20160827T160000
DTEND;TZID=America/New_York:20160827T190000
DTSTAMP:20260423T014819
CREATED:20160807T233935Z
LAST-MODIFIED:20160807T233935Z
UID:353-1472313600-1472324400@thehappydogband.com
SUMMARY:The Happy Dog – LIVE at Salty Angler
DESCRIPTION:
URL:https://thehappydogband.com/concert/the-happy-dog-live-at-salty-angler-3/
LOCATION:Salty Angler\, 1114 Duval Street\, Key West\, FL\, 33040\, United States
END:VEVENT
BEGIN:VEVENT
DTSTART;TZID=America/New_York:20160826T150000
DTEND;TZID=America/New_York:20160826T170000
DTSTAMP:20260423T014819
CREATED:20160807T233523Z
LAST-MODIFIED:20160808T015935Z
UID:347-1472223600-1472230800@thehappydogband.com
SUMMARY:The Happy Dog – LIVE at Sunset Pier
DESCRIPTION:
URL:https://thehappydogband.com/concert/the-happy-dog-live-at-sunset-pier-38/
LOCATION:Sunset Pier at Ocean Key House\, 0 Duval Street\, Key West\, FL\, 33040\, United States
ATTACH;FMTTYPE=image/jpeg:https://thehappydogband.com/wp-content/uploads/2016/08/sunset-pier.jpg
END:VEVENT
BEGIN:VEVENT
DTSTART;TZID=America/New_York:20160825T143000
DTEND;TZID=America/New_York:20160825T173000
DTSTAMP:20260423T014819
CREATED:20160807T233854Z
LAST-MODIFIED:20160808T015957Z
UID:352-1472135400-1472146200@thehappydogband.com
SUMMARY:The Happy Dog – LIVE at Blue Heaven
DESCRIPTION:
URL:https://thehappydogband.com/concert/the-happy-dog-live-at-blue-heaven-5/
LOCATION:Blue Heaven\, 729 Thomas Street\, Key West\, FL\, 33040\, United States
ATTACH;FMTTYPE=image/jpeg:https://thehappydogband.com/wp-content/uploads/2015/09/happy-dog-slide-6.jpg
END:VEVENT
BEGIN:VEVENT
DTSTART;TZID=America/New_York:20160824T133000
DTEND;TZID=America/New_York:20160824T173000
DTSTAMP:20260423T014819
CREATED:20160807T233310Z
LAST-MODIFIED:20160808T015123Z
UID:343-1472045400-1472059800@thehappydogband.com
SUMMARY:The Happy Dog – LIVE at Sloppy Joe’s
DESCRIPTION:
URL:https://thehappydogband.com/concert/the-happy-dog-live-at-sloppy-joes-6/
LOCATION:Sloppy Joe’s\, 201 Duval Street\, Key West\, FL\, 33040\, United States
ATTACH;FMTTYPE=image/jpeg:https://thehappydogband.com/wp-content/uploads/2016/08/sloppy-joes-1.jpg
END:VEVENT
BEGIN:VEVENT
DTSTART;TZID=America/New_York:20160823T150000
DTEND;TZID=America/New_York:20160823T170000
DTSTAMP:20260423T014819
CREATED:20160807T233709Z
LAST-MODIFIED:20160808T020041Z
UID:350-1471964400-1471971600@thehappydogband.com
SUMMARY:The Happy Dog – LIVE at Sunset Pier
DESCRIPTION:
URL:https://thehappydogband.com/concert/the-happy-dog-live-at-sunset-pier-41/
LOCATION:Sunset Pier at Ocean Key House\, 0 Duval Street\, Key West\, FL\, 33040\, United States
ATTACH;FMTTYPE=image/jpeg:https://thehappydogband.com/wp-content/uploads/2016/08/sunset-pier.jpg
END:VEVENT
BEGIN:VEVENT
DTSTART;TZID=America/New_York:20160819T150000
DTEND;TZID=America/New_York:20160819T170000
DTSTAMP:20260423T014819
CREATED:20160807T233456Z
LAST-MODIFIED:20160808T020105Z
UID:346-1471618800-1471626000@thehappydogband.com
SUMMARY:The Happy Dog – LIVE at Sunset Pier
DESCRIPTION:
URL:https://thehappydogband.com/concert/the-happy-dog-live-at-sunset-pier-37/
LOCATION:Sunset Pier at Ocean Key House\, 0 Duval Street\, Key West\, FL\, 33040\, United States
ATTACH;FMTTYPE=image/jpeg:https://thehappydogband.com/wp-content/uploads/2016/08/sunset-pier.jpg
END:VEVENT
BEGIN:VEVENT
DTSTART;TZID=America/New_York:20160816T150000
DTEND;TZID=America/New_York:20160816T170000
DTSTAMP:20260423T014819
CREATED:20160807T233648Z
LAST-MODIFIED:20160808T021346Z
UID:349-1471359600-1471366800@thehappydogband.com
SUMMARY:The Happy Dog – LIVE at Sunset Pier
DESCRIPTION:
URL:https://thehappydogband.com/concert/the-happy-dog-live-at-sunset-pier-40/
LOCATION:Sunset Pier at Ocean Key House\, 0 Duval Street\, Key West\, FL\, 33040\, United States
ATTACH;FMTTYPE=image/jpeg:https://thehappydogband.com/wp-content/uploads/2016/08/sunset-pier.jpg
END:VEVENT
BEGIN:VEVENT
DTSTART;TZID=America/New_York:20160813T160000
DTEND;TZID=America/New_York:20160813T190000
DTSTAMP:20260423T014819
CREATED:20160807T233141Z
LAST-MODIFIED:20160807T233141Z
UID:342-1471104000-1471114800@thehappydogband.com
SUMMARY:The Happy Dog – LIVE at Salty Angler
DESCRIPTION:
URL:https://thehappydogband.com/concert/the-happy-dog-live-at-salty-angler-2/
LOCATION:Salty Angler\, 1114 Duval Street\, Key West\, FL\, 33040\, United States
END:VEVENT
END:VCALENDAR