BEGIN:VCALENDAR
VERSION:2.0
PRODID:-//The Happy Dog - ECPv6.3.7//NONSGML v1.0//EN
CALSCALE:GREGORIAN
METHOD:PUBLISH
X-WR-CALNAME:The Happy Dog
X-ORIGINAL-URL:https://thehappydogband.com
X-WR-CALDESC:Events for The Happy Dog
REFRESH-INTERVAL;VALUE=DURATION:PT1H
X-Robots-Tag:noindex
X-PUBLISHED-TTL:PT1H
BEGIN:VTIMEZONE
TZID:America/New_York
BEGIN:DAYLIGHT
TZOFFSETFROM:-0500
TZOFFSETTO:-0400
TZNAME:EDT
DTSTART:20160313T070000
END:DAYLIGHT
BEGIN:STANDARD
TZOFFSETFROM:-0400
TZOFFSETTO:-0500
TZNAME:EST
DTSTART:20161106T060000
END:STANDARD
END:VTIMEZONE
BEGIN:VEVENT
DTSTART;TZID=America/New_York:20160719T150000
DTEND;TZID=America/New_York:20160719T170000
DTSTAMP:20260423T030916
CREATED:20160701T004226Z
LAST-MODIFIED:20160701T004226Z
UID:313-1468940400-1468947600@thehappydogband.com
SUMMARY:The Happy Dog – LIVE at Sunset Pier
DESCRIPTION:
URL:https://thehappydogband.com/concert/the-happy-dog-live-at-sunset-pier-30/
LOCATION:Sunset Pier at Ocean Key House\, 0 Duval Street\, Key West\, FL\, 33040\, United States
END:VEVENT
BEGIN:VEVENT
DTSTART;TZID=America/New_York:20160718T180000
DTEND;TZID=America/New_York:20160718T220000
DTSTAMP:20260423T030916
CREATED:20160711T000503Z
LAST-MODIFIED:20160711T000503Z
UID:325-1468864800-1468879200@thehappydogband.com
SUMMARY:The Happy Dog – LIVE at Hog's Breath Saloon
DESCRIPTION:
URL:https://thehappydogband.com/concert/the-happy-dog-live-at-hogs-breath-saloon/
LOCATION:Hog’s Breath Saloon\, 400 Front Street\, Key West\, FL\, 33040\, United States
END:VEVENT
BEGIN:VEVENT
DTSTART;TZID=America/New_York:20160717T133000
DTEND;TZID=America/New_York:20160717T150000
DTSTAMP:20260423T030916
CREATED:20160608T183821Z
LAST-MODIFIED:20160608T183821Z
UID:303-1468762200-1468767600@thehappydogband.com
SUMMARY:The Happy Dog – LIVE at Green Parrot “Soundcheck”
DESCRIPTION:
URL:https://thehappydogband.com/concert/the-happy-dog-live-at-green-parrot-soundcheck-7/
LOCATION:Green Parrot\, 601 Whitehead Street\, Key West\, FL\, 33040\, United States
END:VEVENT
BEGIN:VEVENT
DTSTART;TZID=America/New_York:20160716T140000
DTEND;TZID=America/New_York:20160716T180000
DTSTAMP:20260423T030916
CREATED:20160701T005540Z
LAST-MODIFIED:20160701T005556Z
UID:319-1468677600-1468692000@thehappydogband.com
SUMMARY:The Happy Dog – LIVE at Mel Fisher Days "Block Party"
DESCRIPTION:
URL:https://thehappydogband.com/concert/the-happy-dog-live-at-mel-fisher-days-block-party/
LOCATION:Mel Fisher Days Block Party\, 200 Duval Street\, Key West\, FL\, 33040\, United States
END:VEVENT
BEGIN:VEVENT
DTSTART;TZID=America/New_York:20160715T150000
DTEND;TZID=America/New_York:20160715T170000
DTSTAMP:20260423T030916
CREATED:20160701T004914Z
LAST-MODIFIED:20160701T004914Z
UID:316-1468594800-1468602000@thehappydogband.com
SUMMARY:The Happy Dog – LIVE at Sunset Pier
DESCRIPTION:
URL:https://thehappydogband.com/concert/the-happy-dog-live-at-sunset-pier-33/
LOCATION:Sunset Pier at Ocean Key House\, 0 Duval Street\, Key West\, FL\, 33040\, United States
END:VEVENT
BEGIN:VEVENT
DTSTART;TZID=America/New_York:20160714T170000
DTEND;TZID=America/New_York:20160714T210000
DTSTAMP:20260423T030916
CREATED:20160608T183721Z
LAST-MODIFIED:20160608T183721Z
UID:302-1468515600-1468530000@thehappydogband.com
SUMMARY:The Happy Dog – LIVE at Green Parrot
DESCRIPTION:
URL:https://thehappydogband.com/concert/the-happy-dog-live-at-green-parrot-7/
LOCATION:Green Parrot\, 601 Whitehead Street\, Key West\, FL\, 33040\, United States
END:VEVENT
BEGIN:VEVENT
DTSTART;TZID=America/New_York:20160714T133000
DTEND;TZID=America/New_York:20160714T150000
DTSTAMP:20260423T030916
CREATED:20160608T183556Z
LAST-MODIFIED:20160608T183556Z
UID:301-1468503000-1468508400@thehappydogband.com
SUMMARY:The Happy Dog – LIVE at Green Parrot “Soundcheck”
DESCRIPTION:
URL:https://thehappydogband.com/concert/the-happy-dog-live-at-green-parrot-soundcheck-6/
LOCATION:Green Parrot\, 601 Whitehead Street\, Key West\, FL\, 33040\, United States
END:VEVENT
BEGIN:VEVENT
DTSTART;TZID=America/New_York:20160713T133000
DTEND;TZID=America/New_York:20160713T173000
DTSTAMP:20260423T030916
CREATED:20160509T203235Z
LAST-MODIFIED:20160509T203235Z
UID:288-1468416600-1468431000@thehappydogband.com
SUMMARY:The Happy Dog - LIVE at Sloppy Joe's
DESCRIPTION:
URL:https://thehappydogband.com/concert/the-happy-dog-live-at-sloppy-joes-2/
LOCATION:Sloppy Joe’s\, 201 Duval Street\, Key West\, FL\, 33040\, United States
END:VEVENT
BEGIN:VEVENT
DTSTART;TZID=America/New_York:20160712T150000
DTEND;TZID=America/New_York:20160712T170000
DTSTAMP:20260423T030916
CREATED:20160701T004159Z
LAST-MODIFIED:20160701T004159Z
UID:312-1468335600-1468342800@thehappydogband.com
SUMMARY:The Happy Dog – LIVE at Sunset Pier
DESCRIPTION:
URL:https://thehappydogband.com/concert/the-happy-dog-live-at-sunset-pier-29/
LOCATION:Sunset Pier at Ocean Key House\, 0 Duval Street\, Key West\, FL\, 33040\, United States
END:VEVENT
BEGIN:VEVENT
DTSTART;TZID=America/New_York:20160708T150000
DTEND;TZID=America/New_York:20160708T170000
DTSTAMP:20260423T030916
CREATED:20160701T004723Z
LAST-MODIFIED:20160701T004723Z
UID:315-1467990000-1467997200@thehappydogband.com
SUMMARY:The Happy Dog – LIVE at Sunset Pier
DESCRIPTION:
URL:https://thehappydogband.com/concert/the-happy-dog-live-at-sunset-pier-32/
LOCATION:Sunset Pier at Ocean Key House\, 0 Duval Street\, Key West\, FL\, 33040\, United States
END:VEVENT
BEGIN:VEVENT
DTSTART;TZID=America/New_York:20160707T063000
DTEND;TZID=America/New_York:20160707T093000
DTSTAMP:20260423T030916
CREATED:20160509T192732Z
LAST-MODIFIED:20160701T004403Z
UID:281-1467873000-1467883800@thehappydogband.com
SUMMARY:The Happy Dog - LIVE at Blue Heaven
DESCRIPTION:
URL:https://thehappydogband.com/concert/the-happy-dog-live-at-blue-heaven/
LOCATION:Blue Heaven\, 729 Thomas Street\, Key West\, FL\, 33040\, United States
END:VEVENT
BEGIN:VEVENT
DTSTART;TZID=America/New_York:20160706T133000
DTEND;TZID=America/New_York:20160706T173000
DTSTAMP:20260423T030916
CREATED:20160509T203203Z
LAST-MODIFIED:20160509T203203Z
UID:286-1467811800-1467826200@thehappydogband.com
SUMMARY:The Happy Dog - LIVE at Sloppy Joe's
DESCRIPTION:
URL:https://thehappydogband.com/concert/the-happy-dog-live-at-sloppy-joes/
LOCATION:Sloppy Joe’s\, 201 Duval Street\, Key West\, FL\, 33040\, United States
END:VEVENT
BEGIN:VEVENT
DTSTART;TZID=America/New_York:20160705T150000
DTEND;TZID=America/New_York:20160705T170000
DTSTAMP:20260423T030916
CREATED:20160701T004133Z
LAST-MODIFIED:20160701T004133Z
UID:311-1467730800-1467738000@thehappydogband.com
SUMMARY:The Happy Dog – LIVE at Sunset Pier
DESCRIPTION:
URL:https://thehappydogband.com/concert/the-happy-dog-live-at-sunset-pier-28/
LOCATION:Sunset Pier at Ocean Key House\, 0 Duval Street\, Key West\, FL\, 33040\, United States
END:VEVENT
BEGIN:VEVENT
DTSTART;TZID=America/New_York:20160704T133000
DTEND;TZID=America/New_York:20160704T173000
DTSTAMP:20260423T030916
CREATED:20160701T004004Z
LAST-MODIFIED:20160701T004004Z
UID:310-1467639000-1467653400@thehappydogband.com
SUMMARY:The Happy Dog - LIVE at Sloppy Joe's
DESCRIPTION:
URL:https://thehappydogband.com/concert/the-happy-dog-live-at-sloppy-joes-5/
LOCATION:Sloppy Joe’s\, 201 Duval Street\, Key West\, FL\, 33040\, United States
END:VEVENT
BEGIN:VEVENT
DTSTART;TZID=America/New_York:20160703T170000
DTEND;TZID=America/New_York:20160703T203000
DTSTAMP:20260423T030916
CREATED:20160701T003850Z
LAST-MODIFIED:20160701T003850Z
UID:309-1467565200-1467577800@thehappydogband.com
SUMMARY:The Happy Dog - LIVE at Green Parrot
DESCRIPTION:
URL:https://thehappydogband.com/concert/the-happy-dog-live-at-green-parrot-9/
LOCATION:Green Parrot\, 601 Whitehead Street\, Key West\, FL\, 33040\, United States
END:VEVENT
BEGIN:VEVENT
DTSTART;TZID=America/New_York:20160702T163000
DTEND;TZID=America/New_York:20160702T193000
DTSTAMP:20260423T030916
CREATED:20160701T003749Z
LAST-MODIFIED:20160701T003749Z
UID:307-1467477000-1467487800@thehappydogband.com
SUMMARY:The Happy Dog - LIVE at Salty Angler
DESCRIPTION:
URL:https://thehappydogband.com/concert/the-happy-dog-live-at-salty-angler/
LOCATION:Salty Angler\, 1114 Duval Street\, Key West\, FL\, 33040\, United States
END:VEVENT
BEGIN:VEVENT
DTSTART;TZID=America/New_York:20160702T133000
DTEND;TZID=America/New_York:20160702T150000
DTSTAMP:20260423T030916
CREATED:20160701T003546Z
LAST-MODIFIED:20160701T003546Z
UID:306-1467466200-1467471600@thehappydogband.com
SUMMARY:The Happy Dog - LIVE at Green Parrot "Soundcheck"
DESCRIPTION:
URL:https://thehappydogband.com/concert/the-happy-dog-live-at-green-parrot-soundcheck-8/
LOCATION:Green Parrot\, 601 Whitehead Street\, Key West\, FL\, 33040\, United States
END:VEVENT
BEGIN:VEVENT
DTSTART;TZID=America/New_York:20160701T195500
DTEND;TZID=America/New_York:20160701T220000
DTSTAMP:20260423T030916
CREATED:20160701T003146Z
LAST-MODIFIED:20160701T003421Z
UID:305-1467402900-1467410400@thehappydogband.com
SUMMARY:The Happy Dog - LIVE at Green Parrot
DESCRIPTION:
URL:https://thehappydogband.com/concert/the-happy-dog-live-at-green-parrot-8/
LOCATION:Green Parrot\, 601 Whitehead Street\, Key West\, FL\, 33040\, United States
END:VEVENT
BEGIN:VEVENT
DTSTART;TZID=America/New_York:20160701T160000
DTEND;TZID=America/New_York:20160701T190000
DTSTAMP:20260423T030916
CREATED:20160602T192225Z
LAST-MODIFIED:20160602T192225Z
UID:299-1467388800-1467399600@thehappydogband.com
SUMMARY:The Happy Dog – LIVE at The Porch
DESCRIPTION:
URL:https://thehappydogband.com/concert/the-happy-dog-live-at-the-porch-5/
LOCATION:The Porch\, 429 Caroline Street\, Key West\, 33040\, United States
END:VEVENT
BEGIN:VEVENT
DTSTART;TZID=America/New_York:20160628T150000
DTEND;TZID=America/New_York:20160628T170000
DTSTAMP:20260423T030916
CREATED:20160509T185346Z
LAST-MODIFIED:20160509T192612Z
UID:280-1467126000-1467133200@thehappydogband.com
SUMMARY:The Happy Dog – LIVE at Sunset Pier
DESCRIPTION:
URL:https://thehappydogband.com/concert/the-happy-dog-live-at-sunset-pier-26/
LOCATION:Sunset Pier at Ocean Key House\, 0 Duval Street\, Key West\, FL\, 33040\, United States
END:VEVENT
BEGIN:VEVENT
DTSTART;TZID=America/New_York:20160626T130000
DTEND;TZID=America/New_York:20160626T153000
DTSTAMP:20260423T030916
CREATED:20160523T225329Z
LAST-MODIFIED:20160523T225329Z
UID:296-1466946000-1466955000@thehappydogband.com
SUMMARY:The Happy Dog – LIVE at Salute!
DESCRIPTION:
URL:https://thehappydogband.com/concert/the-happy-dog-live-at-salute-4/
LOCATION:Saluté!\, 1000 Atlantic Blvd.\, Key West\, FL\, 33040\, United States
END:VEVENT
BEGIN:VEVENT
DTSTART;TZID=America/New_York:20160625T170000
DTEND;TZID=America/New_York:20160625T200000
DTSTAMP:20260423T030916
CREATED:20160502T192604Z
LAST-MODIFIED:20160502T192604Z
UID:268-1466874000-1466884800@thehappydogband.com
SUMMARY:The Happy Dog – LIVE at McConnell’s
DESCRIPTION:
URL:https://thehappydogband.com/concert/the-happy-dog-live-at-mcconnells-37/
LOCATION:McConnell’s Irish Pub\, 900 Duval Street\, Key West\, FL\, 33040\, United States
END:VEVENT
BEGIN:VEVENT
DTSTART;TZID=America/New_York:20160621T150000
DTEND;TZID=America/New_York:20160621T170000
DTSTAMP:20260423T030916
CREATED:20160502T191932Z
LAST-MODIFIED:20160509T192551Z
UID:259-1466521200-1466528400@thehappydogband.com
SUMMARY:The Happy Dog – LIVE at Sunset Pier
DESCRIPTION:
URL:https://thehappydogband.com/concert/the-happy-dog-live-at-sunset-pier-25/
LOCATION:Sunset Pier at Ocean Key House\, 0 Duval Street\, Key West\, FL\, 33040\, United States
END:VEVENT
BEGIN:VEVENT
DTSTART;TZID=America/New_York:20160619T130000
DTEND;TZID=America/New_York:20160619T153000
DTSTAMP:20260423T030916
CREATED:20160523T225304Z
LAST-MODIFIED:20160523T225304Z
UID:295-1466341200-1466350200@thehappydogband.com
SUMMARY:The Happy Dog – LIVE at Salute!
DESCRIPTION:
URL:https://thehappydogband.com/concert/the-happy-dog-live-at-salute-3/
LOCATION:Saluté!\, 1000 Atlantic Blvd.\, Key West\, FL\, 33040\, United States
END:VEVENT
BEGIN:VEVENT
DTSTART;TZID=America/New_York:20160618T170000
DTEND;TZID=America/New_York:20160618T200000
DTSTAMP:20260423T030916
CREATED:20160502T192533Z
LAST-MODIFIED:20160502T192533Z
UID:267-1466269200-1466280000@thehappydogband.com
SUMMARY:The Happy Dog – LIVE at McConnell’s
DESCRIPTION:
URL:https://thehappydogband.com/concert/the-happy-dog-live-at-mcconnells-36/
LOCATION:McConnell’s Irish Pub\, 900 Duval Street\, Key West\, FL\, 33040\, United States
END:VEVENT
BEGIN:VEVENT
DTSTART;TZID=America/New_York:20160614T150000
DTEND;TZID=America/New_York:20160614T170000
DTSTAMP:20260423T030916
CREATED:20160502T191839Z
LAST-MODIFIED:20160509T192530Z
UID:258-1465916400-1465923600@thehappydogband.com
SUMMARY:The Happy Dog – LIVE at Sunset Pier
DESCRIPTION:
URL:https://thehappydogband.com/concert/the-happy-dog-live-at-sunset-pier-24/
LOCATION:Sunset Pier at Ocean Key House\, 0 Duval Street\, Key West\, FL\, 33040\, United States
END:VEVENT
BEGIN:VEVENT
DTSTART;TZID=America/New_York:20160612T130000
DTEND;TZID=America/New_York:20160612T153000
DTSTAMP:20260423T030916
CREATED:20160523T225235Z
LAST-MODIFIED:20160523T225235Z
UID:294-1465736400-1465745400@thehappydogband.com
SUMMARY:The Happy Dog – LIVE at Salute!
DESCRIPTION:
URL:https://thehappydogband.com/concert/the-happy-dog-live-at-salute-2/
LOCATION:Saluté!\, 1000 Atlantic Blvd.\, Key West\, FL\, 33040\, United States
END:VEVENT
BEGIN:VEVENT
DTSTART;TZID=America/New_York:20160611T170000
DTEND;TZID=America/New_York:20160611T200000
DTSTAMP:20260423T030916
CREATED:20160502T192404Z
LAST-MODIFIED:20160502T192431Z
UID:266-1465664400-1465675200@thehappydogband.com
SUMMARY:The Happy Dog – LIVE at McConnell’s
DESCRIPTION:
URL:https://thehappydogband.com/concert/the-happy-dog-live-at-mcconnells-35/
LOCATION:McConnell’s Irish Pub\, 900 Duval Street\, Key West\, FL\, 33040\, United States
END:VEVENT
BEGIN:VEVENT
DTSTART;TZID=America/New_York:20160607T150000
DTEND;TZID=America/New_York:20160607T170000
DTSTAMP:20260423T030916
CREATED:20160502T191801Z
LAST-MODIFIED:20160509T192458Z
UID:257-1465311600-1465318800@thehappydogband.com
SUMMARY:The Happy Dog – LIVE at Sunset Pier
DESCRIPTION:
URL:https://thehappydogband.com/concert/the-happy-dog-live-at-sunset-pier-23/
LOCATION:Sunset Pier at Ocean Key House\, 0 Duval Street\, Key West\, FL\, 33040\, United States
END:VEVENT
BEGIN:VEVENT
DTSTART;TZID=America/New_York:20160605T130000
DTEND;TZID=America/New_York:20160605T153000
DTSTAMP:20260423T030916
CREATED:20160523T225048Z
LAST-MODIFIED:20160523T225048Z
UID:292-1465131600-1465140600@thehappydogband.com
SUMMARY:The Happy Dog - LIVE at Salute!
DESCRIPTION:
URL:https://thehappydogband.com/concert/the-happy-dog-live-at-salute/
LOCATION:Saluté!\, 1000 Atlantic Blvd.\, Key West\, FL\, 33040\, United States
END:VEVENT
END:VCALENDAR