BEGIN:VCALENDAR
VERSION:2.0
PRODID:-//The Happy Dog - ECPv6.3.7//NONSGML v1.0//EN
CALSCALE:GREGORIAN
METHOD:PUBLISH
X-WR-CALNAME:The Happy Dog
X-ORIGINAL-URL:https://thehappydogband.com
X-WR-CALDESC:Events for The Happy Dog
REFRESH-INTERVAL;VALUE=DURATION:PT1H
X-Robots-Tag:noindex
X-PUBLISHED-TTL:PT1H
BEGIN:VTIMEZONE
TZID:America/New_York
BEGIN:DAYLIGHT
TZOFFSETFROM:-0500
TZOFFSETTO:-0400
TZNAME:EDT
DTSTART:20220313T070000
END:DAYLIGHT
BEGIN:STANDARD
TZOFFSETFROM:-0400
TZOFFSETTO:-0500
TZNAME:EST
DTSTART:20221106T060000
END:STANDARD
END:VTIMEZONE
BEGIN:VEVENT
DTSTART;TZID=America/New_York:20220408T180000
DTEND;TZID=America/New_York:20220408T210000
DTSTAMP:20260421T191215
CREATED:20220406T184734Z
LAST-MODIFIED:20220406T184734Z
UID:2825-1649440800-1649451600@thehappydogband.com
SUMMARY:The Happy Dog â€“ LIVE at Salty Frog
DESCRIPTION:
URL:https://thehappydogband.com/concert/the-happy-dog-live-at-salty-frog-15/
LOCATION:Salty Frog\, 407 Front Street\, Key West\, 33040\, United States
ATTACH;FMTTYPE=image/gif:https://thehappydogband.com/wp-content/uploads/2016/07/cropped-website-logo-lotus.gif
END:VEVENT
BEGIN:VEVENT
DTSTART;TZID=America/New_York:20220407T170000
DTEND;TZID=America/New_York:20220407T200000
DTSTAMP:20260421T191215
CREATED:20220406T184416Z
LAST-MODIFIED:20220406T184416Z
UID:2817-1649350800-1649361600@thehappydogband.com
SUMMARY:The Happy Dog â€“ LIVE at Salute Bandshell
DESCRIPTION:
URL:https://thehappydogband.com/concert/the-happy-dog-live-at-salute-bandshell-7/
LOCATION:Saluté!\, 1000 Atlantic Blvd.\, Key West\, FL\, 33040\, United States
ATTACH;FMTTYPE=image/gif:https://thehappydogband.com/wp-content/uploads/2016/07/cropped-website-logo-lotus.gif
END:VEVENT
BEGIN:VEVENT
DTSTART;TZID=America/New_York:20220403T180000
DTEND;TZID=America/New_York:20220403T210000
DTSTAMP:20260421T191215
CREATED:20220406T185447Z
LAST-MODIFIED:20220406T185447Z
UID:2841-1649008800-1649019600@thehappydogband.com
SUMMARY:The Happy Dog â€“ LIVE at Kikiâ€™s Sandbar
DESCRIPTION:
URL:https://thehappydogband.com/concert/the-happy-dog-live-at-kikis-sandbar-11/
LOCATION:Kiki’s Sandbar\, 183 Barry Lane\, Little Torch Key\, 33040\, United States
ATTACH;FMTTYPE=image/gif:https://thehappydogband.com/wp-content/uploads/2016/07/cropped-website-logo-lotus.gif
END:VEVENT
BEGIN:VEVENT
DTSTART;TZID=America/New_York:20220402T180000
DTEND;TZID=America/New_York:20220402T210000
DTSTAMP:20260421T191215
CREATED:20220406T185804Z
LAST-MODIFIED:20220406T185804Z
UID:2851-1648922400-1648933200@thehappydogband.com
SUMMARY:The Happy Dog â€“ LIVE at Salty Frog
DESCRIPTION:
URL:https://thehappydogband.com/concert/the-happy-dog-live-at-salty-frog-26/
LOCATION:Salty Frog\, 407 Front Street\, Key West\, 33040\, United States
ATTACH;FMTTYPE=image/gif:https://thehappydogband.com/wp-content/uploads/2016/07/cropped-website-logo-lotus.gif
END:VEVENT
BEGIN:VEVENT
DTSTART;TZID=America/New_York:20220401T180000
DTEND;TZID=America/New_York:20220401T210000
DTSTAMP:20260421T191215
CREATED:20220406T185733Z
LAST-MODIFIED:20220406T185734Z
UID:2849-1648836000-1648846800@thehappydogband.com
SUMMARY:The Happy Dog â€“ LIVE at Salty Frog
DESCRIPTION:
URL:https://thehappydogband.com/concert/the-happy-dog-live-at-salty-frog-25/
LOCATION:Salty Frog\, 407 Front Street\, Key West\, 33040\, United States
ATTACH;FMTTYPE=image/gif:https://thehappydogband.com/wp-content/uploads/2016/07/cropped-website-logo-lotus.gif
END:VEVENT
BEGIN:VEVENT
DTSTART;TZID=America/New_York:20220331T210000
DTEND;TZID=America/New_York:20220401T010000
DTSTAMP:20260421T191215
CREATED:20220304T202434Z
LAST-MODIFIED:20220304T202434Z
UID:2807-1648760400-1648774800@thehappydogband.com
SUMMARY:The Happy Dog â€“ LIVE at Green Parrot
DESCRIPTION:
URL:https://thehappydogband.com/concert/the-happy-dog-live-at-green-parrot-99/
LOCATION:Green Parrot\, 601 Whitehead Street\, Key West\, FL\, 33040\, United States
ATTACH;FMTTYPE=image/gif:https://thehappydogband.com/wp-content/uploads/2016/07/cropped-website-logo-lotus.gif
END:VEVENT
BEGIN:VEVENT
DTSTART;TZID=America/New_York:20220331T173000
DTEND;TZID=America/New_York:20220331T190000
DTSTAMP:20260421T191215
CREATED:20220304T202340Z
LAST-MODIFIED:20220304T202340Z
UID:2805-1648747800-1648753200@thehappydogband.com
SUMMARY:The Happy Dog â€“ LIVE at Green Parrot Soundcheck
DESCRIPTION:
URL:https://thehappydogband.com/concert/the-happy-dog-live-at-green-parrot-soundcheck-122/
LOCATION:Green Parrot\, 601 Whitehead Street\, Key West\, FL\, 33040\, United States
ATTACH;FMTTYPE=image/gif:https://thehappydogband.com/wp-content/uploads/2016/07/cropped-website-logo-lotus.gif
END:VEVENT
BEGIN:VEVENT
DTSTART;TZID=America/New_York:20220327T180000
DTEND;TZID=America/New_York:20220327T180000
DTSTAMP:20260421T191215
CREATED:20220304T202129Z
LAST-MODIFIED:20220304T202129Z
UID:2799-1648404000-1648404000@thehappydogband.com
SUMMARY:The Happy Dog â€“ LIVE at Kikiâ€™s Sandbar
DESCRIPTION:
URL:https://thehappydogband.com/concert/the-happy-dog-live-at-kikis-sandbar-10/
LOCATION:Kiki’s Sandbar\, 183 Barry Lane\, Little Torch Key\, 33040\, United States
ATTACH;FMTTYPE=image/gif:https://thehappydogband.com/wp-content/uploads/2016/07/cropped-website-logo-lotus.gif
END:VEVENT
BEGIN:VEVENT
DTSTART;TZID=America/New_York:20220326T173000
DTEND;TZID=America/New_York:20220326T203000
DTSTAMP:20260421T191215
CREATED:20220304T202259Z
LAST-MODIFIED:20220304T202259Z
UID:2803-1648315800-1648326600@thehappydogband.com
SUMMARY:The Happy Dog â€“ LIVE at Salty Frog
DESCRIPTION:
URL:https://thehappydogband.com/concert/the-happy-dog-live-at-salty-frog-16/
LOCATION:Salty Frog\, 407 Front Street\, Key West\, 33040\, United States
ATTACH;FMTTYPE=image/gif:https://thehappydogband.com/wp-content/uploads/2016/07/cropped-website-logo-lotus.gif
END:VEVENT
BEGIN:VEVENT
DTSTART;TZID=America/New_York:20220325T173000
DTEND;TZID=America/New_York:20220325T203000
DTSTAMP:20260421T191215
CREATED:20220304T202553Z
LAST-MODIFIED:20220304T202553Z
UID:2809-1648229400-1648240200@thehappydogband.com
SUMMARY:The Happy Dog â€“ LIVE at Salty Frog
DESCRIPTION:
URL:https://thehappydogband.com/concert/the-happy-dog-live-at-salty-frog-17/
LOCATION:Salty Frog\, 407 Front Street\, Key West\, 33040\, United States
ATTACH;FMTTYPE=image/gif:https://thehappydogband.com/wp-content/uploads/2016/07/cropped-website-logo-lotus.gif
END:VEVENT
BEGIN:VEVENT
DTSTART;TZID=America/New_York:20220320T180000
DTEND;TZID=America/New_York:20220320T210000
DTSTAMP:20260421T191215
CREATED:20220304T202100Z
LAST-MODIFIED:20220304T202100Z
UID:2797-1647799200-1647810000@thehappydogband.com
SUMMARY:The Happy Dog â€“ LIVE at Kikiâ€™s Sandbar
DESCRIPTION:
URL:https://thehappydogband.com/concert/the-happy-dog-live-at-kikis-sandbar-9/
LOCATION:Kiki’s Sandbar\, 183 Barry Lane\, Little Torch Key\, 33040\, United States
ATTACH;FMTTYPE=image/gif:https://thehappydogband.com/wp-content/uploads/2016/07/cropped-website-logo-lotus.gif
END:VEVENT
BEGIN:VEVENT
DTSTART;TZID=America/New_York:20220319T210000
DTEND;TZID=America/New_York:20220320T010000
DTSTAMP:20260421T191215
CREATED:20220304T201835Z
LAST-MODIFIED:20220304T201835Z
UID:2791-1647723600-1647738000@thehappydogband.com
SUMMARY:The Happy Dog â€“ LIVE at Green Parrot
DESCRIPTION:
URL:https://thehappydogband.com/concert/the-happy-dog-live-at-green-parrot-98/
LOCATION:Green Parrot\, 601 Whitehead Street\, Key West\, FL\, 33040\, United States
ATTACH;FMTTYPE=image/gif:https://thehappydogband.com/wp-content/uploads/2016/07/cropped-website-logo-lotus.gif
END:VEVENT
BEGIN:VEVENT
DTSTART;TZID=America/New_York:20220319T173000
DTEND;TZID=America/New_York:20220319T190000
DTSTAMP:20260421T191215
CREATED:20220304T201948Z
LAST-MODIFIED:20220304T201948Z
UID:2795-1647711000-1647716400@thehappydogband.com
SUMMARY:The Happy Dog â€“ LIVE at Green Parrot Soundcheck
DESCRIPTION:
URL:https://thehappydogband.com/concert/the-happy-dog-live-at-green-parrot-soundcheck-121/
LOCATION:Green Parrot\, 601 Whitehead Street\, Key West\, FL\, 33040\, United States
ATTACH;FMTTYPE=image/gif:https://thehappydogband.com/wp-content/uploads/2016/07/cropped-website-logo-lotus.gif
END:VEVENT
BEGIN:VEVENT
DTSTART;TZID=America/New_York:20220318T210000
DTEND;TZID=America/New_York:20220319T010000
DTSTAMP:20260421T191215
CREATED:20220304T201802Z
LAST-MODIFIED:20220304T201802Z
UID:2789-1647637200-1647651600@thehappydogband.com
SUMMARY:The Happy Dog â€“ LIVE at Green Parrot
DESCRIPTION:
URL:https://thehappydogband.com/concert/the-happy-dog-live-at-green-parrot-97/
LOCATION:Green Parrot\, 601 Whitehead Street\, Key West\, FL\, 33040\, United States
ATTACH;FMTTYPE=image/gif:https://thehappydogband.com/wp-content/uploads/2016/07/cropped-website-logo-lotus.gif
END:VEVENT
BEGIN:VEVENT
DTSTART;TZID=America/New_York:20220318T173000
DTEND;TZID=America/New_York:20220318T190000
DTSTAMP:20260421T191215
CREATED:20220304T201919Z
LAST-MODIFIED:20220304T201919Z
UID:2793-1647624600-1647630000@thehappydogband.com
SUMMARY:The Happy Dog â€“ LIVE at Green Parrot Soundcheck
DESCRIPTION:
URL:https://thehappydogband.com/concert/the-happy-dog-live-at-green-parrot-soundcheck-120/
LOCATION:Green Parrot\, 601 Whitehead Street\, Key West\, FL\, 33040\, United States
ATTACH;FMTTYPE=image/gif:https://thehappydogband.com/wp-content/uploads/2016/07/cropped-website-logo-lotus.gif
END:VEVENT
BEGIN:VEVENT
DTSTART;TZID=America/New_York:20220317T170000
DTEND;TZID=America/New_York:20220317T200000
DTSTAMP:20260421T191215
CREATED:20220304T201639Z
LAST-MODIFIED:20220304T201709Z
UID:2787-1647536400-1647547200@thehappydogband.com
SUMMARY:The Happy Dog â€“ LIVE at Salute Bandshell
DESCRIPTION:
URL:https://thehappydogband.com/concert/the-happy-dog-live-at-salute-bandshell-6/
LOCATION:Saluté!\, 1000 Atlantic Blvd.\, Key West\, FL\, 33040\, United States
ATTACH;FMTTYPE=image/gif:https://thehappydogband.com/wp-content/uploads/2016/07/cropped-website-logo-lotus.gif
END:VEVENT
BEGIN:VEVENT
DTSTART;TZID=America/New_York:20220312T173000
DTEND;TZID=America/New_York:20220312T203000
DTSTAMP:20260421T191215
CREATED:20220304T201534Z
LAST-MODIFIED:20220304T201534Z
UID:2785-1647106200-1647117000@thehappydogband.com
SUMMARY:The Happy Dog â€“ LIVE at Salty Frog
DESCRIPTION:
URL:https://thehappydogband.com/concert/the-happy-dog-live-at-salty-frog-14/
LOCATION:Salty Frog\, 407 Front Street\, Key West\, 33040\, United States
ATTACH;FMTTYPE=image/gif:https://thehappydogband.com/wp-content/uploads/2016/07/cropped-website-logo-lotus.gif
END:VEVENT
BEGIN:VEVENT
DTSTART;TZID=America/New_York:20220311T173000
DTEND;TZID=America/New_York:20220311T203000
DTSTAMP:20260421T191215
CREATED:20220304T201501Z
LAST-MODIFIED:20220304T201501Z
UID:2783-1647019800-1647030600@thehappydogband.com
SUMMARY:The Happy Dog â€“ LIVE at Salty Frog
DESCRIPTION:
URL:https://thehappydogband.com/concert/the-happy-dog-live-at-salty-frog-13/
LOCATION:Salty Frog\, 407 Front Street\, Key West\, 33040\, United States
ATTACH;FMTTYPE=image/gif:https://thehappydogband.com/wp-content/uploads/2016/07/cropped-website-logo-lotus.gif
END:VEVENT
BEGIN:VEVENT
DTSTART;TZID=America/New_York:20220306T180000
DTEND;TZID=America/New_York:20220306T210000
DTSTAMP:20260421T191215
CREATED:20220304T201416Z
LAST-MODIFIED:20220304T201416Z
UID:2781-1646589600-1646600400@thehappydogband.com
SUMMARY:The Happy Dog â€“ LIVE at Kikiâ€™s Sandbar
DESCRIPTION:
URL:https://thehappydogband.com/concert/the-happy-dog-live-at-kikis-sandbar-4/
LOCATION:Kiki’s Sandbar\, 183 Barry Lane\, Little Torch Key\, 33040\, United States
ATTACH;FMTTYPE=image/gif:https://thehappydogband.com/wp-content/uploads/2016/07/cropped-website-logo-lotus.gif
END:VEVENT
BEGIN:VEVENT
DTSTART;TZID=America/New_York:20220305T173000
DTEND;TZID=America/New_York:20220305T203000
DTSTAMP:20260421T191215
CREATED:20220304T201326Z
LAST-MODIFIED:20220304T201326Z
UID:2779-1646501400-1646512200@thehappydogband.com
SUMMARY:The Happy Dog â€“ LIVE at Salty Frog
DESCRIPTION:
URL:https://thehappydogband.com/concert/the-happy-dog-live-at-salty-frog-12/
LOCATION:Salty Frog\, 407 Front Street\, Key West\, 33040\, United States
ATTACH;FMTTYPE=image/gif:https://thehappydogband.com/wp-content/uploads/2016/07/cropped-website-logo-lotus.gif
END:VEVENT
BEGIN:VEVENT
DTSTART;TZID=America/New_York:20220304T190000
DTEND;TZID=America/New_York:20220304T220000
DTSTAMP:20260421T191215
CREATED:20220304T201235Z
LAST-MODIFIED:20220304T201235Z
UID:2777-1646420400-1646431200@thehappydogband.com
SUMMARY:The Happy Dog â€“ LIVE at Looe Key Tiki Bar
DESCRIPTION:
URL:https://thehappydogband.com/concert/the-happy-dog-live-at-looe-key-tiki-bar-10/
LOCATION:Looe Key Tiki Bar\, 27340 Overseas Highway\, Ramrod Key\, FL\, 33042\, United States
ATTACH;FMTTYPE=image/gif:https://thehappydogband.com/wp-content/uploads/2016/07/cropped-website-logo-lotus.gif
END:VEVENT
BEGIN:VEVENT
DTSTART;TZID=America/New_York:20220303T170000
DTEND;TZID=America/New_York:20220303T200000
DTSTAMP:20260421T191215
CREATED:20220304T201147Z
LAST-MODIFIED:20220304T201147Z
UID:2775-1646326800-1646337600@thehappydogband.com
SUMMARY:The Happy Dog â€“ LIVE at Salute Bandshell
DESCRIPTION:
URL:https://thehappydogband.com/concert/the-happy-dog-live-at-salute-bandshell-5/
LOCATION:Saluté!\, 1000 Atlantic Blvd.\, Key West\, FL\, 33040\, United States
ATTACH;FMTTYPE=image/gif:https://thehappydogband.com/wp-content/uploads/2016/07/cropped-website-logo-lotus.gif
END:VEVENT
BEGIN:VEVENT
DTSTART;TZID=America/New_York:20220302T173000
DTEND;TZID=America/New_York:20220302T190000
DTSTAMP:20260421T191215
CREATED:20220304T201100Z
LAST-MODIFIED:20220304T201100Z
UID:2773-1646242200-1646247600@thehappydogband.com
SUMMARY:The Happy Dog â€“ LIVE at Green Parrot Soundcheck
DESCRIPTION:
URL:https://thehappydogband.com/concert/the-happy-dog-live-at-green-parrot-soundcheck-119/
LOCATION:Green Parrot\, 601 Whitehead Street\, Key West\, FL\, 33040\, United States
ATTACH;FMTTYPE=image/gif:https://thehappydogband.com/wp-content/uploads/2016/07/cropped-website-logo-lotus.gif
END:VEVENT
BEGIN:VEVENT
DTSTART;TZID=America/New_York:20220227T170000
DTEND;TZID=America/New_York:20220227T200000
DTSTAMP:20260421T191215
CREATED:20220208T050006Z
LAST-MODIFIED:20220208T050006Z
UID:2770-1645981200-1645992000@thehappydogband.com
SUMMARY:The Happy Dog â€“ LIVE at Salute Bandshell
DESCRIPTION:
URL:https://thehappydogband.com/concert/the-happy-dog-live-at-salute-bandshell-4/
LOCATION:Saluté!\, 1000 Atlantic Blvd.\, Key West\, FL\, 33040\, United States
ATTACH;FMTTYPE=image/gif:https://thehappydogband.com/wp-content/uploads/2016/07/cropped-website-logo-lotus.gif
END:VEVENT
BEGIN:VEVENT
DTSTART;TZID=America/New_York:20220226T170000
DTEND;TZID=America/New_York:20220226T200000
DTSTAMP:20260421T191215
CREATED:20220201T182054Z
LAST-MODIFIED:20220201T182054Z
UID:2748-1645894800-1645905600@thehappydogband.com
SUMMARY:The Happy Dog â€“ LIVE at Salty Frog
DESCRIPTION:
URL:https://thehappydogband.com/concert/the-happy-dog-live-at-salty-frog-11/
LOCATION:Salty Frog\, 407 Front Street\, Key West\, 33040\, United States
ATTACH;FMTTYPE=image/gif:https://thehappydogband.com/wp-content/uploads/2016/07/cropped-website-logo-lotus.gif
END:VEVENT
BEGIN:VEVENT
DTSTART;TZID=America/New_York:20220225T180000
DTEND;TZID=America/New_York:20220225T210000
DTSTAMP:20260421T191215
CREATED:20220201T183250Z
LAST-MODIFIED:20220201T183250Z
UID:2767-1645812000-1645822800@thehappydogband.com
SUMMARY:The Happy Dog - LIVE at Blue Heaven
DESCRIPTION:
URL:https://thehappydogband.com/concert/the-happy-dog-live-at-blue-heaven-68/
LOCATION:Blue Heaven\, 729 Thomas Street\, Key West\, FL\, 33040\, United States
ATTACH;FMTTYPE=image/jpeg:https://thehappydogband.com/wp-content/uploads/2019/11/blue-heaven-gig.jpg
END:VEVENT
BEGIN:VEVENT
DTSTART;TZID=America/New_York:20220220T170000
DTEND;TZID=America/New_York:20220220T200000
DTSTAMP:20260421T191215
CREATED:20220201T182406Z
LAST-MODIFIED:20220201T182406Z
UID:2754-1645376400-1645387200@thehappydogband.com
SUMMARY:The Happy Dog â€“ LIVE at Salute Bandshell
DESCRIPTION:
URL:https://thehappydogband.com/concert/the-happy-dog-live-at-salute-bandshell-3/
LOCATION:Saluté!\, 1000 Atlantic Blvd.\, Key West\, FL\, 33040\, United States
ATTACH;FMTTYPE=image/gif:https://thehappydogband.com/wp-content/uploads/2016/07/cropped-website-logo-lotus.gif
END:VEVENT
BEGIN:VEVENT
DTSTART;TZID=America/New_York:20220219T170000
DTEND;TZID=America/New_York:20220219T200000
DTSTAMP:20260421T191215
CREATED:20220201T182015Z
LAST-MODIFIED:20220201T182015Z
UID:2746-1645290000-1645300800@thehappydogband.com
SUMMARY:The Happy Dog â€“ LIVE at Salty Frog
DESCRIPTION:
URL:https://thehappydogband.com/concert/the-happy-dog-live-at-salty-frog-10/
LOCATION:Salty Frog\, 407 Front Street\, Key West\, 33040\, United States
ATTACH;FMTTYPE=image/gif:https://thehappydogband.com/wp-content/uploads/2016/07/cropped-website-logo-lotus.gif
END:VEVENT
BEGIN:VEVENT
DTSTART;TZID=America/New_York:20220217T210000
DTEND;TZID=America/New_York:20220218T003000
DTSTAMP:20260421T191215
CREATED:20220201T182808Z
LAST-MODIFIED:20220201T182808Z
UID:2762-1645131600-1645144200@thehappydogband.com
SUMMARY:The Happy Dog â€“ LIVE at Green Parrot
DESCRIPTION:
URL:https://thehappydogband.com/concert/the-happy-dog-live-at-green-parrot-96/
LOCATION:Green Parrot\, 601 Whitehead Street\, Key West\, FL\, 33040\, United States
ATTACH;FMTTYPE=image/jpeg:https://thehappydogband.com/wp-content/uploads/2019/04/green-parrot-late.jpg
END:VEVENT
BEGIN:VEVENT
DTSTART;TZID=America/New_York:20220217T173000
DTEND;TZID=America/New_York:20220217T190000
DTSTAMP:20260421T191215
CREATED:20220201T182720Z
LAST-MODIFIED:20220201T182720Z
UID:2760-1645119000-1645124400@thehappydogband.com
SUMMARY:The Happy Dog â€“ LIVE at Green Parrot Soundcheck
DESCRIPTION:
URL:https://thehappydogband.com/concert/the-happy-dog-live-at-green-parrot-soundcheck-118/
LOCATION:Green Parrot\, 601 Whitehead Street\, Key West\, FL\, 33040\, United States
ATTACH;FMTTYPE=image/jpeg:https://thehappydogband.com/wp-content/uploads/2018/05/green-parrot-soundcheck.jpg
END:VEVENT
END:VCALENDAR