BEGIN:VCALENDAR
VERSION:2.0
PRODID:-//The Happy Dog - ECPv6.3.7//NONSGML v1.0//EN
CALSCALE:GREGORIAN
METHOD:PUBLISH
X-WR-CALNAME:The Happy Dog
X-ORIGINAL-URL:https://thehappydogband.com
X-WR-CALDESC:Events for The Happy Dog
REFRESH-INTERVAL;VALUE=DURATION:PT1H
X-Robots-Tag:noindex
X-PUBLISHED-TTL:PT1H
BEGIN:VTIMEZONE
TZID:America/New_York
BEGIN:DAYLIGHT
TZOFFSETFROM:-0500
TZOFFSETTO:-0400
TZNAME:EDT
DTSTART:20190310T070000
END:DAYLIGHT
BEGIN:STANDARD
TZOFFSETFROM:-0400
TZOFFSETTO:-0500
TZNAME:EST
DTSTART:20191103T060000
END:STANDARD
BEGIN:DAYLIGHT
TZOFFSETFROM:-0500
TZOFFSETTO:-0400
TZNAME:EDT
DTSTART:20200308T070000
END:DAYLIGHT
BEGIN:STANDARD
TZOFFSETFROM:-0400
TZOFFSETTO:-0500
TZNAME:EST
DTSTART:20201101T060000
END:STANDARD
END:VTIMEZONE
BEGIN:VEVENT
DTSTART;TZID=America/New_York:20200214T133000
DTEND;TZID=America/New_York:20200214T183000
DTSTAMP:20260422T024139
CREATED:20200207T224137Z
LAST-MODIFIED:20200207T224137Z
UID:2501-1581687000-1581705000@thehappydogband.com
SUMMARY:The Happy Dog â€“ LIVE at Schooner Wharf
DESCRIPTION:
URL:https://thehappydogband.com/concert/the-happy-dog-live-at-schooner-wharf-35/
LOCATION:Schooner Wharf\, 202 William Street\, Key West\, 33040\, United States
ATTACH;FMTTYPE=image/jpeg:https://thehappydogband.com/wp-content/uploads/2018/05/schooner-wharf-event-photo.jpg
END:VEVENT
BEGIN:VEVENT
DTSTART;TZID=America/New_York:20200212T123000
DTEND;TZID=America/New_York:20200212T140000
DTSTAMP:20260422T024139
CREATED:20200207T224045Z
LAST-MODIFIED:20200207T224045Z
UID:2499-1581510600-1581516000@thehappydogband.com
SUMMARY:The Happy Dog â€“ LIVE at Green Parrot â€œSoundcheckâ€
DESCRIPTION:
URL:https://thehappydogband.com/concert/the-happy-dog-live-at-green-parrot-soundcheck-110/
LOCATION:Green Parrot\, 601 Whitehead Street\, Key West\, FL\, 33040\, United States
ATTACH;FMTTYPE=image/jpeg:https://thehappydogband.com/wp-content/uploads/2018/05/green-parrot-soundcheck.jpg
END:VEVENT
BEGIN:VEVENT
DTSTART;TZID=America/New_York:20200211T150000
DTEND;TZID=America/New_York:20200211T180000
DTSTAMP:20260422T024139
CREATED:20200207T223528Z
LAST-MODIFIED:20200207T223528Z
UID:2489-1581433200-1581444000@thehappydogband.com
SUMMARY:The Happy Dog â€“ LIVE at Salty Angler
DESCRIPTION:
URL:https://thehappydogband.com/concert/the-happy-dog-live-at-salty-angler-97/
LOCATION:Salty Angler\, 1114 Duval Street\, Key West\, FL\, 33040\, United States
ATTACH;FMTTYPE=image/jpeg:https://thehappydogband.com/wp-content/uploads/2017/06/salty-angler-event-photo.jpg
END:VEVENT
BEGIN:VEVENT
DTSTART;TZID=America/New_York:20200210T130000
DTEND;TZID=America/New_York:20200210T160000
DTSTAMP:20260422T024139
CREATED:20200207T223328Z
LAST-MODIFIED:20200207T223328Z
UID:2485-1581339600-1581350400@thehappydogband.com
SUMMARY:The Happy Dog â€“ LIVE at Blue Heaven
DESCRIPTION:
URL:https://thehappydogband.com/concert/the-happy-dog-live-at-blue-heaven-63/
LOCATION:Blue Heaven\, 729 Thomas Street\, Key West\, FL\, 33040\, United States
ATTACH;FMTTYPE=image/jpeg:https://thehappydogband.com/wp-content/uploads/2019/11/blue-heaven-gig.jpg
END:VEVENT
BEGIN:VEVENT
DTSTART;TZID=America/New_York:20200130T130000
DTEND;TZID=America/New_York:20200130T160000
DTSTAMP:20260422T024139
CREATED:20200102T005847Z
LAST-MODIFIED:20200102T005847Z
UID:2456-1580389200-1580400000@thehappydogband.com
SUMMARY:The Happy Dog â€“ LIVE at Blue Heaven
DESCRIPTION:
URL:https://thehappydogband.com/concert/the-happy-dog-live-at-blue-heaven-61/
LOCATION:Blue Heaven\, 729 Thomas Street\, Key West\, FL\, 33040\, United States
ATTACH;FMTTYPE=image/jpeg:https://thehappydogband.com/wp-content/uploads/2019/11/blue-heaven-gig.jpg
END:VEVENT
BEGIN:VEVENT
DTSTART;TZID=America/New_York:20200129T160000
DTEND;TZID=America/New_York:20200129T190000
DTSTAMP:20260422T024139
CREATED:20200102T010128Z
LAST-MODIFIED:20200102T010128Z
UID:2460-1580313600-1580324400@thehappydogband.com
SUMMARY:The Happy Dog â€“ LIVE at General Horseplay
DESCRIPTION:
URL:https://thehappydogband.com/concert/the-happy-dog-live-at-general-horseplay-14/
LOCATION:FL
ATTACH;FMTTYPE=image/jpeg:https://thehappydogband.com/wp-content/uploads/2019/04/general-horseplay-event.jpg
END:VEVENT
BEGIN:VEVENT
DTSTART;TZID=America/New_York:20200127T140000
DTEND;TZID=America/New_York:20200127T170000
DTSTAMP:20260422T024139
CREATED:20200102T005358Z
LAST-MODIFIED:20200102T005358Z
UID:2448-1580133600-1580144400@thehappydogband.com
SUMMARY:The Happy Dog â€“ LIVE at The Dirty Pig
DESCRIPTION:
URL:https://thehappydogband.com/concert/the-happy-dog-live-at-the-dirty-pig-31/
LOCATION:The Dirty Pig\, 320 Grinnell Street\, Key West\, 33040\, United States
ATTACH;FMTTYPE=image/jpeg:https://thehappydogband.com/wp-content/uploads/2019/04/dirty-pig.jpg
END:VEVENT
BEGIN:VEVENT
DTSTART;TZID=America/New_York:20200125T130000
DTEND;TZID=America/New_York:20200125T160000
DTSTAMP:20260422T024139
CREATED:20200102T005920Z
LAST-MODIFIED:20200102T005920Z
UID:2458-1579957200-1579968000@thehappydogband.com
SUMMARY:The Happy Dog â€“ LIVE at Blue Heaven
DESCRIPTION:
URL:https://thehappydogband.com/concert/the-happy-dog-live-at-blue-heaven-62/
LOCATION:Blue Heaven\, 729 Thomas Street\, Key West\, FL\, 33040\, United States
ATTACH;FMTTYPE=image/jpeg:https://thehappydogband.com/wp-content/uploads/2019/11/blue-heaven-gig.jpg
END:VEVENT
BEGIN:VEVENT
DTSTART;TZID=America/New_York:20200124T150000
DTEND;TZID=America/New_York:20200124T180000
DTSTAMP:20260422T024139
CREATED:20200102T010336Z
LAST-MODIFIED:20200102T010336Z
UID:2464-1579878000-1579888800@thehappydogband.com
SUMMARY:The Happy Dog â€“ LIVE at Sugarloaf Lodge
DESCRIPTION:
URL:https://thehappydogband.com/concert/the-happy-dog-live-at-sugarloaf-lodge-14/
LOCATION:Sugarloaf Lodge\, 17001 Overseas Hwy\, Sugarloaf\, FL\, 33042\, United States
ATTACH;FMTTYPE=image/jpeg:https://thehappydogband.com/wp-content/uploads/2017/06/squid-event-photo.jpg
END:VEVENT
BEGIN:VEVENT
DTSTART;TZID=America/New_York:20200123T150000
DTEND;TZID=America/New_York:20200123T180000
DTSTAMP:20260422T024139
CREATED:20200102T005657Z
LAST-MODIFIED:20200102T005657Z
UID:2454-1579791600-1579802400@thehappydogband.com
SUMMARY:The Happy Dog â€“ LIVE at Salty Angler
DESCRIPTION:
URL:https://thehappydogband.com/concert/the-happy-dog-live-at-salty-angler-96/
LOCATION:Salty Angler\, 1114 Duval Street\, Key West\, FL\, 33040\, United States
ATTACH;FMTTYPE=image/jpeg:https://thehappydogband.com/wp-content/uploads/2016/10/salty-angler.jpg
END:VEVENT
BEGIN:VEVENT
DTSTART;TZID=America/New_York:20200122T160000
DTEND;TZID=America/New_York:20200122T193000
DTSTAMP:20260422T024139
CREATED:20200102T012010Z
LAST-MODIFIED:20200102T012010Z
UID:2472-1579708800-1579721400@thehappydogband.com
SUMMARY:The Happy Dog â€“ LIVE at Green Parrot
DESCRIPTION:
URL:https://thehappydogband.com/concert/the-happy-dog-live-at-green-parrot-88/
LOCATION:Green Parrot\, 601 Whitehead Street\, Key West\, FL\, 33040\, United States
ATTACH;FMTTYPE=image/jpeg:https://thehappydogband.com/wp-content/uploads/2019/04/green-parrot-late.jpg
END:VEVENT
BEGIN:VEVENT
DTSTART;TZID=America/New_York:20200122T123000
DTEND;TZID=America/New_York:20200122T140000
DTSTAMP:20260422T024139
CREATED:20200102T011922Z
LAST-MODIFIED:20200102T011922Z
UID:2470-1579696200-1579701600@thehappydogband.com
SUMMARY:The Happy Dog â€“ LIVE at Green Parrot â€œSoundcheckâ€
DESCRIPTION:
URL:https://thehappydogband.com/concert/the-happy-dog-live-at-green-parrot-soundcheck-109/
LOCATION:Green Parrot\, 601 Whitehead Street\, Key West\, FL\, 33040\, United States
ATTACH;FMTTYPE=image/jpeg:https://thehappydogband.com/wp-content/uploads/2018/05/green-parrot-soundcheck.jpg
END:VEVENT
BEGIN:VEVENT
DTSTART;TZID=America/New_York:20200120T140000
DTEND;TZID=America/New_York:20200120T170000
DTSTAMP:20260422T024139
CREATED:20200102T005223Z
LAST-MODIFIED:20200102T005223Z
UID:2446-1579528800-1579539600@thehappydogband.com
SUMMARY:The Happy Dog â€“ LIVE at The Dirty Pig
DESCRIPTION:
URL:https://thehappydogband.com/concert/the-happy-dog-live-at-the-dirty-pig-30/
LOCATION:The Dirty Pig\, 320 Grinnell Street\, Key West\, 33040\, United States
ATTACH;FMTTYPE=image/jpeg:https://thehappydogband.com/wp-content/uploads/2019/04/dirty-pig.jpg
END:VEVENT
BEGIN:VEVENT
DTSTART;TZID=America/New_York:20200119T080000
DTEND;TZID=America/New_York:20200119T103000
DTSTAMP:20260422T024139
CREATED:20200115T222054Z
LAST-MODIFIED:20200115T222054Z
UID:2476-1579420800-1579429800@thehappydogband.com
SUMMARY:The Happy Dog â€“ LIVE at Key West Seafood Fest
DESCRIPTION:
URL:https://thehappydogband.com/concert/the-happy-dog-live-at-key-west-seafood-fest-2/
LOCATION:Seafood Fest\, 1320 Truman Ave\, Key West\, FL\, 33040\, United States
ATTACH;FMTTYPE=image/jpeg:https://thehappydogband.com/wp-content/uploads/2020/01/seafood-fest-gig.jpg
END:VEVENT
BEGIN:VEVENT
DTSTART;TZID=America/New_York:20200118T133000
DTEND;TZID=America/New_York:20200118T183000
DTSTAMP:20260422T024139
CREATED:20200102T010558Z
LAST-MODIFIED:20200102T010558Z
UID:2468-1579354200-1579372200@thehappydogband.com
SUMMARY:The Happy Dog â€“ LIVE at Schooner Wharf
DESCRIPTION:
URL:https://thehappydogband.com/concert/the-happy-dog-live-at-schooner-wharf-34/
LOCATION:Schooner Wharf\, 202 William Street\, Key West\, 33040\, United States
ATTACH;FMTTYPE=image/jpeg:https://thehappydogband.com/wp-content/uploads/2018/05/schooner-wharf-event-photo.jpg
END:VEVENT
BEGIN:VEVENT
DTSTART;TZID=America/New_York:20200117T133000
DTEND;TZID=America/New_York:20200117T183000
DTSTAMP:20260422T024139
CREATED:20200102T010512Z
LAST-MODIFIED:20200102T010512Z
UID:2466-1579267800-1579285800@thehappydogband.com
SUMMARY:The Happy Dog â€“ LIVE at Schooner Wharf
DESCRIPTION:
URL:https://thehappydogband.com/concert/the-happy-dog-live-at-schooner-wharf-33/
LOCATION:Schooner Wharf\, 202 William Street\, Key West\, 33040\, United States
ATTACH;FMTTYPE=image/jpeg:https://thehappydogband.com/wp-content/uploads/2018/05/schooner-wharf-event-photo.jpg
END:VEVENT
BEGIN:VEVENT
DTSTART;TZID=America/New_York:20200116T150000
DTEND;TZID=America/New_York:20200116T180000
DTSTAMP:20260422T024139
CREATED:20200102T005609Z
LAST-MODIFIED:20200102T005609Z
UID:2452-1579186800-1579197600@thehappydogband.com
SUMMARY:The Happy Dog â€“ LIVE at Salty Angler
DESCRIPTION:
URL:https://thehappydogband.com/concert/the-happy-dog-live-at-salty-angler-95/
LOCATION:Salty Angler\, 1114 Duval Street\, Key West\, FL\, 33040\, United States
ATTACH;FMTTYPE=image/jpeg:https://thehappydogband.com/wp-content/uploads/2016/10/salty-angler.jpg
END:VEVENT
BEGIN:VEVENT
DTSTART;TZID=America/New_York:20200113T140000
DTEND;TZID=America/New_York:20200113T170000
DTSTAMP:20260422T024139
CREATED:20200102T005138Z
LAST-MODIFIED:20200102T005138Z
UID:2444-1578924000-1578934800@thehappydogband.com
SUMMARY:The Happy Dog â€“ LIVE at The Dirty Pig
DESCRIPTION:
URL:https://thehappydogband.com/concert/the-happy-dog-live-at-the-dirty-pig-29/
LOCATION:The Dirty Pig\, 320 Grinnell Street\, Key West\, 33040\, United States
ATTACH;FMTTYPE=image/jpeg:https://thehappydogband.com/wp-content/uploads/2019/04/dirty-pig.jpg
END:VEVENT
BEGIN:VEVENT
DTSTART;TZID=America/New_York:20200111T150000
DTEND;TZID=America/New_York:20200111T180000
DTSTAMP:20260422T024139
CREATED:20200102T010253Z
LAST-MODIFIED:20200102T010253Z
UID:2462-1578754800-1578765600@thehappydogband.com
SUMMARY:The Happy Dog â€“ LIVE at Sugarloaf Lodge
DESCRIPTION:
URL:https://thehappydogband.com/concert/the-happy-dog-live-at-sugarloaf-lodge-13/
LOCATION:Sugarloaf Lodge\, 17001 Overseas Hwy\, Sugarloaf\, FL\, 33042\, United States
ATTACH;FMTTYPE=image/jpeg:https://thehappydogband.com/wp-content/uploads/2017/06/squid-event-photo.jpg
END:VEVENT
BEGIN:VEVENT
DTSTART;TZID=America/New_York:20200109T150000
DTEND;TZID=America/New_York:20200109T180000
DTSTAMP:20260422T024139
CREATED:20200102T005524Z
LAST-MODIFIED:20200102T005524Z
UID:2450-1578582000-1578592800@thehappydogband.com
SUMMARY:The Happy Dog â€“ LIVE at Salty Angler
DESCRIPTION:
URL:https://thehappydogband.com/concert/the-happy-dog-live-at-salty-angler-94/
LOCATION:Salty Angler\, 1114 Duval Street\, Key West\, FL\, 33040\, United States
ATTACH;FMTTYPE=image/jpeg:https://thehappydogband.com/wp-content/uploads/2016/10/salty-angler.jpg
END:VEVENT
BEGIN:VEVENT
DTSTART;TZID=America/New_York:20200106T140000
DTEND;TZID=America/New_York:20200106T170000
DTSTAMP:20260422T024139
CREATED:20200102T005053Z
LAST-MODIFIED:20200102T005053Z
UID:2442-1578319200-1578330000@thehappydogband.com
SUMMARY:The Happy Dog â€“ LIVE at The Dirty Pig
DESCRIPTION:
URL:https://thehappydogband.com/concert/the-happy-dog-live-at-the-dirty-pig-28/
LOCATION:The Dirty Pig\, 320 Grinnell Street\, Key West\, 33040\, United States
ATTACH;FMTTYPE=image/jpeg:https://thehappydogband.com/wp-content/uploads/2019/04/dirty-pig.jpg
END:VEVENT
BEGIN:VEVENT
DTSTART;TZID=America/New_York:20200104T130000
DTEND;TZID=America/New_York:20200104T170000
DTSTAMP:20260422T024139
CREATED:20200102T004921Z
LAST-MODIFIED:20200102T004921Z
UID:2440-1578142800-1578157200@thehappydogband.com
SUMMARY:The Happy Dog â€“ LIVE at Boondocks
DESCRIPTION:
URL:https://thehappydogband.com/concert/the-happy-dog-live-at-boondocks-39/
LOCATION:Boondocks\, 27205 Overseas Highway\, Ramrod Key\, FL\, 33042\, United States
ATTACH;FMTTYPE=image/jpeg:https://thehappydogband.com/wp-content/uploads/2017/05/boondocks-calendar-photo.jpg
END:VEVENT
BEGIN:VEVENT
DTSTART;TZID=America/New_York:20200103T130000
DTEND;TZID=America/New_York:20200103T170000
DTSTAMP:20260422T024139
CREATED:20200102T004851Z
LAST-MODIFIED:20200102T004851Z
UID:2438-1578056400-1578070800@thehappydogband.com
SUMMARY:The Happy Dog â€“ LIVE at Boondocks
DESCRIPTION:
URL:https://thehappydogband.com/concert/the-happy-dog-live-at-boondocks-38/
LOCATION:Boondocks\, 27205 Overseas Highway\, Ramrod Key\, FL\, 33042\, United States
ATTACH;FMTTYPE=image/jpeg:https://thehappydogband.com/wp-content/uploads/2017/05/boondocks-calendar-photo.jpg
END:VEVENT
BEGIN:VEVENT
DTSTART;TZID=America/New_York:20200102T160000
DTEND;TZID=America/New_York:20200102T193000
DTSTAMP:20260422T024139
CREATED:20200102T004747Z
LAST-MODIFIED:20200102T004747Z
UID:2436-1577980800-1577993400@thehappydogband.com
SUMMARY:The Happy Dog â€“ LIVE at Green Parrot
DESCRIPTION:
URL:https://thehappydogband.com/concert/the-happy-dog-live-at-green-parrot-87/
LOCATION:Green Parrot\, 601 Whitehead Street\, Key West\, FL\, 33040\, United States
ATTACH;FMTTYPE=image/jpeg:https://thehappydogband.com/wp-content/uploads/2018/05/green-parrot-soundcheck.jpg
END:VEVENT
BEGIN:VEVENT
DTSTART;TZID=America/New_York:20200102T123000
DTEND;TZID=America/New_York:20200102T140000
DTSTAMP:20260422T024139
CREATED:20200102T004705Z
LAST-MODIFIED:20200102T004705Z
UID:2434-1577968200-1577973600@thehappydogband.com
SUMMARY:The Happy Dog â€“ LIVE at Green Parrot â€œSoundcheckâ€
DESCRIPTION:
URL:https://thehappydogband.com/concert/the-happy-dog-live-at-green-parrot-soundcheck-108/
LOCATION:Green Parrot\, 601 Whitehead Street\, Key West\, FL\, 33040\, United States
ATTACH;FMTTYPE=image/jpeg:https://thehappydogband.com/wp-content/uploads/2018/05/green-parrot-soundcheck.jpg
END:VEVENT
BEGIN:VEVENT
DTSTART;TZID=America/New_York:20191231T160000
DTEND;TZID=America/New_York:20191231T193000
DTSTAMP:20260422T024139
CREATED:20191201T001903Z
LAST-MODIFIED:20191228T215909Z
UID:2423-1577808000-1577820600@thehappydogband.com
SUMMARY:The Happy Dog â€“ LIVE at Margaritaville
DESCRIPTION:
URL:https://thehappydogband.com/concert/the-happy-dog-live-at-margaritaville-24/
LOCATION:Margaritaville\, 500 Duval St\, Key West\, FL\, 33040\, United States
ATTACH;FMTTYPE=image/jpeg:https://thehappydogband.com/wp-content/uploads/2019/06/margaritaville-event-photo.jpg
END:VEVENT
BEGIN:VEVENT
DTSTART;TZID=America/New_York:20191230T150000
DTEND;TZID=America/New_York:20191230T180000
DTSTAMP:20260422T024139
CREATED:20191201T001522Z
LAST-MODIFIED:20191201T001522Z
UID:2421-1577718000-1577728800@thehappydogband.com
SUMMARY:The Happy Dog â€“ LIVE at Margaritaville
DESCRIPTION:
URL:https://thehappydogband.com/concert/the-happy-dog-live-at-margaritaville-23/
LOCATION:Margaritaville\, 500 Duval St\, Key West\, FL\, 33040\, United States
ATTACH;FMTTYPE=image/jpeg:https://thehappydogband.com/wp-content/uploads/2019/06/margaritaville-event-photo.jpg
END:VEVENT
BEGIN:VEVENT
DTSTART;TZID=America/New_York:20191229T150000
DTEND;TZID=America/New_York:20191229T180000
DTSTAMP:20260422T024139
CREATED:20191201T001452Z
LAST-MODIFIED:20191201T001452Z
UID:2419-1577631600-1577642400@thehappydogband.com
SUMMARY:The Happy Dog â€“ LIVE at Margaritaville
DESCRIPTION:
URL:https://thehappydogband.com/concert/the-happy-dog-live-at-margaritaville-22/
LOCATION:Margaritaville\, 500 Duval St\, Key West\, FL\, 33040\, United States
ATTACH;FMTTYPE=image/jpeg:https://thehappydogband.com/wp-content/uploads/2019/06/margaritaville-event-photo.jpg
END:VEVENT
BEGIN:VEVENT
DTSTART;TZID=America/New_York:20191228T150000
DTEND;TZID=America/New_York:20191228T180000
DTSTAMP:20260422T024139
CREATED:20191201T001246Z
LAST-MODIFIED:20191201T001246Z
UID:2417-1577545200-1577556000@thehappydogband.com
SUMMARY:The Happy Dog â€“ LIVE at Margaritaville
DESCRIPTION:
URL:https://thehappydogband.com/concert/the-happy-dog-live-at-margaritaville-21/
LOCATION:Margaritaville\, 500 Duval St\, Key West\, FL\, 33040\, United States
ATTACH;FMTTYPE=image/jpeg:https://thehappydogband.com/wp-content/uploads/2019/06/margaritaville-event-photo.jpg
END:VEVENT
BEGIN:VEVENT
DTSTART;TZID=America/New_York:20191227T150000
DTEND;TZID=America/New_York:20191227T180000
DTSTAMP:20260422T024139
CREATED:20191201T001148Z
LAST-MODIFIED:20191201T001148Z
UID:2415-1577458800-1577469600@thehappydogband.com
SUMMARY:The Happy Dog â€“ LIVE at Margaritaville
DESCRIPTION:
URL:https://thehappydogband.com/concert/the-happy-dog-live-at-margaritaville-20/
LOCATION:Margaritaville\, 500 Duval St\, Key West\, FL\, 33040\, United States
ATTACH;FMTTYPE=image/jpeg:https://thehappydogband.com/wp-content/uploads/2019/06/margaritaville-event-photo.jpg
END:VEVENT
END:VCALENDAR