BEGIN:VCALENDAR
VERSION:2.0
PRODID:-//The Happy Dog - ECPv6.3.7//NONSGML v1.0//EN
CALSCALE:GREGORIAN
METHOD:PUBLISH
X-WR-CALNAME:The Happy Dog
X-ORIGINAL-URL:https://thehappydogband.com
X-WR-CALDESC:Events for The Happy Dog
REFRESH-INTERVAL;VALUE=DURATION:PT1H
X-Robots-Tag:noindex
X-PUBLISHED-TTL:PT1H
BEGIN:VTIMEZONE
TZID:America/New_York
BEGIN:DAYLIGHT
TZOFFSETFROM:-0500
TZOFFSETTO:-0400
TZNAME:EDT
DTSTART:20190310T070000
END:DAYLIGHT
BEGIN:STANDARD
TZOFFSETFROM:-0400
TZOFFSETTO:-0500
TZNAME:EST
DTSTART:20191103T060000
END:STANDARD
END:VTIMEZONE
BEGIN:VEVENT
DTSTART;TZID=America/New_York:20191129T160000
DTEND;TZID=America/New_York:20191129T190000
DTSTAMP:20260422T011040
CREATED:20191102T011414Z
LAST-MODIFIED:20191102T011414Z
UID:2366-1575043200-1575054000@thehappydogband.com
SUMMARY:The Happy Dog â€“ LIVE at General Horseplay
DESCRIPTION:
URL:https://thehappydogband.com/concert/the-happy-dog-live-at-general-horseplay-13/
LOCATION:General Horseplay\, 423 Caroline Street\, Key West\, FL\, 33040\, United States
ATTACH;FMTTYPE=image/jpeg:https://thehappydogband.com/wp-content/uploads/2019/04/general-horseplay-event.jpg
END:VEVENT
BEGIN:VEVENT
DTSTART;TZID=America/New_York:20191120T160000
DTEND;TZID=America/New_York:20191120T190000
DTSTAMP:20260422T011040
CREATED:20191102T011302Z
LAST-MODIFIED:20191102T011302Z
UID:2364-1574265600-1574276400@thehappydogband.com
SUMMARY:The Happy Dog â€“ LIVE at Mary Ellen's
DESCRIPTION:
URL:https://thehappydogband.com/concert/the-happy-dog-live-at-mary-ellens-49/
LOCATION:Mary Ellen’s\, 420 Applerouth Lane\, Key West\, FL\, 33040\, United States
ATTACH;FMTTYPE=image/jpeg:https://thehappydogband.com/wp-content/uploads/2017/11/mary-ellens-event-photo.jpg
END:VEVENT
BEGIN:VEVENT
DTSTART;TZID=America/New_York:20191119T133000
DTEND;TZID=America/New_York:20191119T153000
DTSTAMP:20260422T011040
CREATED:20191102T011042Z
LAST-MODIFIED:20191102T011145Z
UID:2362-1574170200-1574177400@thehappydogband.com
SUMMARY:The Happy Dog â€“ LIVE at Sunset Pier
DESCRIPTION:
URL:https://thehappydogband.com/concert/the-happy-dog-live-at-sunset-pier-130/
LOCATION:Sunset Pier at Ocean Key House\, 0 Duval Street\, Key West\, FL\, 33040\, United States
ATTACH;FMTTYPE=image/jpeg:https://thehappydogband.com/wp-content/uploads/2017/05/sunset-pier-calendar-photo.jpg
END:VEVENT
BEGIN:VEVENT
DTSTART;TZID=America/New_York:20191118T150000
DTEND;TZID=America/New_York:20191118T180000
DTSTAMP:20260422T011040
CREATED:20191102T005724Z
LAST-MODIFIED:20191102T005724Z
UID:2354-1574089200-1574100000@thehappydogband.com
SUMMARY:The Happy Dog â€“ LIVE at The Dirty Pig
DESCRIPTION:
URL:https://thehappydogband.com/concert/the-happy-dog-live-at-the-dirty-pig-23/
LOCATION:The Dirty Pig\, 320 Grinnell Street\, Key West\, 33040\, United States
ATTACH;FMTTYPE=image/jpeg:https://thehappydogband.com/wp-content/uploads/2019/04/dirty-pig.jpg
END:VEVENT
BEGIN:VEVENT
DTSTART;TZID=America/New_York:20191116T130000
DTEND;TZID=America/New_York:20191116T160000
DTSTAMP:20260422T011040
CREATED:20191102T010241Z
LAST-MODIFIED:20191102T010241Z
UID:2360-1573909200-1573920000@thehappydogband.com
SUMMARY:The Happy Dog â€“ LIVE at Blue Heaven
DESCRIPTION:
URL:https://thehappydogband.com/concert/the-happy-dog-live-at-blue-heaven-57/
LOCATION:Blue Heaven\, 729 Thomas Street\, Key West\, FL\, 33040\, United States
ATTACH;FMTTYPE=image/jpeg:https://thehappydogband.com/wp-content/uploads/2015/09/happy-dog-slide-6.jpg
END:VEVENT
BEGIN:VEVENT
DTSTART;TZID=America/New_York:20191115T130000
DTEND;TZID=America/New_York:20191115T160000
DTSTAMP:20260422T011040
CREATED:20191102T010137Z
LAST-MODIFIED:20191102T010137Z
UID:2358-1573822800-1573833600@thehappydogband.com
SUMMARY:The Happy Dog - LIVE at Treble Hook's
DESCRIPTION:
URL:https://thehappydogband.com/concert/the-happy-dog-live-at-treble-hooks/
LOCATION:Southernmost VFW (Treble Hooks)\, 2200 N Roosevelt Blvd\, Key West\, FL\, 33040\, United States
ATTACH;FMTTYPE=image/jpeg:https://thehappydogband.com/wp-content/uploads/2019/06/the-happy-dog-logo-thumbnai.jpg
END:VEVENT
BEGIN:VEVENT
DTSTART;TZID=America/New_York:20191113T123000
DTEND;TZID=America/New_York:20191113T140000
DTSTAMP:20260422T011040
CREATED:20191102T011802Z
LAST-MODIFIED:20191102T011802Z
UID:2368-1573648200-1573653600@thehappydogband.com
SUMMARY:The Happy Dog â€“ LIVE at Green Parrot
DESCRIPTION:
URL:https://thehappydogband.com/concert/the-happy-dog-live-at-green-parrot-84/
LOCATION:Green Parrot\, 601 Whitehead Street\, Key West\, FL\, 33040\, United States
ATTACH;FMTTYPE=image/jpeg:https://thehappydogband.com/wp-content/uploads/2018/05/green-parrot-soundcheck.jpg
END:VEVENT
BEGIN:VEVENT
DTSTART;TZID=America/New_York:20191111T150000
DTEND;TZID=America/New_York:20191111T180000
DTSTAMP:20260422T011040
CREATED:20191102T005645Z
LAST-MODIFIED:20191102T005645Z
UID:2352-1573484400-1573495200@thehappydogband.com
SUMMARY:The Happy Dog â€“ LIVE at The Dirty Pig
DESCRIPTION:
URL:https://thehappydogband.com/concert/the-happy-dog-live-at-the-dirty-pig-22/
LOCATION:The Dirty Pig\, 320 Grinnell Street\, Key West\, 33040\, United States
ATTACH;FMTTYPE=image/jpeg:https://thehappydogband.com/wp-content/uploads/2019/04/dirty-pig.jpg
END:VEVENT
BEGIN:VEVENT
DTSTART;TZID=America/New_York:20191109T150000
DTEND;TZID=America/New_York:20191109T180000
DTSTAMP:20260422T011040
CREATED:20191102T005501Z
LAST-MODIFIED:20191102T005501Z
UID:2348-1573311600-1573322400@thehappydogband.com
SUMMARY:The Happy Dog â€“ LIVE at Salty Angler
DESCRIPTION:
URL:https://thehappydogband.com/concert/the-happy-dog-live-at-salty-angler-91/
LOCATION:Salty Angler\, 1114 Duval Street\, Key West\, FL\, 33040\, United States
ATTACH;FMTTYPE=image/jpeg:https://thehappydogband.com/wp-content/uploads/2017/06/salty-angler-event-photo.jpg
END:VEVENT
BEGIN:VEVENT
DTSTART;TZID=America/New_York:20191108T070000
DTEND;TZID=America/New_York:20191108T110000
DTSTAMP:20260422T011040
CREATED:20191102T010019Z
LAST-MODIFIED:20191102T010019Z
UID:2356-1573196400-1573210800@thehappydogband.com
SUMMARY:Jesse\, Kenny & Bill - LIVE at Hog's Breath Saloon
DESCRIPTION:
URL:https://thehappydogband.com/concert/jesse-kenny-bill-live-at-hogs-breath-saloon/
LOCATION:Hog’s Breath Saloon\, 400 Front Street\, Key West\, FL\, 33040\, United States
ATTACH;FMTTYPE=image/jpeg:https://thehappydogband.com/wp-content/uploads/2017/06/squid-event-photo.jpg
END:VEVENT
BEGIN:VEVENT
DTSTART;TZID=America/New_York:20191104T030000
DTEND;TZID=America/New_York:20191104T120000
DTSTAMP:20260422T011040
CREATED:20191102T005544Z
LAST-MODIFIED:20191102T005544Z
UID:2350-1572836400-1572868800@thehappydogband.com
SUMMARY:The Happy Dog â€“ LIVE at The Dirty Pig
DESCRIPTION:
URL:https://thehappydogband.com/concert/the-happy-dog-live-at-the-dirty-pig-21/
LOCATION:The Dirty Pig\, 320 Grinnell Street\, Key West\, 33040\, United States
ATTACH;FMTTYPE=image/jpeg:https://thehappydogband.com/wp-content/uploads/2019/04/dirty-pig.jpg
END:VEVENT
BEGIN:VEVENT
DTSTART;TZID=America/New_York:20191102T160000
DTEND;TZID=America/New_York:20191102T190000
DTSTAMP:20260422T011040
CREATED:20191102T005353Z
LAST-MODIFIED:20191102T005353Z
UID:2346-1572710400-1572721200@thehappydogband.com
SUMMARY:The Happy Dog â€“ LIVE at Salty Angler
DESCRIPTION:
URL:https://thehappydogband.com/concert/the-happy-dog-live-at-salty-angler-90/
LOCATION:Salty Angler\, 1114 Duval Street\, Key West\, FL\, 33040\, United States
ATTACH;FMTTYPE=image/jpeg:https://thehappydogband.com/wp-content/uploads/2017/06/salty-angler-event-photo.jpg
END:VEVENT
BEGIN:VEVENT
DTSTART;TZID=America/New_York:20191030T170000
DTEND;TZID=America/New_York:20191030T203000
DTSTAMP:20260422T011040
CREATED:20191009T173055Z
LAST-MODIFIED:20191009T173055Z
UID:2313-1572454800-1572467400@thehappydogband.com
SUMMARY:The Happy Dog â€“ LIVE at Green Parrot
DESCRIPTION:
URL:https://thehappydogband.com/concert/the-happy-dog-live-at-green-parrot-83/
LOCATION:Green Parrot\, 601 Whitehead Street\, Key West\, FL\, 33040\, United States
ATTACH;FMTTYPE=image/jpeg:https://thehappydogband.com/wp-content/uploads/2019/04/green-parrot-late.jpg
END:VEVENT
BEGIN:VEVENT
DTSTART;TZID=America/New_York:20191028T140000
DTEND;TZID=America/New_York:20191028T180000
DTSTAMP:20260422T011040
CREATED:20191009T173005Z
LAST-MODIFIED:20191009T173005Z
UID:2311-1572271200-1572285600@thehappydogband.com
SUMMARY:The Happy Dog â€“ LIVE at The Dirty Pig
DESCRIPTION:
URL:https://thehappydogband.com/concert/the-happy-dog-live-at-the-dirty-pig-20/
LOCATION:The Dirty Pig\, 320 Grinnell Street\, Key West\, 33040\, United States
ATTACH;FMTTYPE=image/jpeg:https://thehappydogband.com/wp-content/uploads/2019/04/dirty-pig.jpg
END:VEVENT
BEGIN:VEVENT
DTSTART;TZID=America/New_York:20191027T160000
DTEND;TZID=America/New_York:20191027T190000
DTSTAMP:20260422T011040
CREATED:20191009T173623Z
LAST-MODIFIED:20191009T173623Z
UID:2327-1572192000-1572202800@thehappydogband.com
SUMMARY:The Happy Dog â€“ LIVE at Margaritaville
DESCRIPTION:
URL:https://thehappydogband.com/concert/the-happy-dog-live-at-margaritaville-18/
LOCATION:Margaritaville\, 500 Duval St\, Key West\, FL\, 33040\, United States
ATTACH;FMTTYPE=image/jpeg:https://thehappydogband.com/wp-content/uploads/2019/06/margaritaville-event-photo.jpg
END:VEVENT
BEGIN:VEVENT
DTSTART;TZID=America/New_York:20191026T160000
DTEND;TZID=America/New_York:20191026T190000
DTSTAMP:20260422T011040
CREATED:20191009T173538Z
LAST-MODIFIED:20191009T173538Z
UID:2325-1572105600-1572116400@thehappydogband.com
SUMMARY:The Happy Dog â€“ LIVE at Margaritaville
DESCRIPTION:
URL:https://thehappydogband.com/concert/the-happy-dog-live-at-margaritaville-17/
LOCATION:Margaritaville\, 500 Duval St\, Key West\, FL\, 33040\, United States
ATTACH;FMTTYPE=image/jpeg:https://thehappydogband.com/wp-content/uploads/2019/06/margaritaville-event-photo.jpg
END:VEVENT
BEGIN:VEVENT
DTSTART;TZID=America/New_York:20191025T160000
DTEND;TZID=America/New_York:20191025T190000
DTSTAMP:20260422T011040
CREATED:20191009T173504Z
LAST-MODIFIED:20191009T173504Z
UID:2323-1572019200-1572030000@thehappydogband.com
SUMMARY:The Happy Dog â€“ LIVE at Margaritaville
DESCRIPTION:
URL:https://thehappydogband.com/concert/the-happy-dog-live-at-margaritaville-16/
LOCATION:Margaritaville\, 500 Duval St\, Key West\, FL\, 33040\, United States
ATTACH;FMTTYPE=image/jpeg:https://thehappydogband.com/wp-content/uploads/2019/06/margaritaville-event-photo.jpg
END:VEVENT
BEGIN:VEVENT
DTSTART;TZID=America/New_York:20191024T160000
DTEND;TZID=America/New_York:20191024T190000
DTSTAMP:20260422T011040
CREATED:20191009T173437Z
LAST-MODIFIED:20191009T173437Z
UID:2321-1571932800-1571943600@thehappydogband.com
SUMMARY:The Happy Dog â€“ LIVE at Margaritaville
DESCRIPTION:
URL:https://thehappydogband.com/concert/the-happy-dog-live-at-margaritaville-15/
LOCATION:Margaritaville\, 500 Duval St\, Key West\, FL\, 33040\, United States
ATTACH;FMTTYPE=image/jpeg:https://thehappydogband.com/wp-content/uploads/2019/06/margaritaville-event-photo.jpg
END:VEVENT
BEGIN:VEVENT
DTSTART;TZID=America/New_York:20191023T160000
DTEND;TZID=America/New_York:20191023T190000
DTSTAMP:20260422T011040
CREATED:20191009T173407Z
LAST-MODIFIED:20191009T173407Z
UID:2319-1571846400-1571857200@thehappydogband.com
SUMMARY:The Happy Dog â€“ LIVE at Margaritaville
DESCRIPTION:
URL:https://thehappydogband.com/concert/the-happy-dog-live-at-margaritaville-14/
LOCATION:Margaritaville\, 500 Duval St\, Key West\, FL\, 33040\, United States
ATTACH;FMTTYPE=image/jpeg:https://thehappydogband.com/wp-content/uploads/2019/06/margaritaville-event-photo.jpg
END:VEVENT
BEGIN:VEVENT
DTSTART;TZID=America/New_York:20191022T160000
DTEND;TZID=America/New_York:20191022T190000
DTSTAMP:20260422T011040
CREATED:20191009T173336Z
LAST-MODIFIED:20191009T173336Z
UID:2317-1571760000-1571770800@thehappydogband.com
SUMMARY:The Happy Dog â€“ LIVE at Margaritaville
DESCRIPTION:
URL:https://thehappydogband.com/concert/the-happy-dog-live-at-margaritaville-13/
LOCATION:Margaritaville\, 500 Duval St\, Key West\, FL\, 33040\, United States
ATTACH;FMTTYPE=image/jpeg:https://thehappydogband.com/wp-content/uploads/2019/06/margaritaville-event-photo.jpg
END:VEVENT
BEGIN:VEVENT
DTSTART;VALUE=DATE:20191019
DTEND;VALUE=DATE:20191020
DTSTAMP:20260422T011040
CREATED:20191009T174345Z
LAST-MODIFIED:20191009T174345Z
UID:2329-1571443200-1571529599@thehappydogband.com
SUMMARY:The Happy Dog - LIVE at "Red Corner Benefit"
DESCRIPTION:
URL:https://thehappydogband.com/concert/the-happy-dog-live-at-red-corner-benefit-2/
LOCATION:Red Corner\, 465 Red Corner Road\, Douglasville\, PA\, 19518\, United States
ATTACH;FMTTYPE=image/jpeg:https://thehappydogband.com/wp-content/uploads/2018/10/red-corner-2.jpg
END:VEVENT
BEGIN:VEVENT
DTSTART;TZID=America/New_York:20191016T170000
DTEND;TZID=America/New_York:20191016T200000
DTSTAMP:20260422T011040
CREATED:20191009T173221Z
LAST-MODIFIED:20191009T173221Z
UID:2315-1571245200-1571256000@thehappydogband.com
SUMMARY:The Happy Dog â€“ LIVE at Mary Ellenâ€™s
DESCRIPTION:
URL:https://thehappydogband.com/concert/the-happy-dog-live-at-mary-ellens-48/
LOCATION:Mary Ellen’s\, 420 Applerouth Lane\, Key West\, FL\, 33040\, United States
ATTACH;FMTTYPE=image/jpeg:https://thehappydogband.com/wp-content/uploads/2017/11/mary-ellens-event-photo.jpg
END:VEVENT
BEGIN:VEVENT
DTSTART;TZID=America/New_York:20191014T150000
DTEND;TZID=America/New_York:20191014T180000
DTSTAMP:20260422T011040
CREATED:20191009T172932Z
LAST-MODIFIED:20191009T172932Z
UID:2309-1571065200-1571076000@thehappydogband.com
SUMMARY:The Happy Dog â€“ LIVE at The Dirty Pig
DESCRIPTION:
URL:https://thehappydogband.com/concert/the-happy-dog-live-at-the-dirty-pig-19/
LOCATION:The Dirty Pig\, 320 Grinnell Street\, Key West\, 33040\, United States
ATTACH;FMTTYPE=image/jpeg:https://thehappydogband.com/wp-content/uploads/2019/04/dirty-pig.jpg
END:VEVENT
BEGIN:VEVENT
DTSTART;TZID=America/New_York:20191011T140000
DTEND;TZID=America/New_York:20191011T170000
DTSTAMP:20260422T011040
CREATED:20191009T172834Z
LAST-MODIFIED:20191009T172834Z
UID:2307-1570802400-1570813200@thehappydogband.com
SUMMARY:The Happy Dog â€“ LIVE at Southernmost VFW
DESCRIPTION:
URL:https://thehappydogband.com/concert/the-happy-dog-live-at-southernmost-vfw-3/
LOCATION:Southernmost VFW (Treble Hooks)\, 2200 N Roosevelt Blvd\, Key West\, FL\, 33040\, United States
ATTACH;FMTTYPE=image/jpeg:https://thehappydogband.com/wp-content/uploads/2017/06/squid-event-photo.jpg
END:VEVENT
BEGIN:VEVENT
DTSTART;TZID=America/New_York:20191010T170000
DTEND;TZID=America/New_York:20191010T203000
DTSTAMP:20260422T011040
CREATED:20191009T172723Z
LAST-MODIFIED:20191009T172723Z
UID:2305-1570726800-1570739400@thehappydogband.com
SUMMARY:The Happy Dog â€“ LIVE at Green Parrot
DESCRIPTION:
URL:https://thehappydogband.com/concert/the-happy-dog-live-at-green-parrot-82/
LOCATION:Green Parrot\, 601 Whitehead Street\, Key West\, FL\, 33040\, United States
ATTACH;FMTTYPE=image/jpeg:https://thehappydogband.com/wp-content/uploads/2019/04/green-parrot-late.jpg
END:VEVENT
BEGIN:VEVENT
DTSTART;TZID=America/New_York:20190930T150000
DTEND;TZID=America/New_York:20190930T180000
DTSTAMP:20260422T011040
CREATED:20190904T202052Z
LAST-MODIFIED:20190904T202052Z
UID:2281-1569855600-1569866400@thehappydogband.com
SUMMARY:The Happy Dog â€“ LIVE at The Dirty Pig
DESCRIPTION:
URL:https://thehappydogband.com/concert/the-happy-dog-live-at-the-dirty-pig-18/
LOCATION:The Dirty Pig\, 320 Grinnell Street\, Key West\, 33040\, United States
ATTACH;FMTTYPE=image/jpeg:https://thehappydogband.com/wp-content/uploads/2019/04/dirty-pig.jpg
END:VEVENT
BEGIN:VEVENT
DTSTART;TZID=America/New_York:20190929T150000
DTEND;TZID=America/New_York:20190929T180000
DTSTAMP:20260422T011040
CREATED:20190904T202902Z
LAST-MODIFIED:20190904T202902Z
UID:2295-1569769200-1569780000@thehappydogband.com
SUMMARY:The Happy Dog â€“ LIVE at Sugarloaf Lodge
DESCRIPTION:
URL:https://thehappydogband.com/concert/the-happy-dog-live-at-sugarloaf-lodge-12/
LOCATION:Sugarloaf Lodge\, 17001 Overseas Hwy\, Sugarloaf\, FL\, 33042\, United States
ATTACH;FMTTYPE=image/jpeg:https://thehappydogband.com/wp-content/uploads/2017/06/squid-event-photo.jpg
END:VEVENT
BEGIN:VEVENT
DTSTART;TZID=America/New_York:20190928T144500
DTEND;TZID=America/New_York:20190928T194500
DTSTAMP:20260422T011040
CREATED:20190904T202823Z
LAST-MODIFIED:20190904T202823Z
UID:2293-1569681900-1569699900@thehappydogband.com
SUMMARY:The Happy Dog â€“ LIVE at Schooner Wharf
DESCRIPTION:
URL:https://thehappydogband.com/concert/the-happy-dog-live-at-schooner-wharf-30/
LOCATION:Schooner Wharf\, 202 William Street\, Key West\, 33040\, United States
ATTACH;FMTTYPE=image/jpeg:https://thehappydogband.com/wp-content/uploads/2018/05/schooner-wharf-event-photo.jpg
END:VEVENT
BEGIN:VEVENT
DTSTART;TZID=America/New_York:20190927T140000
DTEND;TZID=America/New_York:20190927T170000
DTSTAMP:20260422T011040
CREATED:20190904T202700Z
LAST-MODIFIED:20190907T224323Z
UID:2291-1569592800-1569603600@thehappydogband.com
SUMMARY:The Happy Dog â€“ LIVE at Southernmost VFW
DESCRIPTION:
URL:https://thehappydogband.com/concert/the-happy-dog-live-at-southernmost-vfw-2/
LOCATION:Southernmost VFW (Treble Hooks)\, 2200 N Roosevelt Blvd\, Key West\, FL\, 33040\, United States
ATTACH;FMTTYPE=image/jpeg:https://thehappydogband.com/wp-content/uploads/2019/04/general-horseplay-event.jpg
END:VEVENT
BEGIN:VEVENT
DTSTART;TZID=America/New_York:20190926T170000
DTEND;TZID=America/New_York:20190926T203000
DTSTAMP:20260422T011040
CREATED:20190904T201514Z
LAST-MODIFIED:20190904T201514Z
UID:2269-1569517200-1569529800@thehappydogband.com
SUMMARY:The Happy Dog â€“ LIVE at Green Parrot
DESCRIPTION:
URL:https://thehappydogband.com/concert/the-happy-dog-live-at-green-parrot-81/
LOCATION:Green Parrot\, 601 Whitehead Street\, Key West\, FL\, 33040\, United States
ATTACH;FMTTYPE=image/jpeg:https://thehappydogband.com/wp-content/uploads/2019/04/green-parrot-late.jpg
END:VEVENT
END:VCALENDAR