BEGIN:VCALENDAR
VERSION:2.0
PRODID:-//The Happy Dog - ECPv6.3.7//NONSGML v1.0//EN
CALSCALE:GREGORIAN
METHOD:PUBLISH
X-WR-CALNAME:The Happy Dog
X-ORIGINAL-URL:https://thehappydogband.com
X-WR-CALDESC:Events for The Happy Dog
REFRESH-INTERVAL;VALUE=DURATION:PT1H
X-Robots-Tag:noindex
X-PUBLISHED-TTL:PT1H
BEGIN:VTIMEZONE
TZID:America/New_York
BEGIN:DAYLIGHT
TZOFFSETFROM:-0500
TZOFFSETTO:-0400
TZNAME:EDT
DTSTART:20190310T070000
END:DAYLIGHT
BEGIN:STANDARD
TZOFFSETFROM:-0400
TZOFFSETTO:-0500
TZNAME:EST
DTSTART:20191103T060000
END:STANDARD
END:VTIMEZONE
BEGIN:VEVENT
DTSTART;TZID=America/New_York:20190827T063000
DTEND;TZID=America/New_York:20190827T093000
DTSTAMP:20260422T052832
CREATED:20190731T165714Z
LAST-MODIFIED:20190731T165714Z
UID:2235-1566887400-1566898200@thehappydogband.com
SUMMARY:The Happy Dog â€“ LIVE at Blue Heaven
DESCRIPTION:
URL:https://thehappydogband.com/concert/the-happy-dog-live-at-blue-heaven-56/
LOCATION:Blue Heaven\, 729 Thomas Street\, Key West\, FL\, 33040\, United States
ATTACH;FMTTYPE=image/jpeg:https://thehappydogband.com/wp-content/uploads/2015/09/happy-dog-slide-6.jpg
END:VEVENT
BEGIN:VEVENT
DTSTART;TZID=America/New_York:20190826T150000
DTEND;TZID=America/New_York:20190826T180000
DTSTAMP:20260422T052832
CREATED:20190731T165246Z
LAST-MODIFIED:20190731T165246Z
UID:2229-1566831600-1566842400@thehappydogband.com
SUMMARY:The Happy Dog â€“ LIVE at The Dirty Pig
DESCRIPTION:
URL:https://thehappydogband.com/concert/the-happy-dog-live-at-the-dirty-pig-14/
LOCATION:The Dirty Pig\, 320 Grinnell Street\, Key West\, 33040\, United States
ATTACH;FMTTYPE=image/jpeg:https://thehappydogband.com/wp-content/uploads/2019/04/dirty-pig.jpg
END:VEVENT
BEGIN:VEVENT
DTSTART;TZID=America/New_York:20190824T170000
DTEND;TZID=America/New_York:20190824T210000
DTSTAMP:20260422T052832
CREATED:20190731T170426Z
LAST-MODIFIED:20190731T170426Z
UID:2246-1566666000-1566680400@thehappydogband.com
SUMMARY:The Happy Dog â€“ LIVE at Hurricane Bar & Grille
DESCRIPTION:
URL:https://thehappydogband.com/concert/the-happy-dog-live-at-hurricane-bar-grille-4/
LOCATION:The Hurricane Grill\, 4650 Overseas Highway\, Marathon\, FL\, 33050\, United States
ATTACH;FMTTYPE=image/jpeg:https://thehappydogband.com/wp-content/uploads/2017/06/squid-event-photo.jpg
END:VEVENT
BEGIN:VEVENT
DTSTART;TZID=America/New_York:20190823T153000
DTEND;TZID=America/New_York:20190823T190000
DTSTAMP:20260422T052832
CREATED:20190731T170305Z
LAST-MODIFIED:20190731T170953Z
UID:2244-1566574200-1566586800@thehappydogband.com
SUMMARY:The Happy Dog â€“ LIVE at Sugarloaf Lodge
DESCRIPTION:Three-Legged Dog acoustic show
URL:https://thehappydogband.com/concert/the-happy-dog-live-at-sugarloaf-lodge-11/
LOCATION:Sugarloaf Lodge\, 17001 Overseas Hwy\, Sugarloaf\, FL\, 33042\, United States
ATTACH;FMTTYPE=image/jpeg:https://thehappydogband.com/wp-content/uploads/2017/06/squid-event-photo.jpg
END:VEVENT
BEGIN:VEVENT
DTSTART;TZID=America/New_York:20190822T170000
DTEND;TZID=America/New_York:20190822T203000
DTSTAMP:20260422T052832
CREATED:20190730T175031Z
LAST-MODIFIED:20190730T175031Z
UID:2212-1566493200-1566505800@thehappydogband.com
SUMMARY:The Happy Dog â€“ LIVE at Green Parrot
DESCRIPTION:
URL:https://thehappydogband.com/concert/the-happy-dog-live-at-green-parrot-77/
LOCATION:Green Parrot\, 601 Whitehead Street\, Key West\, FL\, 33040\, United States
ATTACH;FMTTYPE=image/jpeg:https://thehappydogband.com/wp-content/uploads/2019/04/green-parrot-late.jpg
END:VEVENT
BEGIN:VEVENT
DTSTART;TZID=America/New_York:20190822T133000
DTEND;TZID=America/New_York:20190822T150000
DTSTAMP:20260422T052832
CREATED:20190730T174948Z
LAST-MODIFIED:20190730T174948Z
UID:2210-1566480600-1566486000@thehappydogband.com
SUMMARY:The Happy Dog â€“ LIVE at Green Parrot â€œSoundcheckâ€
DESCRIPTION:
URL:https://thehappydogband.com/concert/the-happy-dog-live-at-green-parrot-soundcheck-100/
LOCATION:Green Parrot\, 601 Whitehead Street\, Key West\, FL\, 33040\, United States
ATTACH;FMTTYPE=image/jpeg:https://thehappydogband.com/wp-content/uploads/2018/05/green-parrot-soundcheck.jpg
END:VEVENT
BEGIN:VEVENT
DTSTART;TZID=America/New_York:20190821T180000
DTEND;TZID=America/New_York:20190821T210000
DTSTAMP:20260422T052832
CREATED:20190731T170144Z
LAST-MODIFIED:20190731T170144Z
UID:2242-1566410400-1566421200@thehappydogband.com
SUMMARY:The Happy Dog â€“ LIVE at Mary Ellenâ€™s
DESCRIPTION:
URL:https://thehappydogband.com/concert/the-happy-dog-live-at-mary-ellens-46/
LOCATION:Mary Ellen’s\, 420 Applerouth Lane\, Key West\, FL\, 33040\, United States
ATTACH;FMTTYPE=image/jpeg:https://thehappydogband.com/wp-content/uploads/2017/11/mary-ellens-event-photo.jpg
END:VEVENT
BEGIN:VEVENT
DTSTART;TZID=America/New_York:20190819T150000
DTEND;TZID=America/New_York:20190819T180000
DTSTAMP:20260422T052832
CREATED:20190731T165217Z
LAST-MODIFIED:20190731T165217Z
UID:2227-1566226800-1566237600@thehappydogband.com
SUMMARY:The Happy Dog â€“ LIVE at The Dirty Pig
DESCRIPTION:
URL:https://thehappydogband.com/concert/the-happy-dog-live-at-the-dirty-pig-13/
LOCATION:The Dirty Pig\, 320 Grinnell Street\, Key West\, 33040\, United States
ATTACH;FMTTYPE=image/jpeg:https://thehappydogband.com/wp-content/uploads/2019/04/dirty-pig.jpg
END:VEVENT
BEGIN:VEVENT
DTSTART;TZID=America/New_York:20190817T140000
DTEND;TZID=America/New_York:20190817T170000
DTSTAMP:20260422T052832
CREATED:20190731T170015Z
LAST-MODIFIED:20190822T185310Z
UID:2239-1566050400-1566061200@thehappydogband.com
SUMMARY:The Happy Dog â€“ LIVE at Southernmost VFW
DESCRIPTION:
URL:https://thehappydogband.com/concert/the-happy-dog-live-at-vfw/
LOCATION:Southernmost VFW (Treble Hooks)\, 2200 N Roosevelt Blvd\, Key West\, FL\, 33040\, United States
ATTACH;FMTTYPE=image/jpeg:https://thehappydogband.com/wp-content/uploads/2019/06/the-happy-dog-logo-thumbnai.jpg
END:VEVENT
BEGIN:VEVENT
DTSTART;TZID=America/New_York:20190815T143000
DTEND;TZID=America/New_York:20190815T173000
DTSTAMP:20260422T052832
CREATED:20190731T165638Z
LAST-MODIFIED:20190731T165638Z
UID:2233-1565879400-1565890200@thehappydogband.com
SUMMARY:The Happy Dog â€“ LIVE at Blue Heaven
DESCRIPTION:
URL:https://thehappydogband.com/concert/the-happy-dog-live-at-blue-heaven-55/
LOCATION:Blue Heaven\, 729 Thomas Street\, Key West\, FL\, 33040\, United States
ATTACH;FMTTYPE=image/jpeg:https://thehappydogband.com/wp-content/uploads/2015/09/happy-dog-slide-6.jpg
END:VEVENT
BEGIN:VEVENT
DTSTART;TZID=America/New_York:20190814T160000
DTEND;TZID=America/New_York:20190814T190000
DTSTAMP:20260422T052832
CREATED:20190731T165830Z
LAST-MODIFIED:20190731T165830Z
UID:2237-1565798400-1565809200@thehappydogband.com
SUMMARY:The Happy Dog â€“ LIVE at Salty Angler
DESCRIPTION:
URL:https://thehappydogband.com/concert/the-happy-dog-live-at-salty-angler-89/
LOCATION:Salty Angler\, 1114 Duval Street\, Key West\, FL\, 33040\, United States
ATTACH;FMTTYPE=image/jpeg:https://thehappydogband.com/wp-content/uploads/2017/06/salty-angler-event-photo.jpg
END:VEVENT
BEGIN:VEVENT
DTSTART;TZID=America/New_York:20190814T063000
DTEND;TZID=America/New_York:20190814T090000
DTSTAMP:20260422T052832
CREATED:20190731T165558Z
LAST-MODIFIED:20190731T165558Z
UID:2231-1565764200-1565773200@thehappydogband.com
SUMMARY:The Happy Dog â€“ LIVE at Blue Heaven
DESCRIPTION:
URL:https://thehappydogband.com/concert/the-happy-dog-live-at-blue-heaven-54/
LOCATION:Blue Heaven\, 729 Thomas Street\, Key West\, FL\, 33040\, United States
ATTACH;FMTTYPE=image/jpeg:https://thehappydogband.com/wp-content/uploads/2015/09/happy-dog-slide-6.jpg
END:VEVENT
BEGIN:VEVENT
DTSTART;TZID=America/New_York:20190812T150000
DTEND;TZID=America/New_York:20190812T180000
DTSTAMP:20260422T052832
CREATED:20190731T165142Z
LAST-MODIFIED:20190731T165142Z
UID:2225-1565622000-1565632800@thehappydogband.com
SUMMARY:The Happy Dog â€“ LIVE at The Dirty Pig
DESCRIPTION:
URL:https://thehappydogband.com/concert/the-happy-dog-live-at-the-dirty-pig-9/
LOCATION:The Dirty Pig\, 320 Grinnell Street\, Key West\, 33040\, United States
ATTACH;FMTTYPE=image/jpeg:https://thehappydogband.com/wp-content/uploads/2019/04/dirty-pig.jpg
END:VEVENT
BEGIN:VEVENT
DTSTART;TZID=America/New_York:20190811T150000
DTEND;TZID=America/New_York:20190811T170000
DTSTAMP:20260422T052832
CREATED:20190731T165022Z
LAST-MODIFIED:20190731T165022Z
UID:2223-1565535600-1565542800@thehappydogband.com
SUMMARY:The Happy Dog â€“ LIVE at Sunset Pier
DESCRIPTION:
URL:https://thehappydogband.com/concert/the-happy-dog-live-at-sunset-pier-127/
LOCATION:Sunset Pier at Ocean Key House\, 0 Duval Street\, Key West\, FL\, 33040\, United States
ATTACH;FMTTYPE=image/jpeg:https://thehappydogband.com/wp-content/uploads/2017/05/sunset-pier-calendar-photo.jpg
END:VEVENT
BEGIN:VEVENT
DTSTART;TZID=America/New_York:20190810T150000
DTEND;TZID=America/New_York:20190810T200000
DTSTAMP:20260422T052832
CREATED:20190731T164852Z
LAST-MODIFIED:20190731T164852Z
UID:2219-1565449200-1565467200@thehappydogband.com
SUMMARY:The Happy Dog â€“ LIVE at Schooner Wharf
DESCRIPTION:
URL:https://thehappydogband.com/concert/the-happy-dog-live-at-schooner-wharf-28/
LOCATION:Schooner Wharf\, 202 William Street\, Key West\, 33040\, United States
ATTACH;FMTTYPE=image/jpeg:https://thehappydogband.com/wp-content/uploads/2018/05/schooner-wharf-event-photo.jpg
END:VEVENT
BEGIN:VEVENT
DTSTART;TZID=America/New_York:20190809T150000
DTEND;TZID=America/New_York:20190809T200000
DTSTAMP:20260422T052832
CREATED:20190731T164934Z
LAST-MODIFIED:20190731T164934Z
UID:2221-1565362800-1565380800@thehappydogband.com
SUMMARY:The Happy Dog â€“ LIVE at Schooner Wharf
DESCRIPTION:
URL:https://thehappydogband.com/concert/the-happy-dog-live-at-schooner-wharf-29/
LOCATION:Schooner Wharf\, 202 William Street\, Key West\, 33040\, United States
ATTACH;FMTTYPE=image/jpeg:https://thehappydogband.com/wp-content/uploads/2018/05/schooner-wharf-event-photo.jpg
END:VEVENT
BEGIN:VEVENT
DTSTART;TZID=America/New_York:20190808T170000
DTEND;TZID=America/New_York:20190808T203000
DTSTAMP:20260422T052832
CREATED:20190730T174855Z
LAST-MODIFIED:20190730T174855Z
UID:2208-1565283600-1565296200@thehappydogband.com
SUMMARY:The Happy Dog â€“ LIVE at Green Parrot
DESCRIPTION:
URL:https://thehappydogband.com/concert/the-happy-dog-live-at-green-parrot-76/
LOCATION:Green Parrot\, 601 Whitehead Street\, Key West\, FL\, 33040\, United States
ATTACH;FMTTYPE=image/jpeg:https://thehappydogband.com/wp-content/uploads/2019/04/green-parrot-late.jpg
END:VEVENT
BEGIN:VEVENT
DTSTART;TZID=America/New_York:20190808T133000
DTEND;TZID=America/New_York:20190808T150000
DTSTAMP:20260422T052832
CREATED:20190730T174751Z
LAST-MODIFIED:20190730T174751Z
UID:2206-1565271000-1565276400@thehappydogband.com
SUMMARY:The Happy Dog â€“ LIVE at Green Parrot â€œSoundcheckâ€
DESCRIPTION:
URL:https://thehappydogband.com/concert/the-happy-dog-live-at-green-parrot-soundcheck-99/
LOCATION:Green Parrot\, 601 Whitehead Street\, Key West\, FL\, 33040\, United States
ATTACH;FMTTYPE=image/jpeg:https://thehappydogband.com/wp-content/uploads/2018/05/green-parrot-soundcheck.jpg
END:VEVENT
BEGIN:VEVENT
DTSTART;TZID=America/New_York:20190801T133000
DTEND;TZID=America/New_York:20190801T193000
DTSTAMP:20260422T052832
CREATED:20190730T174709Z
LAST-MODIFIED:20190730T175258Z
UID:2204-1564666200-1564687800@thehappydogband.com
SUMMARY:The Happy Dog â€“ LIVE at Green Parrot "Reef Relief"
DESCRIPTION:A benefit for Reef Relief….and it’s Jerry Garcia’s birthday! \n-special set times for this show: 5:30 to 7\, 8 – 9:30\, 10 to 11:30
URL:https://thehappydogband.com/concert/the-happy-dog-live-at-green-parrot-reef-relief/
LOCATION:Green Parrot\, 601 Whitehead Street\, Key West\, FL\, 33040\, United States
ATTACH;FMTTYPE=image/jpeg:https://thehappydogband.com/wp-content/uploads/2016/08/green-parrot.jpg
END:VEVENT
BEGIN:VEVENT
DTSTART;TZID=America/New_York:20190730T150000
DTEND;TZID=America/New_York:20190730T170000
DTSTAMP:20260422T052832
CREATED:20190708T012253Z
LAST-MODIFIED:20190708T012253Z
UID:2201-1564498800-1564506000@thehappydogband.com
SUMMARY:The Happy Dog â€“ LIVE at Sunset Pier
DESCRIPTION:
URL:https://thehappydogband.com/concert/the-happy-dog-live-at-sunset-pier-126/
LOCATION:Sunset Pier at Ocean Key House\, 0 Duval Street\, Key West\, FL\, 33040\, United States
ATTACH;FMTTYPE=image/jpeg:https://thehappydogband.com/wp-content/uploads/2017/05/sunset-pier-calendar-photo.jpg
END:VEVENT
BEGIN:VEVENT
DTSTART;TZID=America/New_York:20190729T150000
DTEND;TZID=America/New_York:20190729T180000
DTSTAMP:20260422T052832
CREATED:20190619T171350Z
LAST-MODIFIED:20190619T171350Z
UID:2152-1564412400-1564423200@thehappydogband.com
SUMMARY:The Happy Dog – LIVE at The Dirty Pig
DESCRIPTION:
URL:https://thehappydogband.com/concert/the-happy-dog-live-at-the-dirty-pig-12/
LOCATION:The Dirty Pig\, 320 Grinnell Street\, Key West\, 33040\, United States
ATTACH;FMTTYPE=image/jpeg:https://thehappydogband.com/wp-content/uploads/2019/04/dirty-pig.jpg
END:VEVENT
BEGIN:VEVENT
DTSTART;TZID=America/New_York:20190728T160000
DTEND;TZID=America/New_York:20190728T190000
DTSTAMP:20260422T052832
CREATED:20190619T175307Z
LAST-MODIFIED:20190619T175307Z
UID:2196-1564329600-1564340400@thehappydogband.com
SUMMARY:The Happy Dog â€“ LIVE at Margaritaville
DESCRIPTION:
URL:https://thehappydogband.com/concert/the-happy-dog-live-at-margaritaville-12/
LOCATION:Margaritaville\, 500 Duval St\, Key West\, FL\, 33040\, United States
ATTACH;FMTTYPE=image/jpeg:https://thehappydogband.com/wp-content/uploads/2019/06/margaritaville-event-photo.jpg
END:VEVENT
BEGIN:VEVENT
DTSTART;TZID=America/New_York:20190727T160000
DTEND;TZID=America/New_York:20190727T190000
DTSTAMP:20260422T052832
CREATED:20190619T175240Z
LAST-MODIFIED:20190619T175240Z
UID:2194-1564243200-1564254000@thehappydogband.com
SUMMARY:The Happy Dog â€“ LIVE at Margaritaville
DESCRIPTION:
URL:https://thehappydogband.com/concert/the-happy-dog-live-at-margaritaville-11/
LOCATION:Margaritaville\, 500 Duval St\, Key West\, FL\, 33040\, United States
ATTACH;FMTTYPE=image/jpeg:https://thehappydogband.com/wp-content/uploads/2019/06/margaritaville-event-photo.jpg
END:VEVENT
BEGIN:VEVENT
DTSTART;TZID=America/New_York:20190726T160000
DTEND;TZID=America/New_York:20190726T190000
DTSTAMP:20260422T052832
CREATED:20190619T175151Z
LAST-MODIFIED:20190619T175151Z
UID:2192-1564156800-1564167600@thehappydogband.com
SUMMARY:The Happy Dog â€“ LIVE at Margaritaville
DESCRIPTION:
URL:https://thehappydogband.com/concert/the-happy-dog-live-at-margaritaville-10/
LOCATION:Margaritaville\, 500 Duval St\, Key West\, FL\, 33040\, United States
ATTACH;FMTTYPE=image/jpeg:https://thehappydogband.com/wp-content/uploads/2019/06/margaritaville-event-photo.jpg
END:VEVENT
BEGIN:VEVENT
DTSTART;TZID=America/New_York:20190725T160000
DTEND;TZID=America/New_York:20190725T190000
DTSTAMP:20260422T052832
CREATED:20190619T175121Z
LAST-MODIFIED:20190619T175121Z
UID:2190-1564070400-1564081200@thehappydogband.com
SUMMARY:The Happy Dog – LIVE at Margaritaville
DESCRIPTION:
URL:https://thehappydogband.com/concert/the-happy-dog-live-at-margaritaville-9/
LOCATION:Margaritaville\, 500 Duval St\, Key West\, FL\, 33040\, United States
ATTACH;FMTTYPE=image/jpeg:https://thehappydogband.com/wp-content/uploads/2019/06/margaritaville-event-photo.jpg
END:VEVENT
BEGIN:VEVENT
DTSTART;TZID=America/New_York:20190724T160000
DTEND;TZID=America/New_York:20190724T190000
DTSTAMP:20260422T052832
CREATED:20190619T175056Z
LAST-MODIFIED:20190619T175056Z
UID:2188-1563984000-1563994800@thehappydogband.com
SUMMARY:The Happy Dog – LIVE at Margaritaville
DESCRIPTION:
URL:https://thehappydogband.com/concert/the-happy-dog-live-at-margaritaville-8/
LOCATION:Margaritaville\, 500 Duval St\, Key West\, FL\, 33040\, United States
ATTACH;FMTTYPE=image/jpeg:https://thehappydogband.com/wp-content/uploads/2019/06/margaritaville-event-photo.jpg
END:VEVENT
BEGIN:VEVENT
DTSTART;TZID=America/New_York:20190723T160000
DTEND;TZID=America/New_York:20190723T190000
DTSTAMP:20260422T052832
CREATED:20190619T175010Z
LAST-MODIFIED:20190619T175010Z
UID:2185-1563897600-1563908400@thehappydogband.com
SUMMARY:The Happy Dog – LIVE at Margaritaville
DESCRIPTION:
URL:https://thehappydogband.com/concert/the-happy-dog-live-at-margaritaville-7/
LOCATION:Margaritaville\, 500 Duval St\, Key West\, FL\, 33040\, United States
ATTACH;FMTTYPE=image/jpeg:https://thehappydogband.com/wp-content/uploads/2019/06/margaritaville-event-photo.jpg
END:VEVENT
BEGIN:VEVENT
DTSTART;TZID=America/New_York:20190722T150000
DTEND;TZID=America/New_York:20190722T180000
DTSTAMP:20260422T052832
CREATED:20190619T171322Z
LAST-MODIFIED:20190619T171322Z
UID:2150-1563807600-1563818400@thehappydogband.com
SUMMARY:The Happy Dog – LIVE at The Dirty Pig
DESCRIPTION:
URL:https://thehappydogband.com/concert/the-happy-dog-live-at-the-dirty-pig-11/
LOCATION:The Dirty Pig\, 320 Grinnell Street\, Key West\, 33040\, United States
ATTACH;FMTTYPE=image/jpeg:https://thehappydogband.com/wp-content/uploads/2019/04/dirty-pig.jpg
END:VEVENT
BEGIN:VEVENT
DTSTART;TZID=America/New_York:20190721T143000
DTEND;TZID=America/New_York:20190721T173000
DTSTAMP:20260422T052832
CREATED:20190619T174218Z
LAST-MODIFIED:20190619T174218Z
UID:2179-1563719400-1563730200@thehappydogband.com
SUMMARY:The Happy Dog – LIVE at Blue Heaven
DESCRIPTION:
URL:https://thehappydogband.com/concert/the-happy-dog-live-at-blue-heaven-53/
LOCATION:Blue Heaven\, 729 Thomas Street\, Key West\, FL\, 33040\, United States
ATTACH;FMTTYPE=image/jpeg:https://thehappydogband.com/wp-content/uploads/2015/09/happy-dog-slide-6.jpg
END:VEVENT
BEGIN:VEVENT
DTSTART;TZID=America/New_York:20190720T153000
DTEND;TZID=America/New_York:20190720T190000
DTSTAMP:20260422T052832
CREATED:20190619T174403Z
LAST-MODIFIED:20190619T174403Z
UID:2183-1563636600-1563649200@thehappydogband.com
SUMMARY:The Happy Dog – LIVE at Sugarloaf Lodge
DESCRIPTION:Acoustic show with Gary  Hempsey!
URL:https://thehappydogband.com/concert/the-happy-dog-live-at-sugarloaf-lodge-10/
LOCATION:Sugarloaf Lodge\, 17001 Overseas Hwy\, Sugarloaf\, FL\, 33042\, United States
ATTACH;FMTTYPE=image/jpeg:https://thehappydogband.com/wp-content/uploads/2019/06/press-logo-thumbnail.jpg
END:VEVENT
END:VCALENDAR